PDS_VERSION_ID = PDS3
/* FILE DATA ELEMENTS */
RECORD_TYPE = STREAM
/* POINTERS TO DATA OBJECTS */
^COMPRESSED_FILE = "H1626_0000_P13.JP2"
/* IDENTIFICATION DATA ELEMENTS */
DATA_SET_ID = "MEX-M-HRSC-5-REFDR-MAPPROJECTED-V3.0"
DATA_SET_NAME = "MARS EXPRESS HRSC MAP PROJECTED REFDR V3.0"
DETECTOR_ID = MEX_HRSC_P1
EVENT_TYPE = "MARS-REGIONAL-MAPPING-Te-Im-Mw"
INSTRUMENT_HOST_ID = MEX
INSTRUMENT_HOST_NAME = "MARS EXPRESS"
INSTRUMENT_ID = HRSC
INSTRUMENT_NAME = "HIGH RESOLUTION STEREO CAMERA"
MISSION_NAME = "MARS EXPRESS"
MISSION_PHASE_NAME = MR_Phase_6
PROCESSING_LEVEL_ID = 3
PRODUCT_CREATION_TIME = 2016-03-09T06:48:11.000Z
PRODUCT_ID = "H1626_0000_P13.JP2"
RELEASE_ID = 0021
REVISION_ID = 0000
/* QUALITY DATA ELEMENTS */
DATA_QUALITY_ID = 1
DATA_QUALITY_DESC = "Data calculated based on original SPICE kernels"
/* TIME DATA ELEMENTS */
SPACECRAFT_CLOCK_START_COUNT = "1/0062300439.56199"
SPACECRAFT_CLOCK_STOP_COUNT = "1/0062301974.65075"
START_TIME = 2005-04-23T01:42:36.280Z
STOP_TIME = 2005-04-23T02:01:28.846Z
/* ORBITAL DATA ELEMENTS */
ASCENDING_NODE_LONGITUDE = 194.38
MAXIMUM_RESOLUTION = 53.5
FOOTPRINT_POINT_LATITUDE = (67.2411,67.4017,67.4768,66.6365, 65.3328,63.9916,63.3001,62.6044,61.8983 ,61.1819,60.4538,59.7148,58.9648, 58.2023,57.4275,56.6405,55.8409,55.0281 ,54.2024,53.3627,52.5084,51.6409, 50.7583,49.8603,48.9469,48.0181,47.0736 ,45.6254,44.6521,43.6984,42.7622,41.845 ,40.8468,39.9657,39.102,38.2547,37.4262 ,36.609,35.8108,35.0267,34.2594,33.5068 ,32.7669,32.042,31.333,30.6319,29.273, 27.9659,27.6689,27.7325,27.8286,27.882, 27.9626,28.0335,28.0829,28.1629,28.5037 ,29.7424,31.0331,32.7221,33.4201, 34.1334,34.8701,35.6189,36.3832,37.1587 ,37.9511,38.7651,39.5935,40.872,41.8193 ,42.7128,43.6254,44.5573,45.509,46.462, 47.4021,48.3243,49.2339,50.1266,51.0045 ,51.8686,52.7201,53.9896,54.8065, 55.6104,56.4018,57.1805,57.9478,58.7027 ,59.4464,60.1785,60.8994,61.6096,62.309 ,62.9982,63.6835,65.012,66.3029, 67.2411)
FOOTPRINT_POINT_LONGITUDE = (357.764,360.806,362.755,363.79,364.122 ,364.427,364.572,364.709,364.842, 364.969,365.091,365.209,365.323,365.433 ,365.538,365.64,365.739,365.834,365.927 ,366.016,366.102,366.187,366.268, 366.348,366.424,366.5,366.573,366.68, 366.748,366.813,366.874,366.933,366.993 ,367.045,367.096,367.145,367.194, 367.238,367.283,367.326,367.369,367.412 ,367.453,367.493,367.535,367.572, 367.649,367.725,366.788,365.915,364.611 ,363.829,362.612,361.566,360.78,359.465 ,358.77,358.929,359.083,359.268,359.34, 359.41,359.473,359.535,359.595,359.655, 359.712,359.762,359.81,359.874,359.93, 359.962,359.989,360.01,360.024,360.03, 360.027,360.018,360.0,359.977,359.947, 359.91,359.864,359.764,359.7,359.629, 359.551,359.465,359.372,359.27,359.161, 359.043,358.917,358.781,358.638,358.484 ,358.319,357.962,357.56,357.764)
ORBIT_NUMBER = 1626
ORBITAL_ECCENTRICITY = 0.566
ORBITAL_INCLINATION = 86.6
ORBITAL_SEMIMAJOR_AXIS = 8537.38
PERIAPSIS_ALTITUDE = 326.04
PERIAPSIS_ARGUMENT_ANGLE = 73.87
PERIAPSIS_TIME = 2005-04-23T01:31:33.000Z
SPACECRAFT_ORIENTATION = (0.0,1.0,0.0)
^MEX_ORIENTATION_DESC = "MEX_ORIENTATION_DESC.TXT"
SPACECRAFT_POINTING_MODE = NADIR
^MEX_POINTING_DESC = "MEX_POINTING_DESC.TXT"
RIGHT_ASCENSION = -1e+32
DECLINATION = -1e+32
OFFSET_ANGLE = -1e+32
SPACECRAFT_SOLAR_DISTANCE = 2.13933e+08
TARGET_NAME = MARS
/* CAMERA DATA ELEMENTS */
DETECTOR_TEMPERATURE = 17.5549
FOCAL_PLANE_TEMPERATURE = 8.3794
INST_CMPRS_NAME = "DISCRETE COSINE TRANSFORMATION (DCT)"
INST_CMPRS_RATIO = 10.9799
INST_CMPRS_QUALITY = 0
INST_CMPRS_QUANTZ_TBL_ID = 0
INSTRUMENT_TEMPERATURE = 11.234
LENS_TEMPERATURE = 8.7872
MACROPIXEL_SIZE = 2
MISSING_FRAMES = 67
PIXEL_SUBSAMPLING_FLAG = N
SIGNAL_CHAIN_ID = 3
/* RADIOMETRIC DATA ELEMENTS */
BANDWIDTH = 174.0
CENTER_FILTER_WAVELENGTH = 675.0
RADIANCE_OFFSET = 1.20535
RADIANCE_SCALING_FACTOR = 0.0303569
REFLECTANCE_SCALING_FACTOR = 0.000747298
MEX:REFLECTANCE_OFFSET = 0.0296721
/* IMAGE OBJECT DEFINITIONS */
OBJECT = IMAGE
  INTERCHANGE_FORMAT = BINARY
  LINES = 47229
  LINE_SAMPLES = 7603
  SAMPLE_TYPE = UNSIGNED_INTEGER
  SAMPLE_BITS = 8
  BANDS = 1
  BAND_STORAGE_TYPE = BAND_SEQUENTIAL
  MAXIMUM = 339
  MEAN = 168.85
  MINIMUM = 43
  STANDARD_DEVIATION = 62.5544
END_OBJECT = IMAGE
/* MAP OBJECT DEFINITIONS */
OBJECT = IMAGE_MAP_PROJECTION
  ^DATA_SET_MAP_PROJECTION_CATALOG= "DSMAP.CAT"
  A_AXIS_RADIUS = 3396.0
  B_AXIS_RADIUS = 3396.0
  C_AXIS_RADIUS = 3396.0
  CENTER_LATITUDE = 0.0
  CENTER_LONGITUDE = 3.0
  COORDINATE_SYSTEM_NAME = PLANETOGRAPHIC
  COORDINATE_SYSTEM_TYPE = "BODY-FIXED ROTATING"
  EASTERNMOST_LONGITUDE = 7.725
  FIRST_STANDARD_PARALLEL = "N/A"
  LINE_FIRST_PIXEL = 1
  LINE_LAST_PIXEL = 47229
  LINE_PROJECTION_OFFSET = 80103.25
  MAP_PROJECTION_ROTATION = 0.0
  MAP_PROJECTION_TYPE = SINUSOIDAL
  MAP_RESOLUTION = 1185.42760773333
  MAP_SCALE = 0.05
  MAXIMUM_LATITUDE = 67.4768
  MINIMUM_LATITUDE = 27.6689
  POSITIVE_LONGITUDE_DIRECTION = EAST
  REFERENCE_LATITUDE = "N/A"
  REFERENCE_LONGITUDE = "N/A"
  SAMPLE_FIRST_PIXEL = 1
  SAMPLE_LAST_PIXEL = 7603
  SAMPLE_PROJECTION_OFFSET = 3712.75
  SECOND_STANDARD_PARALLEL = "N/A"
  WESTERNMOST_LONGITUDE = -2.44
END_OBJECT = IMAGE_MAP_PROJECTION
/* The JPEG2000 image data file associated with this label. */
OBJECT = COMPRESSED_FILE
  FILE_NAME = "H1626_0000_P13.JP2"
  RECORD_TYPE = UNDEFINED
  FILE_RECORDS = UNK
  ENCODING_TYPE = "JP2"
  INTERCHANGE_FORMAT = BINARY
  UNCOMPRESSED_FILE_NAME = "H1626_0000_P13.IMG"
  REQUIRED_STORAGE_BYTES = "359112499"
  ^DESCRIPTION = "JP2INFO.TXT"
END_OBJECT = COMPRESSED_FILE
END
