PDS_VERSION_ID = PDS3
/* FILE DATA ELEMENTS */
RECORD_TYPE = STREAM
/* POINTERS TO DATA OBJECTS */
^COMPRESSED_FILE = "H1626_0001_SR3.JP2"
/* IDENTIFICATION DATA ELEMENTS */
DATA_SET_ID = "MEX-M-HRSC-5-REFDR-MAPPROJECTED-V3.0"
DATA_SET_NAME = "MARS EXPRESS HRSC MAP PROJECTED REFDR V3.0"
DETECTOR_ID = MEX_HRSC_SRC
EVENT_TYPE = "MARS-REGIONAL-MAPPING-Te-Im-Mw"
INSTRUMENT_HOST_ID = MEX
INSTRUMENT_HOST_NAME = "MARS EXPRESS"
INSTRUMENT_ID = HRSC
INSTRUMENT_NAME = "HIGH RESOLUTION STEREO CAMERA"
MISSION_NAME = "MARS EXPRESS"
MISSION_PHASE_NAME = MR_Phase_6
PROCESSING_LEVEL_ID = 3
PRODUCT_CREATION_TIME = 2016-03-09T06:48:11.000Z
PRODUCT_ID = "H1626_0001_SR3.JP2"
RELEASE_ID = 0021
REVISION_ID = 0000
/* QUALITY DATA ELEMENTS */
DATA_QUALITY_ID = 1
DATA_QUALITY_DESC = "Data calculated based on original SPICE kernels"
/* TIME DATA ELEMENTS */
SPACECRAFT_CLOCK_START_COUNT = "1/0062300439.56199"
SPACECRAFT_CLOCK_STOP_COUNT = "1/0062301974.65075"
IMAGE_TIME = 2005-04-23T01:42:28.910Z
START_TIME = 2005-04-23T01:42:28.652Z
STOP_TIME = 2005-04-23T01:42:29.168Z
/* ORBITAL DATA ELEMENTS */
ASCENDING_NODE_LONGITUDE = 194.38
MAXIMUM_RESOLUTION = 6.245
FOOTPRINT_POINT_LATITUDE = (65.3332,65.3274,65.3214,65.3169, 65.3138,65.3099,65.3056,65.3022,65.2966 ,65.2912,65.2872,65.2842,65.28,65.275, 65.2711,65.2662,65.2617,65.2565,65.2523 ,65.2487,65.2444,65.2401,65.2351, 65.2308,65.2279,65.2275,65.2269,65.2264 ,65.2259,65.2256,65.2251,65.2247, 65.2243,65.2238,65.2232,65.2227,65.2223 ,65.2217,65.2212,65.2207,65.2202, 65.2198,65.2193,65.2188,65.2183,65.2178 ,65.2174,65.2169,65.2164,65.2173, 65.2214,65.2248,65.2302,65.234,65.2386, 65.2437,65.247,65.252,65.2555,65.2614, 65.2655,65.27,65.2727,65.2767,65.2823, 65.2872,65.2902,65.2962,65.2998,65.3027 ,65.308,65.3122,65.3153,65.3192,65.3222 ,65.3226,65.3231,65.3236,65.324,65.3245 ,65.325,65.3255,65.326,65.3266,65.327, 65.3275,65.3279,65.3285,65.329,65.3294, 65.3299,65.3303,65.3309,65.3313,65.3319 ,65.3323,65.3327,65.3332,65.3337, 65.3332)
FOOTPRINT_POINT_LONGITUDE = (1.08579,1.08733,1.08893,1.09011, 1.09095,1.09199,1.09314,1.09404,1.09553 ,1.09696,1.09802,1.09883,1.09995, 1.10127,1.1023,1.10362,1.10482,1.10619, 1.10731,1.10826,1.1094,1.11055,1.11186, 1.113,1.11096,1.10091,1.08834,1.07829, 1.06823,1.06069,1.05064,1.0431,1.03305, 1.02299,1.01043,1.00038,0.990327, 0.977764,0.967713,0.957663,0.947614, 0.937564,0.927515,0.917467,0.907419, 0.897371,0.887323,0.877276,0.867229, 0.857812,0.856685,0.85576,0.854286, 0.853245,0.851972,0.850554,0.849657, 0.848296,0.847311,0.845689,0.844558, 0.84334,0.842586,0.841484,0.839946, 0.838581,0.837768,0.836112,0.835124, 0.83431,0.832856,0.831693,0.83082, 0.829743,0.834281,0.841846,0.851932, 0.862019,0.872106,0.882194,0.892281, 0.90237,0.912458,0.92507,0.935159, 0.945249,0.952816,0.965429,0.97552, 0.985611,0.995703,1.00327,1.01589, 1.02598,1.0386,1.04617,1.05626,1.06635, 1.07645,1.08579)
ORBIT_NUMBER = 1626
ORBITAL_ECCENTRICITY = 0.566
ORBITAL_INCLINATION = 86.6
ORBITAL_SEMIMAJOR_AXIS = 8537.38
PERIAPSIS_ALTITUDE = 326.04
PERIAPSIS_ARGUMENT_ANGLE = 73.87
PERIAPSIS_TIME = 2005-04-23T01:31:33.000Z
SPACECRAFT_ORIENTATION = (0.0,1.0,0.0)
^MEX_ORIENTATION_DESC = "MEX_ORIENTATION_DESC.TXT"
SPACECRAFT_POINTING_MODE = NADIR
^MEX_POINTING_DESC = "MEX_POINTING_DESC.TXT"
RIGHT_ASCENSION = -1e+32
DECLINATION = -1e+32
OFFSET_ANGLE = -1e+32
SPACECRAFT_SOLAR_DISTANCE = 2.13933e+08
TARGET_NAME = MARS
/* CAMERA DATA ELEMENTS */
BUFFER_MODE_ID = BUFFER_8
EXPOSURE_DURATION = 516.096
INST_CMPRS_NAME = NONE
INST_CMPRS_RATIO = 1.0
INST_CMPRS_QUALITY = -2147483648
INST_CMPRS_QUANTZ_TBL_ID = -2147483648
INSTRUMENT_TEMPERATURE = 8.18182
MISSING_FRAMES = 0
START_BIT = 0
/* RADIOMETRIC DATA ELEMENTS */
BANDWIDTH = 250.0
CENTER_FILTER_WAVELENGTH = 600.0
RADIANCE_OFFSET = -9.99e+31
RADIANCE_SCALING_FACTOR = -9.99e+31
REFLECTANCE_SCALING_FACTOR = -9.99e+31
MEX:REFLECTANCE_OFFSET = -9.99e+31
/* IMAGE OBJECT DEFINITIONS */
OBJECT = IMAGE
  INTERCHANGE_FORMAT = BINARY
  LINES = 1475
  LINE_SAMPLES = 1486
  SAMPLE_TYPE = UNSIGNED_INTEGER
  SAMPLE_BITS = 8
  BANDS = 1
  BAND_STORAGE_TYPE = BAND_SEQUENTIAL
  MAXIMUM = 13974
  MEAN = 8582.08
  MINIMUM = 0
  STANDARD_DEVIATION = 6155.09
END_OBJECT = IMAGE
/* MAP OBJECT DEFINITIONS */
OBJECT = IMAGE_MAP_PROJECTION
  ^DATA_SET_MAP_PROJECTION_CATALOG= "DSMAP.CAT"
  A_AXIS_RADIUS = 3396.19
  B_AXIS_RADIUS = 3396.19
  C_AXIS_RADIUS = 3396.19
  CENTER_LATITUDE = 0.0
  CENTER_LONGITUDE = 1.0
  COORDINATE_SYSTEM_NAME = PLANETOGRAPHIC
  COORDINATE_SYSTEM_TYPE = "BODY-FIXED ROTATING"
  EASTERNMOST_LONGITUDE = 1.113
  FIRST_STANDARD_PARALLEL = "N/A"
  LINE_FIRST_PIXEL = 1
  LINE_LAST_PIXEL = 1475
  LINE_PROJECTION_OFFSET = 773033.0
  MAP_PROJECTION_ROTATION = 0.0
  MAP_PROJECTION_TYPE = SINUSOIDAL
  MAP_RESOLUTION = 11854.9393024378
  MAP_SCALE = 0.005
  MAXIMUM_LATITUDE = 65.33369999999999
  MINIMUM_LATITUDE = 65.21639999999999
  POSITIVE_LONGITUDE_DIRECTION = EAST
  REFERENCE_LATITUDE = "N/A"
  REFERENCE_LONGITUDE = "N/A"
  SAMPLE_FIRST_PIXEL = 1
  SAMPLE_LAST_PIXEL = 1486
  SAMPLE_PROJECTION_OFFSET = 883.0
  SECOND_STANDARD_PARALLEL = "N/A"
  WESTERNMOST_LONGITUDE = 0.829743
END_OBJECT = IMAGE_MAP_PROJECTION
/* The JPEG2000 image data file associated with this label. */
OBJECT = COMPRESSED_FILE
  FILE_NAME = "H1626_0001_SR3.JP2"
  RECORD_TYPE = UNDEFINED
  FILE_RECORDS = UNK
  ENCODING_TYPE = "JP2"
  INTERCHANGE_FORMAT = BINARY
  UNCOMPRESSED_FILE_NAME = "H1626_0001_SR3.IMG"
  REQUIRED_STORAGE_BYTES = "2211168"
  ^DESCRIPTION = "JP2INFO.TXT"
END_OBJECT = COMPRESSED_FILE
END
