PDS_VERSION_ID = PDS3
/* FILE DATA ELEMENTS */
RECORD_TYPE = STREAM
/* POINTERS TO DATA OBJECTS */
^COMPRESSED_FILE = "H1626_0005_SR3.JP2"
/* IDENTIFICATION DATA ELEMENTS */
DATA_SET_ID = "MEX-M-HRSC-5-REFDR-MAPPROJECTED-V3.0"
DATA_SET_NAME = "MARS EXPRESS HRSC MAP PROJECTED REFDR V3.0"
DETECTOR_ID = MEX_HRSC_SRC
EVENT_TYPE = "MARS-REGIONAL-MAPPING-Te-Im-Mw"
INSTRUMENT_HOST_ID = MEX
INSTRUMENT_HOST_NAME = "MARS EXPRESS"
INSTRUMENT_ID = HRSC
INSTRUMENT_NAME = "HIGH RESOLUTION STEREO CAMERA"
MISSION_NAME = "MARS EXPRESS"
MISSION_PHASE_NAME = MR_Phase_6
PROCESSING_LEVEL_ID = 3
PRODUCT_CREATION_TIME = 2016-03-09T06:48:11.000Z
PRODUCT_ID = "H1626_0005_SR3.JP2"
RELEASE_ID = 0021
REVISION_ID = 0000
/* QUALITY DATA ELEMENTS */
DATA_QUALITY_ID = 1
DATA_QUALITY_DESC = "Data calculated based on original SPICE kernels"
/* TIME DATA ELEMENTS */
SPACECRAFT_CLOCK_START_COUNT = "1/0062300439.56199"
SPACECRAFT_CLOCK_STOP_COUNT = "1/0062301974.65075"
IMAGE_TIME = 2005-04-23T01:42:35.450Z
START_TIME = 2005-04-23T01:42:35.447Z
STOP_TIME = 2005-04-23T01:42:35.454Z
/* ORBITAL DATA ELEMENTS */
ASCENDING_NODE_LONGITUDE = 194.38
MAXIMUM_RESOLUTION = 6.305
FOOTPRINT_POINT_LATITUDE = (64.9791,64.9751,64.9694,64.9637, 64.9605,64.956,64.9521,64.9463,64.9433, 64.9377,64.9344,64.929,64.9255,64.9207, 64.9163,64.9129,64.9079,64.9045,64.9016 ,64.8979,64.8921,64.8888,64.8838,64.88, 64.877,64.8736,64.8724,64.8719,64.8713, 64.8709,64.8704,64.87,64.8696,64.8691, 64.8686,64.8682,64.8677,64.8672,64.8668 ,64.8663,64.8658,64.8654,64.8649, 64.8644,64.8637,64.8632,64.8627,64.8623 ,64.8618,64.8613,64.8624,64.868,64.871, 64.8744,64.879,64.8823,64.8874,64.8912, 64.8941,64.8984,64.9056,64.909,64.9148, 64.9192,64.9229,64.9293,64.9337,64.9373 ,64.942,64.9465,64.9501,64.9569,64.9614 ,64.9665,64.9683,64.9688,64.9693, 64.9698,64.9702,64.9707,64.9712,64.9717 ,64.9721,64.9727,64.9732,64.9737, 64.9742,64.9746,64.9751,64.9756,64.976, 64.9764,64.9769,64.9773,64.9778,64.9782 ,64.9787,64.9792,64.9796,64.9791)
FOOTPRINT_POINT_LONGITUDE = (1.17898,1.18002,1.18147,1.18295, 1.18377,1.18492,1.18593,1.18741,1.1882, 1.18962,1.19047,1.19186,1.19276,1.19399 ,1.1951,1.19598,1.19726,1.19813,1.19889 ,1.19982,1.20132,1.20216,1.20344, 1.20442,1.20518,1.20605,1.19597,1.18595 ,1.17343,1.16341,1.15339,1.14588, 1.13586,1.12584,1.11582,1.10581,1.09579 ,1.08578,1.07576,1.06575,1.05573, 1.04572,1.0357,1.02569,1.01067,1.00065, 0.990641,0.980629,0.970617,0.960605, 0.9512,0.949707,0.948918,0.948016, 0.946803,0.945929,0.944575,0.943558, 0.942796,0.941638,0.939717,0.938813, 0.937286,0.936127,0.935136,0.933438, 0.932249,0.931286,0.930039,0.928849, 0.927885,0.92607,0.924878,0.923516, 0.930908,0.940959,0.95101,0.961061, 0.971113,0.981165,0.991218,1.00127, 1.01132,1.02389,1.03395,1.044,1.05405, 1.06411,1.07416,1.08422,1.09428,1.10182 ,1.11187,1.12193,1.13199,1.14205,1.1521 ,1.16216,1.17222,1.17898)
ORBIT_NUMBER = 1626
ORBITAL_ECCENTRICITY = 0.566
ORBITAL_INCLINATION = 86.6
ORBITAL_SEMIMAJOR_AXIS = 8537.38
PERIAPSIS_ALTITUDE = 326.04
PERIAPSIS_ARGUMENT_ANGLE = 73.87
PERIAPSIS_TIME = 2005-04-23T01:31:33.000Z
SPACECRAFT_ORIENTATION = (0.0,1.0,0.0)
^MEX_ORIENTATION_DESC = "MEX_ORIENTATION_DESC.TXT"
SPACECRAFT_POINTING_MODE = NADIR
^MEX_POINTING_DESC = "MEX_POINTING_DESC.TXT"
RIGHT_ASCENSION = -1e+32
DECLINATION = -1e+32
OFFSET_ANGLE = -1e+32
SPACECRAFT_SOLAR_DISTANCE = 2.13933e+08
TARGET_NAME = MARS
/* CAMERA DATA ELEMENTS */
BUFFER_MODE_ID = BUFFER_8
EXPOSURE_DURATION = 7.056
INST_CMPRS_NAME = NONE
INST_CMPRS_RATIO = 1.0
INST_CMPRS_QUALITY = -2147483648
INST_CMPRS_QUANTZ_TBL_ID = -2147483648
INSTRUMENT_TEMPERATURE = 8.18182
MISSING_FRAMES = 0
START_BIT = 0
/* RADIOMETRIC DATA ELEMENTS */
BANDWIDTH = 250.0
CENTER_FILTER_WAVELENGTH = 600.0
RADIANCE_OFFSET = -9.99e+31
RADIANCE_SCALING_FACTOR = -9.99e+31
REFLECTANCE_SCALING_FACTOR = -9.99e+31
MEX:REFLECTANCE_OFFSET = -9.99e+31
/* IMAGE OBJECT DEFINITIONS */
OBJECT = IMAGE
  INTERCHANGE_FORMAT = BINARY
  LINES = 1486
  LINE_SAMPLES = 1498
  SAMPLE_TYPE = UNSIGNED_INTEGER
  SAMPLE_BITS = 8
  BANDS = 1
  BAND_STORAGE_TYPE = BAND_SEQUENTIAL
  MAXIMUM = 3191
  MEAN = 2909.54
  MINIMUM = 2428
  STANDARD_DEVIATION = 64.2272
END_OBJECT = IMAGE
/* MAP OBJECT DEFINITIONS */
OBJECT = IMAGE_MAP_PROJECTION
  ^DATA_SET_MAP_PROJECTION_CATALOG= "DSMAP.CAT"
  A_AXIS_RADIUS = 3396.19
  B_AXIS_RADIUS = 3396.19
  C_AXIS_RADIUS = 3396.19
  CENTER_LATITUDE = 0.0
  CENTER_LONGITUDE = 1.0
  COORDINATE_SYSTEM_NAME = PLANETOGRAPHIC
  COORDINATE_SYSTEM_TYPE = "BODY-FIXED ROTATING"
  EASTERNMOST_LONGITUDE = 1.20605
  FIRST_STANDARD_PARALLEL = "N/A"
  LINE_FIRST_PIXEL = 1
  LINE_LAST_PIXEL = 1486
  LINE_PROJECTION_OFFSET = 768855.0
  MAP_PROJECTION_ROTATION = 0.0
  MAP_PROJECTION_TYPE = SINUSOIDAL
  MAP_RESOLUTION = 11854.9393024378
  MAP_SCALE = 0.005
  MAXIMUM_LATITUDE = 64.9796
  MINIMUM_LATITUDE = 64.8613
  POSITIVE_LONGITUDE_DIRECTION = EAST
  REFERENCE_LATITUDE = "N/A"
  REFERENCE_LONGITUDE = "N/A"
  SAMPLE_FIRST_PIXEL = 1
  SAMPLE_LAST_PIXEL = 1498
  SAMPLE_PROJECTION_OFFSET = 424.0
  SECOND_STANDARD_PARALLEL = "N/A"
  WESTERNMOST_LONGITUDE = 0.923516
END_OBJECT = IMAGE_MAP_PROJECTION
/* The JPEG2000 image data file associated with this label. */
OBJECT = COMPRESSED_FILE
  FILE_NAME = "H1626_0005_SR3.JP2"
  RECORD_TYPE = UNDEFINED
  FILE_RECORDS = UNK
  ENCODING_TYPE = "JP2"
  INTERCHANGE_FORMAT = BINARY
  UNCOMPRESSED_FILE_NAME = "H1626_0005_SR3.IMG"
  REQUIRED_STORAGE_BYTES = "2245502"
  ^DESCRIPTION = "JP2INFO.TXT"
END_OBJECT = COMPRESSED_FILE
END
