PDS_VERSION_ID = PDS3
/* FILE DATA ELEMENTS */
RECORD_TYPE = STREAM
/* POINTERS TO DATA OBJECTS */
^COMPRESSED_FILE = "H1628_0000_GR3.JP2"
/* IDENTIFICATION DATA ELEMENTS */
DATA_SET_ID = "MEX-M-HRSC-5-REFDR-MAPPROJECTED-V3.0"
DATA_SET_NAME = "MARS EXPRESS HRSC MAP PROJECTED REFDR V3.0"
DETECTOR_ID = MEX_HRSC_GREEN
EVENT_TYPE = "MARS-REGIONAL-MAPPING-Vo-Te-Im"
INSTRUMENT_HOST_ID = MEX
INSTRUMENT_HOST_NAME = "MARS EXPRESS"
INSTRUMENT_ID = HRSC
INSTRUMENT_NAME = "HIGH RESOLUTION STEREO CAMERA"
MISSION_NAME = "MARS EXPRESS"
MISSION_PHASE_NAME = MR_Phase_6
PROCESSING_LEVEL_ID = 3
PRODUCT_CREATION_TIME = 2016-03-09T06:48:11.000Z
PRODUCT_ID = "H1628_0000_GR3.JP2"
RELEASE_ID = 0021
REVISION_ID = 0000
/* QUALITY DATA ELEMENTS */
DATA_QUALITY_ID = 1
DATA_QUALITY_DESC = "Data calculated based on original SPICE kernels"
/* TIME DATA ELEMENTS */
SPACECRAFT_CLOCK_START_COUNT = "1/0062348724.57934"
SPACECRAFT_CLOCK_STOP_COUNT = "1/0062350369.48245"
START_TIME = 2005-04-23T15:06:31.045Z
STOP_TIME = 2005-04-23T15:24:20.273Z
/* ORBITAL DATA ELEMENTS */
ASCENDING_NODE_LONGITUDE = 194.34
MAXIMUM_RESOLUTION = 86.6
FOOTPRINT_POINT_LATITUDE = (74.7414,74.4258,73.2228,71.9818, 70.7015,70.0467,69.0326,68.3514,67.6572 ,66.9527,66.2369,65.5083,64.7678,64.015 ,63.2485,62.4685,61.675,60.8677,60.0456 ,59.2084,58.355,57.4862,56.6005,55.6824 ,54.7618,53.823,52.8656,51.8885,50.892, 49.8749,48.8364,47.7752,46.6919,45.5849 ,44.4537,43.2977,42.1162,40.9077, 39.6723,38.4081,36.4589,35.1646,33.898, 32.6585,31.445,30.2574,29.0946,28.3603, 28.4249,28.4605,28.5145,28.5391,28.5597 ,29.6682,30.8013,31.9608,33.1499, 34.3649,35.609,36.8824,38.7781,40.008, 41.2121,42.3911,43.5449,44.675,45.7821, 46.8657,47.9273,48.9674,49.986,50.984, 51.9625,52.9219,53.8629,54.7854,55.6903 ,56.5929,57.4638,58.3181,59.1572,59.981 ,60.7897,61.5838,62.3638,63.1302, 63.8831,64.6235,65.3504,66.0655,66.7682 ,67.4596,68.1386,68.8068,69.4754, 70.1204,71.3799,72.598,73.7755,74.7414)
FOOTPRINT_POINT_LONGITUDE = (156.136,158.527,159.617,160.58,161.436 ,161.828,162.384,162.726,163.052, 163.361,163.654,163.934,164.2,164.454, 164.696,164.927,165.148,165.358,165.56, 165.752,165.937,166.113,166.282,166.446 ,166.6,166.748,166.89,167.025,167.155, 167.279,167.397,167.51,167.619,167.722, 167.82,167.914,168.003,168.088,168.169, 168.245,168.351,168.415,168.473,168.525 ,168.571,168.613,168.651,167.709, 166.318,165.412,163.657,162.524,161.143 ,161.241,161.336,161.425,161.497, 161.568,161.628,161.677,161.73,161.752, 161.76,161.756,161.74,161.712,161.673, 161.625,161.566,161.497,161.417,161.326 ,161.225,161.113,160.99,160.856,160.712 ,160.553,160.385,160.205,160.013, 159.807,159.589,159.357,159.11,158.849, 158.571,158.277,157.966,157.636,157.287 ,156.917,156.525,156.111,155.663, 155.198,154.179,153.029,151.727, 156.136)
ORBIT_NUMBER = 1628
ORBITAL_ECCENTRICITY = 0.566
ORBITAL_INCLINATION = 86.59
ORBITAL_SEMIMAJOR_AXIS = 8539.99
PERIAPSIS_ALTITUDE = 326.34
PERIAPSIS_ARGUMENT_ANGLE = 73.53
PERIAPSIS_TIME = 2005-04-23T14:58:13.000Z
SPACECRAFT_ORIENTATION = (0.0,1.0,0.0)
^MEX_ORIENTATION_DESC = "MEX_ORIENTATION_DESC.TXT"
SPACECRAFT_POINTING_MODE = ACROSSTRACK
^MEX_POINTING_DESC = "MEX_POINTING_DESC.TXT"
RIGHT_ASCENSION = -1e+32
DECLINATION = -1e+32
OFFSET_ANGLE = -1.3
SPACECRAFT_SOLAR_DISTANCE = 2.13845e+08
TARGET_NAME = MARS
/* CAMERA DATA ELEMENTS */
DETECTOR_TEMPERATURE = 18.1666
FOCAL_PLANE_TEMPERATURE = 8.1755
INST_CMPRS_NAME = "DISCRETE COSINE TRANSFORMATION (DCT)"
INST_CMPRS_RATIO = 14.44
INST_CMPRS_QUALITY = 0
INST_CMPRS_QUANTZ_TBL_ID = 0
INSTRUMENT_TEMPERATURE = 11.234
LENS_TEMPERATURE = 8.7872
MACROPIXEL_SIZE = 4
MISSING_FRAMES = 19
PIXEL_SUBSAMPLING_FLAG = N
SIGNAL_CHAIN_ID = 2
/* RADIOMETRIC DATA ELEMENTS */
BANDWIDTH = 88.0
CENTER_FILTER_WAVELENGTH = 538.0
RADIANCE_OFFSET = 0.0806453
RADIANCE_SCALING_FACTOR = 0.0101834
REFLECTANCE_SCALING_FACTOR = 0.000400942
MEX:REFLECTANCE_OFFSET = 0.00317516
/* IMAGE OBJECT DEFINITIONS */
OBJECT = IMAGE
  INTERCHANGE_FORMAT = BINARY
  LINES = 27604
  LINE_SAMPLES = 4770
  SAMPLE_TYPE = UNSIGNED_INTEGER
  SAMPLE_BITS = 8
  BANDS = 1
  BAND_STORAGE_TYPE = BAND_SEQUENTIAL
  MAXIMUM = 347
  MEAN = 154.518
  MINIMUM = 10
  STANDARD_DEVIATION = 81.6606
END_OBJECT = IMAGE
/* MAP OBJECT DEFINITIONS */
OBJECT = IMAGE_MAP_PROJECTION
  ^DATA_SET_MAP_PROJECTION_CATALOG= "DSMAP.CAT"
  A_AXIS_RADIUS = 3396.0
  B_AXIS_RADIUS = 3396.0
  C_AXIS_RADIUS = 3396.0
  CENTER_LATITUDE = 0.0
  CENTER_LONGITUDE = 163.0
  COORDINATE_SYSTEM_NAME = PLANETOGRAPHIC
  COORDINATE_SYSTEM_TYPE = "BODY-FIXED ROTATING"
  EASTERNMOST_LONGITUDE = 168.651
  FIRST_STANDARD_PARALLEL = "N/A"
  LINE_FIRST_PIXEL = 1
  LINE_LAST_PIXEL = 27604
  LINE_PROJECTION_OFFSET = 44398.625
  MAP_PROJECTION_ROTATION = 0.0
  MAP_PROJECTION_TYPE = SINUSOIDAL
  MAP_RESOLUTION = 592.713803866667
  MAP_SCALE = 0.1
  MAXIMUM_LATITUDE = 74.7414
  MINIMUM_LATITUDE = 28.3603
  POSITIVE_LONGITUDE_DIRECTION = EAST
  REFERENCE_LATITUDE = "N/A"
  REFERENCE_LONGITUDE = "N/A"
  SAMPLE_FIRST_PIXEL = 1
  SAMPLE_LAST_PIXEL = 4770
  SAMPLE_PROJECTION_OFFSET = 1873.875
  SECOND_STANDARD_PARALLEL = "N/A"
  WESTERNMOST_LONGITUDE = 151.727
END_OBJECT = IMAGE_MAP_PROJECTION
/* The JPEG2000 image data file associated with this label. */
OBJECT = COMPRESSED_FILE
  FILE_NAME = "H1628_0000_GR3.JP2"
  RECORD_TYPE = UNDEFINED
  FILE_RECORDS = UNK
  ENCODING_TYPE = "JP2"
  INTERCHANGE_FORMAT = BINARY
  UNCOMPRESSED_FILE_NAME = "H1628_0000_GR3.IMG"
  REQUIRED_STORAGE_BYTES = "131694930"
  ^DESCRIPTION = "JP2INFO.TXT"
END_OBJECT = COMPRESSED_FILE
END
