PDS_VERSION_ID = PDS3
/* FILE DATA ELEMENTS */
RECORD_TYPE = STREAM
/* POINTERS TO DATA OBJECTS */
^COMPRESSED_FILE = "H1628_0008_SR3.JP2"
/* IDENTIFICATION DATA ELEMENTS */
DATA_SET_ID = "MEX-M-HRSC-5-REFDR-MAPPROJECTED-V3.0"
DATA_SET_NAME = "MARS EXPRESS HRSC MAP PROJECTED REFDR V3.0"
DETECTOR_ID = MEX_HRSC_SRC
EVENT_TYPE = "MARS-REGIONAL-MAPPING-Vo-Te-Im"
INSTRUMENT_HOST_ID = MEX
INSTRUMENT_HOST_NAME = "MARS EXPRESS"
INSTRUMENT_ID = HRSC
INSTRUMENT_NAME = "HIGH RESOLUTION STEREO CAMERA"
MISSION_NAME = "MARS EXPRESS"
MISSION_PHASE_NAME = MR_Phase_6
PROCESSING_LEVEL_ID = 3
PRODUCT_CREATION_TIME = 2016-03-09T06:48:11.000Z
PRODUCT_ID = "H1628_0008_SR3.JP2"
RELEASE_ID = 0021
REVISION_ID = 0000
/* QUALITY DATA ELEMENTS */
DATA_QUALITY_ID = 1
DATA_QUALITY_DESC = "Data calculated based on original SPICE kernels"
/* TIME DATA ELEMENTS */
SPACECRAFT_CLOCK_START_COUNT = "1/0062348724.57934"
SPACECRAFT_CLOCK_STOP_COUNT = "1/0062350369.48245"
IMAGE_TIME = 2005-04-23T15:14:47.351Z
START_TIME = 2005-04-23T15:14:47.347Z
STOP_TIME = 2005-04-23T15:14:47.355Z
/* ORBITAL DATA ELEMENTS */
ASCENDING_NODE_LONGITUDE = 194.34
MAXIMUM_RESOLUTION = 9.841
FOOTPRINT_POINT_LATITUDE = (48.7943,48.7865,48.7818,48.7757, 48.7682,48.7629,48.7561,48.7459,48.7389 ,48.7324,48.7276,48.7223,48.7149, 48.7086,48.7018,48.6933,48.6856,48.679, 48.6717,48.6657,48.6567,48.6514,48.6467 ,48.6407,48.6317,48.6313,48.6309, 48.6305,48.6301,48.6297,48.6294,48.629, 48.6286,48.6282,48.6278,48.6274,48.627, 48.6266,48.6262,48.6258,48.6254,48.625, 48.6246,48.6242,48.6238,48.6233,48.6229 ,48.6225,48.6221,48.6217,48.6286, 48.6341,48.6429,48.6499,48.6561,48.6632 ,48.6682,48.6744,48.6827,48.6872, 48.6949,48.7029,48.7092,48.719,48.7298, 48.7348,48.7393,48.7452,48.7532,48.7598 ,48.7645,48.771,48.7785,48.7894,48.7898 ,48.7902,48.7906,48.791,48.7914,48.7918 ,48.7922,48.7926,48.793,48.7934,48.7938 ,48.7942,48.7946,48.795,48.7954,48.7958 ,48.7962,48.7966,48.797,48.7974,48.7978 ,48.7981,48.7985,48.7989,48.7993, 48.7943)
FOOTPRINT_POINT_LONGITUDE = (164.61,164.611,164.611,164.612,164.612 ,164.613,164.613,164.614,164.615, 164.615,164.616,164.616,164.617,164.618 ,164.618,164.619,164.62,164.62,164.621, 164.621,164.622,164.622,164.623,164.623 ,164.624,164.614,164.604,164.594, 164.583,164.573,164.563,164.553,164.543 ,164.533,164.523,164.513,164.503, 164.492,164.482,164.472,164.462,164.452 ,164.442,164.432,164.421,164.411, 164.401,164.391,164.381,164.371,164.367 ,164.366,164.366,164.365,164.364, 164.364,164.363,164.363,164.362,164.362 ,164.361,164.36,164.36,164.359,164.358, 164.357,164.357,164.356,164.355,164.355 ,164.354,164.354,164.353,164.355, 164.365,164.375,164.385,164.396,164.406 ,164.416,164.426,164.436,164.446, 164.457,164.467,164.477,164.487,164.497 ,164.507,164.518,164.528,164.538, 164.548,164.558,164.568,164.578,164.589 ,164.599,164.609,164.61)
ORBIT_NUMBER = 1628
ORBITAL_ECCENTRICITY = 0.566
ORBITAL_INCLINATION = 86.59
ORBITAL_SEMIMAJOR_AXIS = 8539.99
PERIAPSIS_ALTITUDE = 326.34
PERIAPSIS_ARGUMENT_ANGLE = 73.53
PERIAPSIS_TIME = 2005-04-23T14:58:13.000Z
SPACECRAFT_ORIENTATION = (0.0,1.0,0.0)
^MEX_ORIENTATION_DESC = "MEX_ORIENTATION_DESC.TXT"
SPACECRAFT_POINTING_MODE = ACROSSTRACK
^MEX_POINTING_DESC = "MEX_POINTING_DESC.TXT"
RIGHT_ASCENSION = -1e+32
DECLINATION = -1e+32
OFFSET_ANGLE = -1.3
SPACECRAFT_SOLAR_DISTANCE = 2.13845e+08
TARGET_NAME = MARS
/* CAMERA DATA ELEMENTS */
BUFFER_MODE_ID = BUFFER_8
EXPOSURE_DURATION = 7.056
INST_CMPRS_NAME = NONE
INST_CMPRS_RATIO = 1.0
INST_CMPRS_QUALITY = -2147483648
INST_CMPRS_QUANTZ_TBL_ID = -2147483648
INSTRUMENT_TEMPERATURE = 17.2727
MISSING_FRAMES = 0
START_BIT = 0
/* RADIOMETRIC DATA ELEMENTS */
BANDWIDTH = 250.0
CENTER_FILTER_WAVELENGTH = 600.0
RADIANCE_OFFSET = -9.99e+31
RADIANCE_SCALING_FACTOR = -9.99e+31
REFLECTANCE_SCALING_FACTOR = -9.99e+31
MEX:REFLECTANCE_OFFSET = -9.99e+31
/* IMAGE OBJECT DEFINITIONS */
OBJECT = IMAGE
  INTERCHANGE_FORMAT = BINARY
  LINES = 1105
  LINE_SAMPLES = 1123
  SAMPLE_TYPE = UNSIGNED_INTEGER
  SAMPLE_BITS = 8
  BANDS = 1
  BAND_STORAGE_TYPE = BAND_SEQUENTIAL
  MAXIMUM = 6086
  MEAN = 5581.06
  MINIMUM = 4644
  STANDARD_DEVIATION = 146.411
END_OBJECT = IMAGE
/* MAP OBJECT DEFINITIONS */
OBJECT = IMAGE_MAP_PROJECTION
  ^DATA_SET_MAP_PROJECTION_CATALOG= "DSMAP.CAT"
  A_AXIS_RADIUS = 3396.19
  B_AXIS_RADIUS = 3396.19
  C_AXIS_RADIUS = 3396.19
  CENTER_LATITUDE = 0.0
  CENTER_LONGITUDE = 164.0
  COORDINATE_SYSTEM_NAME = PLANETOGRAPHIC
  COORDINATE_SYSTEM_TYPE = "BODY-FIXED ROTATING"
  EASTERNMOST_LONGITUDE = 164.624
  FIRST_STANDARD_PARALLEL = "N/A"
  LINE_FIRST_PIXEL = 1
  LINE_LAST_PIXEL = 1105
  LINE_PROJECTION_OFFSET = 288914.0
  MAP_PROJECTION_ROTATION = 0.0
  MAP_PROJECTION_TYPE = SINUSOIDAL
  MAP_RESOLUTION = 5927.46965121889
  MAP_SCALE = 0.01
  MAXIMUM_LATITUDE = 48.7993
  MINIMUM_LATITUDE = 48.6217
  POSITIVE_LONGITUDE_DIRECTION = EAST
  REFERENCE_LATITUDE = "N/A"
  REFERENCE_LONGITUDE = "N/A"
  SAMPLE_FIRST_PIXEL = 1
  SAMPLE_LAST_PIXEL = 1123
  SAMPLE_PROJECTION_OFFSET = -1235.0
  SECOND_STANDARD_PARALLEL = "N/A"
  WESTERNMOST_LONGITUDE = 164.353
END_OBJECT = IMAGE_MAP_PROJECTION
/* The JPEG2000 image data file associated with this label. */
OBJECT = COMPRESSED_FILE
  FILE_NAME = "H1628_0008_SR3.JP2"
  RECORD_TYPE = UNDEFINED
  FILE_RECORDS = UNK
  ENCODING_TYPE = "JP2"
  INTERCHANGE_FORMAT = BINARY
  UNCOMPRESSED_FILE_NAME = "H1628_0008_SR3.IMG"
  REQUIRED_STORAGE_BYTES = "1260006"
  ^DESCRIPTION = "JP2INFO.TXT"
END_OBJECT = COMPRESSED_FILE
END
