PDS_VERSION_ID = PDS3
/* FILE DATA ELEMENTS */
RECORD_TYPE = STREAM
/* POINTERS TO DATA OBJECTS */
^COMPRESSED_FILE = "H1629_0004_SR3.JP2"
/* IDENTIFICATION DATA ELEMENTS */
DATA_SET_ID = "MEX-M-HRSC-5-REFDR-MAPPROJECTED-V3.0"
DATA_SET_NAME = "MARS EXPRESS HRSC MAP PROJECTED REFDR V3.0"
DETECTOR_ID = MEX_HRSC_SRC
EVENT_TYPE = "MARS-REGIONAL-MAPPING-Te-Im-Eo"
INSTRUMENT_HOST_ID = MEX
INSTRUMENT_HOST_NAME = "MARS EXPRESS"
INSTRUMENT_ID = HRSC
INSTRUMENT_NAME = "HIGH RESOLUTION STEREO CAMERA"
MISSION_NAME = "MARS EXPRESS"
MISSION_PHASE_NAME = MR_Phase_6
PROCESSING_LEVEL_ID = 3
PRODUCT_CREATION_TIME = 2016-03-09T06:48:11.000Z
PRODUCT_ID = "H1629_0004_SR3.JP2"
RELEASE_ID = 0021
REVISION_ID = 0000
/* QUALITY DATA ELEMENTS */
DATA_QUALITY_ID = 1
DATA_QUALITY_DESC = "Data calculated based on original SPICE kernels"
/* TIME DATA ELEMENTS */
SPACECRAFT_CLOCK_START_COUNT = "1/0062372974.57158"
SPACECRAFT_CLOCK_STOP_COUNT = "1/0062373924.39951"
IMAGE_TIME = 2005-04-23T21:55:01.375Z
START_TIME = 2005-04-23T21:55:01.372Z
STOP_TIME = 2005-04-23T21:55:01.377Z
/* ORBITAL DATA ELEMENTS */
ASCENDING_NODE_LONGITUDE = 194.31
MAXIMUM_RESOLUTION = 7.899
FOOTPRINT_POINT_LATITUDE = (57.9173,57.913,57.9073,57.9033,57.8974 ,57.8908,57.8838,57.8782,57.8736, 57.8686,57.8621,57.8575,57.8506,57.8462 ,57.8423,57.8374,57.8315,57.8239, 57.8183,57.8137,57.8086,57.8006,57.7967 ,57.7883,57.7878,57.7873,57.7868, 57.7864,57.7859,57.7854,57.7849,57.7844 ,57.7839,57.7834,57.7829,57.7824, 57.7819,57.7814,57.7809,57.7804,57.7799 ,57.7794,57.7789,57.7784,57.7779, 57.7774,57.7769,57.7764,57.7758,57.7797 ,57.7849,57.792,57.7963,57.8018,57.8064 ,57.8135,57.8195,57.8258,57.83,57.8362, 57.8412,57.8453,57.8492,57.8539,57.8579 ,57.8632,57.8703,57.8754,57.8833, 57.8895,57.8941,57.8986,57.9057,57.9104 ,57.9109,57.9114,57.9119,57.9124, 57.9129,57.9133,57.9138,57.9143,57.9148 ,57.9153,57.9158,57.9163,57.9167, 57.9172,57.9177,57.9182,57.9187,57.9191 ,57.9197,57.9202,57.9207,57.9212, 57.9216,57.9221,57.9226,57.9173)
FOOTPRINT_POINT_LONGITUDE = (62.1493,62.15,62.151,62.1517,62.1526, 62.1538,62.1549,62.1559,62.1566,62.1575 ,62.1585,62.1593,62.1605,62.1612, 62.1618,62.1627,62.1636,62.1649,62.1658 ,62.1666,62.1674,62.1688,62.1694, 62.1705,62.1602,62.1499,62.1396,62.1293 ,62.119,62.1086,62.0983,62.088,62.0778, 62.0675,62.0572,62.0469,62.0365,62.0262 ,62.0159,62.0055,61.9952,61.9848, 61.9745,61.9642,61.9538,61.9435,61.9331 ,61.9228,61.9109,61.9102,61.9093, 61.9081,61.9073,61.9064,61.9056,61.9043 ,61.9033,61.9022,61.9015,61.9004, 61.8995,61.8988,61.8981,61.8973,61.8966 ,61.8957,61.8945,61.8936,61.8922, 61.8911,61.8903,61.8895,61.8883,61.8877 ,61.8981,61.9085,61.9189,61.9293, 61.9397,61.9501,61.9604,61.9708,61.9812 ,61.9916,62.0019,62.0123,62.0227, 62.0331,62.0434,62.0538,62.0642,62.0745 ,62.0847,62.0951,62.1054,62.1158, 62.1262,62.1365,62.1469,62.1493)
ORBIT_NUMBER = 1629
ORBITAL_ECCENTRICITY = 0.566
ORBITAL_INCLINATION = 86.61
ORBITAL_SEMIMAJOR_AXIS = 8537.84
PERIAPSIS_ALTITUDE = 325.05
PERIAPSIS_ARGUMENT_ANGLE = 73.37
PERIAPSIS_TIME = 2005-04-23T21:41:34.000Z
SPACECRAFT_ORIENTATION = (0.0,1.0,0.0)
^MEX_ORIENTATION_DESC = "MEX_ORIENTATION_DESC.TXT"
SPACECRAFT_POINTING_MODE = INERT
^MEX_POINTING_DESC = "MEX_POINTING_DESC.TXT"
RIGHT_ASCENSION = 116.491
DECLINATION = -43.398
OFFSET_ANGLE = -1e+32
SPACECRAFT_SOLAR_DISTANCE = 2.13802e+08
TARGET_NAME = MARS
/* CAMERA DATA ELEMENTS */
BUFFER_MODE_ID = BUFFER_8
EXPOSURE_DURATION = 5.04
INST_CMPRS_NAME = NONE
INST_CMPRS_RATIO = 1.0
INST_CMPRS_QUALITY = -2147483648
INST_CMPRS_QUANTZ_TBL_ID = -2147483648
INSTRUMENT_TEMPERATURE = 11.8707
MISSING_FRAMES = 0
START_BIT = 0
/* RADIOMETRIC DATA ELEMENTS */
BANDWIDTH = 250.0
CENTER_FILTER_WAVELENGTH = 600.0
RADIANCE_OFFSET = -9.99e+31
RADIANCE_SCALING_FACTOR = -9.99e+31
REFLECTANCE_SCALING_FACTOR = -9.99e+31
MEX:REFLECTANCE_OFFSET = -9.99e+31
/* IMAGE OBJECT DEFINITIONS */
OBJECT = IMAGE
  INTERCHANGE_FORMAT = BINARY
  LINES = 927
  LINE_SAMPLES = 960
  SAMPLE_TYPE = UNSIGNED_INTEGER
  SAMPLE_BITS = 8
  BANDS = 1
  BAND_STORAGE_TYPE = BAND_SEQUENTIAL
  MAXIMUM = 2814
  MEAN = 2517.92
  MINIMUM = 2139
  STANDARD_DEVIATION = 62.7615
END_OBJECT = IMAGE
/* MAP OBJECT DEFINITIONS */
OBJECT = IMAGE_MAP_PROJECTION
  ^DATA_SET_MAP_PROJECTION_CATALOG= "DSMAP.CAT"
  A_AXIS_RADIUS = 3396.19
  B_AXIS_RADIUS = 3396.19
  C_AXIS_RADIUS = 3396.19
  CENTER_LATITUDE = 0.0
  CENTER_LONGITUDE = 62.0
  COORDINATE_SYSTEM_NAME = PLANETOGRAPHIC
  COORDINATE_SYSTEM_TYPE = "BODY-FIXED ROTATING"
  EASTERNMOST_LONGITUDE = 62.1705
  FIRST_STANDARD_PARALLEL = "N/A"
  LINE_FIRST_PIXEL = 1
  LINE_LAST_PIXEL = 927
  LINE_PROJECTION_OFFSET = 342782.0
  MAP_PROJECTION_ROTATION = 0.0
  MAP_PROJECTION_TYPE = SINUSOIDAL
  MAP_RESOLUTION = 5927.46965121889
  MAP_SCALE = 0.01
  MAXIMUM_LATITUDE = 57.9226
  MINIMUM_LATITUDE = 57.7758
  POSITIVE_LONGITUDE_DIRECTION = EAST
  REFERENCE_LATITUDE = "N/A"
  REFERENCE_LONGITUDE = "N/A"
  SAMPLE_FIRST_PIXEL = 1
  SAMPLE_LAST_PIXEL = 960
  SAMPLE_PROJECTION_OFFSET = 742.0
  SECOND_STANDARD_PARALLEL = "N/A"
  WESTERNMOST_LONGITUDE = 61.8877
END_OBJECT = IMAGE_MAP_PROJECTION
/* The JPEG2000 image data file associated with this label. */
OBJECT = COMPRESSED_FILE
  FILE_NAME = "H1629_0004_SR3.JP2"
  RECORD_TYPE = UNDEFINED
  FILE_RECORDS = UNK
  ENCODING_TYPE = "JP2"
  INTERCHANGE_FORMAT = BINARY
  UNCOMPRESSED_FILE_NAME = "H1629_0004_SR3.IMG"
  REQUIRED_STORAGE_BYTES = "908160"
  ^DESCRIPTION = "JP2INFO.TXT"
END_OBJECT = COMPRESSED_FILE
END
