PDS_VERSION_ID = PDS3
/* FILE DATA ELEMENTS */
RECORD_TYPE = STREAM
/* POINTERS TO DATA OBJECTS */
^COMPRESSED_FILE = "H1632_0002_SR3.JP2"
/* IDENTIFICATION DATA ELEMENTS */
DATA_SET_ID = "MEX-M-HRSC-5-REFDR-MAPPROJECTED-V3.0"
DATA_SET_NAME = "MARS EXPRESS HRSC MAP PROJECTED REFDR V3.0"
DETECTOR_ID = MEX_HRSC_SRC
EVENT_TYPE = "MARS-REGIONAL-MAPPING-Te-Fl-Eo"
INSTRUMENT_HOST_ID = MEX
INSTRUMENT_HOST_NAME = "MARS EXPRESS"
INSTRUMENT_ID = HRSC
INSTRUMENT_NAME = "HIGH RESOLUTION STEREO CAMERA"
MISSION_NAME = "MARS EXPRESS"
MISSION_PHASE_NAME = MR_Phase_6
PROCESSING_LEVEL_ID = 3
PRODUCT_CREATION_TIME = 2016-03-09T06:48:11.000Z
PRODUCT_ID = "H1632_0002_SR3.JP2"
RELEASE_ID = 0021
REVISION_ID = 0000
/* QUALITY DATA ELEMENTS */
DATA_QUALITY_ID = 1
DATA_QUALITY_DESC = "Data calculated based on original SPICE kernels"
/* TIME DATA ELEMENTS */
SPACECRAFT_CLOCK_START_COUNT = "1/0062445474.57135"
SPACECRAFT_CLOCK_STOP_COUNT = "1/0062447205.36342"
IMAGE_TIME = 2005-04-24T18:04:33.318Z
START_TIME = 2005-04-24T18:04:33.316Z
STOP_TIME = 2005-04-24T18:04:33.321Z
/* ORBITAL DATA ELEMENTS */
ASCENDING_NODE_LONGITUDE = 194.26
MAXIMUM_RESOLUTION = 7.545
FOOTPRINT_POINT_LATITUDE = (59.7324,59.7286,59.7231,59.7156, 59.7101,59.7032,59.6988,59.6934,59.687, 59.6787,59.6719,59.6675,59.6637,59.6574 ,59.6535,59.6491,59.645,59.6391,59.6341 ,59.6306,59.6254,59.6215,59.6178, 59.6127,59.6085,59.6064,59.6064,59.6062 ,59.606,59.6059,59.6058,59.6056,59.6055 ,59.6053,59.6052,59.6051,59.6049, 59.6048,59.6046,59.6045,59.6043,59.6042 ,59.604,59.6039,59.6037,59.6036,59.6034 ,59.6033,59.6031,59.6029,59.6077, 59.6135,59.6173,59.6238,59.6289,59.6325 ,59.6371,59.6415,59.6449,59.6509, 59.6554,59.6594,59.665,59.6694,59.6736, 59.677,59.6842,59.6889,59.696,59.7012, 59.7089,59.7134,59.7212,59.7263,59.7317 ,59.7319,59.7321,59.7322,59.7324, 59.7325,59.7327,59.7329,59.733,59.7332, 59.7333,59.7335,59.7336,59.7338,59.7339 ,59.7341,59.7342,59.7344,59.7346, 59.7347,59.7348,59.735,59.7351,59.7353, 59.7354,59.7324)
FOOTPRINT_POINT_LONGITUDE = (135.653,135.653,135.653,135.654, 135.654,135.654,135.655,135.655,135.655 ,135.656,135.656,135.656,135.657, 135.657,135.657,135.657,135.658,135.658 ,135.658,135.661,135.661,135.662, 135.662,135.662,135.662,135.655,135.643 ,135.631,135.62,135.61,135.6,135.59, 135.579,135.569,135.559,135.549,135.538 ,135.528,135.518,135.508,135.497, 135.487,135.477,135.467,135.457,135.446 ,135.436,135.426,135.416,135.406, 135.399,135.398,135.398,135.398,135.397 ,135.398,135.397,135.397,135.397, 135.397,135.396,135.396,135.396,135.395 ,135.395,135.395,135.394,135.394, 135.394,135.393,135.393,135.393,135.392 ,135.392,135.397,135.407,135.417, 135.428,135.438,135.448,135.458,135.469 ,135.479,135.489,135.499,135.51,135.52, 135.53,135.541,135.551,135.561,135.571, 135.582,135.592,135.602,135.612,135.623 ,135.633,135.643,135.653)
ORBIT_NUMBER = 1632
ORBITAL_ECCENTRICITY = 0.566
ORBITAL_INCLINATION = 86.6
ORBITAL_SEMIMAJOR_AXIS = 8539.31
PERIAPSIS_ALTITUDE = 326.04
PERIAPSIS_ARGUMENT_ANGLE = 72.82
PERIAPSIS_TIME = 2005-04-24T17:51:29.000Z
SPACECRAFT_ORIENTATION = (0.0,1.0,0.0)
^MEX_ORIENTATION_DESC = "MEX_ORIENTATION_DESC.TXT"
SPACECRAFT_POINTING_MODE = ACROSSTRACK
^MEX_POINTING_DESC = "MEX_POINTING_DESC.TXT"
RIGHT_ASCENSION = -1e+32
DECLINATION = -1e+32
OFFSET_ANGLE = 1.6
SPACECRAFT_SOLAR_DISTANCE = 2.13672e+08
TARGET_NAME = MARS
/* CAMERA DATA ELEMENTS */
BUFFER_MODE_ID = BUFFER_8
EXPOSURE_DURATION = 5.04
INST_CMPRS_NAME = NONE
INST_CMPRS_RATIO = 1.0
INST_CMPRS_QUALITY = -2147483648
INST_CMPRS_QUANTZ_TBL_ID = -2147483648
INSTRUMENT_TEMPERATURE = 14.2424
MISSING_FRAMES = 0
START_BIT = 0
/* RADIOMETRIC DATA ELEMENTS */
BANDWIDTH = 250.0
CENTER_FILTER_WAVELENGTH = 600.0
RADIANCE_OFFSET = -9.99e+31
RADIANCE_SCALING_FACTOR = -9.99e+31
REFLECTANCE_SCALING_FACTOR = -9.99e+31
MEX:REFLECTANCE_OFFSET = -9.99e+31
/* IMAGE OBJECT DEFINITIONS */
OBJECT = IMAGE
  INTERCHANGE_FORMAT = BINARY
  LINES = 841
  LINE_SAMPLES = 853
  SAMPLE_TYPE = UNSIGNED_INTEGER
  SAMPLE_BITS = 8
  BANDS = 1
  BAND_STORAGE_TYPE = BAND_SEQUENTIAL
  MAXIMUM = 3095
  MEAN = 2771.01
  MINIMUM = 2381
  STANDARD_DEVIATION = 65.2302
END_OBJECT = IMAGE
/* MAP OBJECT DEFINITIONS */
OBJECT = IMAGE_MAP_PROJECTION
  ^DATA_SET_MAP_PROJECTION_CATALOG= "DSMAP.CAT"
  A_AXIS_RADIUS = 3396.19
  B_AXIS_RADIUS = 3396.19
  C_AXIS_RADIUS = 3396.19
  CENTER_LATITUDE = 0.0
  CENTER_LONGITUDE = 136.0
  COORDINATE_SYSTEM_NAME = PLANETOGRAPHIC
  COORDINATE_SYSTEM_TYPE = "BODY-FIXED ROTATING"
  EASTERNMOST_LONGITUDE = 135.662
  FIRST_STANDARD_PARALLEL = "N/A"
  LINE_FIRST_PIXEL = 1
  LINE_LAST_PIXEL = 841
  LINE_PROJECTION_OFFSET = 353499.0
  MAP_PROJECTION_ROTATION = 0.0
  MAP_PROJECTION_TYPE = SINUSOIDAL
  MAP_RESOLUTION = 5927.46965121889
  MAP_SCALE = 0.01
  MAXIMUM_LATITUDE = 59.7354
  MINIMUM_LATITUDE = 59.6029
  POSITIVE_LONGITUDE_DIRECTION = EAST
  REFERENCE_LATITUDE = "N/A"
  REFERENCE_LONGITUDE = "N/A"
  SAMPLE_FIRST_PIXEL = 1
  SAMPLE_LAST_PIXEL = 853
  SAMPLE_PROJECTION_OFFSET = 1622.0
  SECOND_STANDARD_PARALLEL = "N/A"
  WESTERNMOST_LONGITUDE = 135.392
END_OBJECT = IMAGE_MAP_PROJECTION
/* The JPEG2000 image data file associated with this label. */
OBJECT = COMPRESSED_FILE
  FILE_NAME = "H1632_0002_SR3.JP2"
  RECORD_TYPE = UNDEFINED
  FILE_RECORDS = UNK
  ENCODING_TYPE = "JP2"
  INTERCHANGE_FORMAT = BINARY
  UNCOMPRESSED_FILE_NAME = "H1632_0002_SR3.IMG"
  REQUIRED_STORAGE_BYTES = "735286"
  ^DESCRIPTION = "JP2INFO.TXT"
END_OBJECT = COMPRESSED_FILE
END
