PDS_VERSION_ID = PDS3
/* FILE DATA ELEMENTS */
RECORD_TYPE = STREAM
/* POINTERS TO DATA OBJECTS */
^COMPRESSED_FILE = "H1632_0007_SR3.JP2"
/* IDENTIFICATION DATA ELEMENTS */
DATA_SET_ID = "MEX-M-HRSC-5-REFDR-MAPPROJECTED-V3.0"
DATA_SET_NAME = "MARS EXPRESS HRSC MAP PROJECTED REFDR V3.0"
DETECTOR_ID = MEX_HRSC_SRC
EVENT_TYPE = "MARS-REGIONAL-MAPPING-Te-Fl-Eo"
INSTRUMENT_HOST_ID = MEX
INSTRUMENT_HOST_NAME = "MARS EXPRESS"
INSTRUMENT_ID = HRSC
INSTRUMENT_NAME = "HIGH RESOLUTION STEREO CAMERA"
MISSION_NAME = "MARS EXPRESS"
MISSION_PHASE_NAME = MR_Phase_6
PROCESSING_LEVEL_ID = 3
PRODUCT_CREATION_TIME = 2016-03-09T06:48:11.000Z
PRODUCT_ID = "H1632_0007_SR3.JP2"
RELEASE_ID = 0021
REVISION_ID = 0000
/* QUALITY DATA ELEMENTS */
DATA_QUALITY_ID = 1
DATA_QUALITY_DESC = "Data calculated based on original SPICE kernels"
/* TIME DATA ELEMENTS */
SPACECRAFT_CLOCK_START_COUNT = "1/0062445474.57135"
SPACECRAFT_CLOCK_STOP_COUNT = "1/0062447205.36342"
IMAGE_TIME = 2005-04-24T18:04:43.674Z
START_TIME = 2005-04-24T18:04:43.671Z
STOP_TIME = 2005-04-24T18:04:43.676Z
/* ORBITAL DATA ELEMENTS */
ASCENDING_NODE_LONGITUDE = 194.26
MAXIMUM_RESOLUTION = 7.652
FOOTPRINT_POINT_LATITUDE = (59.2024,59.1978,59.1902,59.1846, 59.1798,59.1746,59.1711,59.1653,59.1618 ,59.1562,59.1513,59.1447,59.1404, 59.1338,59.1292,59.1223,59.1143,59.1097 ,59.1062,59.1022,59.0967,59.0932, 59.0888,59.0825,59.0787,59.0754,59.0752 ,59.0751,59.075,59.0748,59.0747,59.0745 ,59.0744,59.0743,59.0741,59.074,59.0739 ,59.0737,59.0736,59.0734,59.0733, 59.0732,59.073,59.0729,59.0727,59.0726, 59.0724,59.0723,59.0721,59.072,59.0736, 59.0801,59.0842,59.0893,59.0934,59.1009 ,59.1078,59.1143,59.1191,59.1259, 59.1308,59.139,59.144,59.1498,59.1536, 59.1575,59.1632,59.1705,59.1785,59.1854 ,59.1901,59.1937,59.1989,59.2025, 59.2027,59.2028,59.203,59.2031,59.2033, 59.2034,59.2036,59.2037,59.2039,59.204, 59.2042,59.2043,59.2045,59.2046,59.2048 ,59.2049,59.2051,59.2052,59.2054, 59.2055,59.2056,59.2058,59.206,59.2061, 59.2062,59.2024)
FOOTPRINT_POINT_LONGITUDE = (135.679,135.68,135.68,135.68,135.681, 135.681,135.681,135.681,135.681,135.682 ,135.682,135.682,135.683,135.683, 135.683,135.684,135.684,135.684,135.684 ,135.685,135.685,135.685,135.685, 135.686,135.686,135.681,135.67,135.66, 135.65,135.637,135.626,135.616,135.606, 135.596,135.586,135.575,135.565,135.555 ,135.545,135.535,135.524,135.514, 135.504,135.494,135.484,135.473,135.463 ,135.453,135.443,135.433,135.426, 135.426,135.426,135.425,135.425,135.425 ,135.424,135.424,135.424,135.423, 135.423,135.422,135.422,135.422,135.422 ,135.421,135.421,135.421,135.42,135.42, 135.419,135.419,135.419,135.419,135.429 ,135.439,135.45,135.46,135.47,135.48, 135.491,135.501,135.511,135.521,135.532 ,135.542,135.552,135.562,135.573, 135.583,135.593,135.603,135.614,135.624 ,135.634,135.647,135.658,135.668, 135.678,135.679)
ORBIT_NUMBER = 1632
ORBITAL_ECCENTRICITY = 0.566
ORBITAL_INCLINATION = 86.6
ORBITAL_SEMIMAJOR_AXIS = 8539.31
PERIAPSIS_ALTITUDE = 326.04
PERIAPSIS_ARGUMENT_ANGLE = 72.82
PERIAPSIS_TIME = 2005-04-24T17:51:29.000Z
SPACECRAFT_ORIENTATION = (0.0,1.0,0.0)
^MEX_ORIENTATION_DESC = "MEX_ORIENTATION_DESC.TXT"
SPACECRAFT_POINTING_MODE = ACROSSTRACK
^MEX_POINTING_DESC = "MEX_POINTING_DESC.TXT"
RIGHT_ASCENSION = -1e+32
DECLINATION = -1e+32
OFFSET_ANGLE = 1.6
SPACECRAFT_SOLAR_DISTANCE = 2.13672e+08
TARGET_NAME = MARS
/* CAMERA DATA ELEMENTS */
BUFFER_MODE_ID = BUFFER_8
EXPOSURE_DURATION = 5.04
INST_CMPRS_NAME = NONE
INST_CMPRS_RATIO = 1.0
INST_CMPRS_QUALITY = -2147483648
INST_CMPRS_QUANTZ_TBL_ID = -2147483648
INSTRUMENT_TEMPERATURE = 14.2424
MISSING_FRAMES = 0
START_BIT = 0
/* RADIOMETRIC DATA ELEMENTS */
BANDWIDTH = 250.0
CENTER_FILTER_WAVELENGTH = 600.0
RADIANCE_OFFSET = -9.99e+31
RADIANCE_SCALING_FACTOR = -9.99e+31
REFLECTANCE_SCALING_FACTOR = -9.99e+31
MEX:REFLECTANCE_OFFSET = -9.99e+31
/* IMAGE OBJECT DEFINITIONS */
OBJECT = IMAGE
  INTERCHANGE_FORMAT = BINARY
  LINES = 850
  LINE_SAMPLES = 861
  SAMPLE_TYPE = UNSIGNED_INTEGER
  SAMPLE_BITS = 8
  BANDS = 1
  BAND_STORAGE_TYPE = BAND_SEQUENTIAL
  MAXIMUM = 3220
  MEAN = 2929.82
  MINIMUM = 2433
  STANDARD_DEVIATION = 63.8802
END_OBJECT = IMAGE
/* MAP OBJECT DEFINITIONS */
OBJECT = IMAGE_MAP_PROJECTION
  ^DATA_SET_MAP_PROJECTION_CATALOG= "DSMAP.CAT"
  A_AXIS_RADIUS = 3396.19
  B_AXIS_RADIUS = 3396.19
  C_AXIS_RADIUS = 3396.19
  CENTER_LATITUDE = 0.0
  CENTER_LONGITUDE = 136.0
  COORDINATE_SYSTEM_NAME = PLANETOGRAPHIC
  COORDINATE_SYSTEM_TYPE = "BODY-FIXED ROTATING"
  EASTERNMOST_LONGITUDE = 135.686
  FIRST_STANDARD_PARALLEL = "N/A"
  LINE_FIRST_PIXEL = 1
  LINE_LAST_PIXEL = 850
  LINE_PROJECTION_OFFSET = 350375.0
  MAP_PROJECTION_ROTATION = 0.0
  MAP_PROJECTION_TYPE = SINUSOIDAL
  MAP_RESOLUTION = 5927.46965121889
  MAP_SCALE = 0.01
  MAXIMUM_LATITUDE = 59.2062
  MINIMUM_LATITUDE = 59.072
  POSITIVE_LONGITUDE_DIRECTION = EAST
  REFERENCE_LATITUDE = "N/A"
  REFERENCE_LONGITUDE = "N/A"
  SAMPLE_FIRST_PIXEL = 1
  SAMPLE_LAST_PIXEL = 861
  SAMPLE_PROJECTION_OFFSET = 1571.0
  SECOND_STANDARD_PARALLEL = "N/A"
  WESTERNMOST_LONGITUDE = 135.419
END_OBJECT = IMAGE_MAP_PROJECTION
/* The JPEG2000 image data file associated with this label. */
OBJECT = COMPRESSED_FILE
  FILE_NAME = "H1632_0007_SR3.JP2"
  RECORD_TYPE = UNDEFINED
  FILE_RECORDS = UNK
  ENCODING_TYPE = "JP2"
  INTERCHANGE_FORMAT = BINARY
  UNCOMPRESSED_FILE_NAME = "H1632_0007_SR3.IMG"
  REQUIRED_STORAGE_BYTES = "749931"
  ^DESCRIPTION = "JP2INFO.TXT"
END_OBJECT = COMPRESSED_FILE
END
