PDS_VERSION_ID = PDS3
/* FILE DATA ELEMENTS */
RECORD_TYPE = STREAM
/* POINTERS TO DATA OBJECTS */
^COMPRESSED_FILE = "H1635_0000_S13.JP2"
/* IDENTIFICATION DATA ELEMENTS */
DATA_SET_ID = "MEX-M-HRSC-5-REFDR-MAPPROJECTED-V3.0"
DATA_SET_NAME = "MARS EXPRESS HRSC MAP PROJECTED REFDR V3.0"
DETECTOR_ID = MEX_HRSC_S1
EVENT_TYPE = "MARS-GLOBAL-MAPPING-Vo-Lc-Eo"
INSTRUMENT_HOST_ID = MEX
INSTRUMENT_HOST_NAME = "MARS EXPRESS"
INSTRUMENT_ID = HRSC
INSTRUMENT_NAME = "HIGH RESOLUTION STEREO CAMERA"
MISSION_NAME = "MARS EXPRESS"
MISSION_PHASE_NAME = MR_Phase_6
PROCESSING_LEVEL_ID = 3
PRODUCT_CREATION_TIME = 2016-03-09T06:48:11.000Z
PRODUCT_ID = "H1635_0000_S13.JP2"
RELEASE_ID = 0021
REVISION_ID = 0000
/* QUALITY DATA ELEMENTS */
DATA_QUALITY_ID = 1
DATA_QUALITY_DESC = "Data calculated based on original SPICE kernels"
/* TIME DATA ELEMENTS */
SPACECRAFT_CLOCK_START_COUNT = "1/0062518702.57134"
SPACECRAFT_CLOCK_STOP_COUNT = "1/0062520726.21028"
START_TIME = 2005-04-25T14:25:28.821Z
STOP_TIME = 2005-04-25T14:52:11.892Z
/* ORBITAL DATA ELEMENTS */
ASCENDING_NODE_LONGITUDE = 194.18
MAXIMUM_RESOLUTION = 148.2
FOOTPRINT_POINT_LATITUDE = (42.2047,42.1966,42.1869,42.1758, 42.1632,42.1493,42.1172,42.0989,42.0793 ,42.0581,42.1266,41.2974,40.4901, 39.7045,38.9397,38.1951,37.4703,36.7645 ,36.0771,35.4084,34.7572,34.1234, 33.5059,32.9048,32.3195,31.7498,31.1948 ,30.6546,30.1283,29.6159,29.117,28.6313 ,28.1583,27.2493,26.3876,25.5709, 24.7972,24.0642,23.3703,22.7137,22.0926 ,21.506,20.9523,20.4304,19.9441,19.1503 ,19.123,19.2023,19.2857,19.3731,19.464, 19.5579,19.6561,19.7584,19.8642,19.9731 ,20.0863,20.2033,20.3234,20.4486,20.58, 20.7108,20.8823,21.1344,21.2838,21.439, 21.6337,21.8022,21.9732,22.4135,23.044, 23.8042,24.7044,25.2109,25.7563,26.3435 ,26.9744,27.6509,28.375,29.1496,29.9769 ,30.8601,31.8021,32.2959,32.8057, 33.3317,33.8746,34.4347,35.0123,35.6084 ,36.2229,36.8562,37.5095,38.1827, 38.8765,39.5891,40.3285,41.0871,41.8689 ,42.2047)
FOOTPRINT_POINT_LONGITUDE = (195.337,195.974,196.609,197.244, 197.878,198.511,199.776,200.409,201.042 ,201.677,202.875,202.961,203.045, 203.129,203.212,203.294,203.376,203.457 ,203.539,203.621,203.703,203.786, 203.868,203.952,204.035,204.12,204.205, 204.291,204.378,204.466,204.554,204.644 ,204.734,204.918,205.106,205.298, 205.495,205.696,205.901,206.111,206.325 ,206.544,206.767,206.995,207.23,207.643 ,206.893,206.237,205.586,204.938, 204.294,203.652,203.014,202.378,201.745 ,201.113,200.482,199.852,199.222, 198.592,197.962,197.332,196.542,195.435 ,194.799,194.162,193.361,192.717, 192.069,191.282,191.522,191.774,192.038 ,192.174,192.313,192.454,192.598, 192.743,192.891,193.04,193.19,193.34, 193.49,193.564,193.638,193.712,193.785, 193.857,193.929,193.999,194.067,194.135 ,194.2,194.264,194.325,194.385,194.44, 194.493,194.542,195.337)
ORBIT_NUMBER = 1635
ORBITAL_ECCENTRICITY = 0.566
ORBITAL_INCLINATION = 86.6
ORBITAL_SEMIMAJOR_AXIS = 8542.25
PERIAPSIS_ALTITUDE = 325.43
PERIAPSIS_ARGUMENT_ANGLE = 72.3
PERIAPSIS_TIME = 2005-04-25T14:01:29.000Z
SPACECRAFT_ORIENTATION = (0.0,1.0,0.0)
^MEX_ORIENTATION_DESC = "MEX_ORIENTATION_DESC.TXT"
SPACECRAFT_POINTING_MODE = NADIR
^MEX_POINTING_DESC = "MEX_POINTING_DESC.TXT"
RIGHT_ASCENSION = -1e+32
DECLINATION = -1e+32
OFFSET_ANGLE = -1e+32
SPACECRAFT_SOLAR_DISTANCE = 2.13543e+08
TARGET_NAME = MARS
/* CAMERA DATA ELEMENTS */
DETECTOR_TEMPERATURE = 17.7588
FOCAL_PLANE_TEMPERATURE = 8.9911
INST_CMPRS_NAME = "DISCRETE COSINE TRANSFORMATION (DCT)"
INST_CMPRS_RATIO = 15.3208
INST_CMPRS_QUALITY = 0
INST_CMPRS_QUANTZ_TBL_ID = 0
INSTRUMENT_TEMPERATURE = 11.234
LENS_TEMPERATURE = 9.3989
MACROPIXEL_SIZE = 2
MISSING_FRAMES = 0
PIXEL_SUBSAMPLING_FLAG = N
SIGNAL_CHAIN_ID = 1
/* RADIOMETRIC DATA ELEMENTS */
BANDWIDTH = 180.0
CENTER_FILTER_WAVELENGTH = 677.0
RADIANCE_OFFSET = 5.00913
RADIANCE_SCALING_FACTOR = 0.0240089
REFLECTANCE_SCALING_FACTOR = 0.000571184
MEX:REFLECTANCE_OFFSET = 0.11917
/* IMAGE OBJECT DEFINITIONS */
OBJECT = IMAGE
  INTERCHANGE_FORMAT = BINARY
  LINES = 13425
  LINE_SAMPLES = 4770
  SAMPLE_TYPE = UNSIGNED_INTEGER
  SAMPLE_BITS = 8
  BANDS = 1
  BAND_STORAGE_TYPE = BAND_SEQUENTIAL
  MAXIMUM = 283
  MEAN = 213.571
  MINIMUM = 110
  STANDARD_DEVIATION = 34.7294
END_OBJECT = IMAGE
/* MAP OBJECT DEFINITIONS */
OBJECT = IMAGE_MAP_PROJECTION
  ^DATA_SET_MAP_PROJECTION_CATALOG= "DSMAP.CAT"
  A_AXIS_RADIUS = 3396.0
  B_AXIS_RADIUS = 3396.0
  C_AXIS_RADIUS = 3396.0
  CENTER_LATITUDE = 0.0
  CENTER_LONGITUDE = 198.0
  COORDINATE_SYSTEM_NAME = PLANETOGRAPHIC
  COORDINATE_SYSTEM_TYPE = "BODY-FIXED ROTATING"
  EASTERNMOST_LONGITUDE = 207.643
  FIRST_STANDARD_PARALLEL = "N/A"
  LINE_FIRST_PIXEL = 1
  LINE_LAST_PIXEL = 13425
  LINE_PROJECTION_OFFSET = 24986.25
  MAP_PROJECTION_ROTATION = 0.0
  MAP_PROJECTION_TYPE = SINUSOIDAL
  MAP_RESOLUTION = 592.713803866667
  MAP_SCALE = 0.1
  MAXIMUM_LATITUDE = 42.2047
  MINIMUM_LATITUDE = 19.123
  POSITIVE_LONGITUDE_DIRECTION = EAST
  REFERENCE_LATITUDE = "N/A"
  REFERENCE_LONGITUDE = "N/A"
  SAMPLE_FIRST_PIXEL = 1
  SAMPLE_LAST_PIXEL = 4770
  SAMPLE_PROJECTION_OFFSET = 2557.75
  SECOND_STANDARD_PARALLEL = "N/A"
  WESTERNMOST_LONGITUDE = 191.282
END_OBJECT = IMAGE_MAP_PROJECTION
/* The JPEG2000 image data file associated with this label. */
OBJECT = COMPRESSED_FILE
  FILE_NAME = "H1635_0000_S13.JP2"
  RECORD_TYPE = UNDEFINED
  FILE_RECORDS = UNK
  ENCODING_TYPE = "JP2"
  INTERCHANGE_FORMAT = BINARY
  UNCOMPRESSED_FILE_NAME = "H1635_0000_S13.IMG"
  REQUIRED_STORAGE_BYTES = "64061100"
  ^DESCRIPTION = "JP2INFO.TXT"
END_OBJECT = COMPRESSED_FILE
END
