PDS_VERSION_ID = PDS3
/* FILE DATA ELEMENTS */
RECORD_TYPE = STREAM
/* POINTERS TO DATA OBJECTS */
^COMPRESSED_FILE = "H1635_0006_SR3.JP2"
/* IDENTIFICATION DATA ELEMENTS */
DATA_SET_ID = "MEX-M-HRSC-5-REFDR-MAPPROJECTED-V3.0"
DATA_SET_NAME = "MARS EXPRESS HRSC MAP PROJECTED REFDR V3.0"
DETECTOR_ID = MEX_HRSC_SRC
EVENT_TYPE = "MARS-GLOBAL-MAPPING-Vo-Lc-Eo"
INSTRUMENT_HOST_ID = MEX
INSTRUMENT_HOST_NAME = "MARS EXPRESS"
INSTRUMENT_ID = HRSC
INSTRUMENT_NAME = "HIGH RESOLUTION STEREO CAMERA"
MISSION_NAME = "MARS EXPRESS"
MISSION_PHASE_NAME = MR_Phase_6
PROCESSING_LEVEL_ID = 3
PRODUCT_CREATION_TIME = 2016-03-09T06:48:11.000Z
PRODUCT_ID = "H1635_0006_SR3.JP2"
RELEASE_ID = 0021
REVISION_ID = 0000
/* QUALITY DATA ELEMENTS */
DATA_QUALITY_ID = 1
DATA_QUALITY_DESC = "Data calculated based on original SPICE kernels"
/* TIME DATA ELEMENTS */
SPACECRAFT_CLOCK_START_COUNT = "1/0062518702.57134"
SPACECRAFT_CLOCK_STOP_COUNT = "1/0062520726.21028"
IMAGE_TIME = 2005-04-25T14:23:24.299Z
START_TIME = 2005-04-25T14:23:24.296Z
STOP_TIME = 2005-04-25T14:23:24.301Z
/* ORBITAL DATA ELEMENTS */
ASCENDING_NODE_LONGITUDE = 194.18
MAXIMUM_RESOLUTION = 13.869
FOOTPRINT_POINT_LATITUDE = (36.7869,36.7799,36.7705,36.7566, 36.7461,36.7346,36.7275,36.7184,36.7116 ,36.7029,36.6968,36.6893,36.6792, 36.6721,36.6632,36.6522,36.6421,36.6282 ,36.6195,36.6083,36.5975,36.589,36.5789 ,36.5705,36.5621,36.5622,36.5623, 36.5624,36.5625,36.5626,36.5628,36.5629 ,36.563,36.5631,36.5632,36.5633,36.5634 ,36.5635,36.5636,36.5638,36.5639,36.564 ,36.5641,36.5642,36.5643,36.5644, 36.5645,36.5646,36.5647,36.5706,36.5823 ,36.5917,36.5981,36.6075,36.6166, 36.6309,36.6375,36.6502,36.6591,36.6666 ,36.6729,36.6816,36.6938,36.7021, 36.7119,36.7194,36.7298,36.7448,36.7521 ,36.7624,36.7715,36.7863,36.7941, 36.8011,36.801,36.8009,36.8008,36.8007, 36.8006,36.8005,36.8004,36.8003,36.8002 ,36.8001,36.8,36.7999,36.7998,36.7997, 36.7996,36.7995,36.7994,36.7993,36.7992 ,36.799,36.7989,36.7988,36.7987,36.7986 ,36.7985,36.7869)
FOOTPRINT_POINT_LONGITUDE = (198.595,198.595,198.594,198.594, 198.594,198.594,198.594,198.594,198.593 ,198.593,198.593,198.593,198.593, 198.593,198.593,198.592,198.592,198.592 ,198.592,198.592,198.592,198.591, 198.591,198.591,198.588,198.576,198.564 ,198.553,198.541,198.529,198.518, 198.506,198.494,198.483,198.471,198.459 ,198.448,198.436,198.424,198.407, 198.395,198.383,198.372,198.36,198.348, 198.336,198.325,198.313,198.301,198.294 ,198.294,198.294,198.295,198.295, 198.295,198.295,198.295,198.295,198.295 ,198.295,198.295,198.296,198.296, 198.296,198.296,198.296,198.296,198.296 ,198.296,198.297,198.297,198.297, 198.297,198.297,198.309,198.321,198.332 ,198.344,198.356,198.368,198.379, 198.391,198.403,198.415,198.426,198.438 ,198.45,198.461,198.473,198.485,198.497 ,198.508,198.52,198.532,198.544,198.555 ,198.567,198.579,198.59,198.595)
ORBIT_NUMBER = 1635
ORBITAL_ECCENTRICITY = 0.566
ORBITAL_INCLINATION = 86.6
ORBITAL_SEMIMAJOR_AXIS = 8542.25
PERIAPSIS_ALTITUDE = 325.43
PERIAPSIS_ARGUMENT_ANGLE = 72.3
PERIAPSIS_TIME = 2005-04-25T14:01:29.000Z
SPACECRAFT_ORIENTATION = (0.0,1.0,0.0)
^MEX_ORIENTATION_DESC = "MEX_ORIENTATION_DESC.TXT"
SPACECRAFT_POINTING_MODE = NADIR
^MEX_POINTING_DESC = "MEX_POINTING_DESC.TXT"
RIGHT_ASCENSION = -1e+32
DECLINATION = -1e+32
OFFSET_ANGLE = -1e+32
SPACECRAFT_SOLAR_DISTANCE = 2.13543e+08
TARGET_NAME = MARS
/* CAMERA DATA ELEMENTS */
BUFFER_MODE_ID = BUFFER_8
EXPOSURE_DURATION = 5.04
INST_CMPRS_NAME = NONE
INST_CMPRS_RATIO = 1.0
INST_CMPRS_QUALITY = -2147483648
INST_CMPRS_QUANTZ_TBL_ID = -2147483648
INSTRUMENT_TEMPERATURE = 14.2424
MISSING_FRAMES = 0
START_BIT = 0
/* RADIOMETRIC DATA ELEMENTS */
BANDWIDTH = 250.0
CENTER_FILTER_WAVELENGTH = 600.0
RADIANCE_OFFSET = -9.99e+31
RADIANCE_SCALING_FACTOR = -9.99e+31
REFLECTANCE_SCALING_FACTOR = -9.99e+31
MEX:REFLECTANCE_OFFSET = -9.99e+31
/* IMAGE OBJECT DEFINITIONS */
OBJECT = IMAGE
  INTERCHANGE_FORMAT = BINARY
  LINES = 1465
  LINE_SAMPLES = 1471
  SAMPLE_TYPE = UNSIGNED_INTEGER
  SAMPLE_BITS = 8
  BANDS = 1
  BAND_STORAGE_TYPE = BAND_SEQUENTIAL
  MAXIMUM = 4717
  MEAN = 4234.66
  MINIMUM = 3606
  STANDARD_DEVIATION = 113.758
END_OBJECT = IMAGE
/* MAP OBJECT DEFINITIONS */
OBJECT = IMAGE_MAP_PROJECTION
  ^DATA_SET_MAP_PROJECTION_CATALOG= "DSMAP.CAT"
  A_AXIS_RADIUS = 3396.19
  B_AXIS_RADIUS = 3396.19
  C_AXIS_RADIUS = 3396.19
  CENTER_LATITUDE = 0.0
  CENTER_LONGITUDE = 198.0
  COORDINATE_SYSTEM_NAME = PLANETOGRAPHIC
  COORDINATE_SYSTEM_TYPE = "BODY-FIXED ROTATING"
  EASTERNMOST_LONGITUDE = 198.595
  FIRST_STANDARD_PARALLEL = "N/A"
  LINE_FIRST_PIXEL = 1
  LINE_LAST_PIXEL = 1465
  LINE_PROJECTION_OFFSET = 217994.0
  MAP_PROJECTION_ROTATION = 0.0
  MAP_PROJECTION_TYPE = SINUSOIDAL
  MAP_RESOLUTION = 5927.46965121889
  MAP_SCALE = 0.01
  MAXIMUM_LATITUDE = 36.8011
  MINIMUM_LATITUDE = 36.5621
  POSITIVE_LONGITUDE_DIRECTION = EAST
  REFERENCE_LATITUDE = "N/A"
  REFERENCE_LONGITUDE = "N/A"
  SAMPLE_FIRST_PIXEL = 1
  SAMPLE_LAST_PIXEL = 1471
  SAMPLE_PROJECTION_OFFSET = -1372.0
  SECOND_STANDARD_PARALLEL = "N/A"
  WESTERNMOST_LONGITUDE = 198.294
END_OBJECT = IMAGE_MAP_PROJECTION
/* The JPEG2000 image data file associated with this label. */
OBJECT = COMPRESSED_FILE
  FILE_NAME = "H1635_0006_SR3.JP2"
  RECORD_TYPE = UNDEFINED
  FILE_RECORDS = UNK
  ENCODING_TYPE = "JP2"
  INTERCHANGE_FORMAT = BINARY
  UNCOMPRESSED_FILE_NAME = "H1635_0006_SR3.IMG"
  REQUIRED_STORAGE_BYTES = "2175609"
  ^DESCRIPTION = "JP2INFO.TXT"
END_OBJECT = COMPRESSED_FILE
END
