PDS_VERSION_ID = PDS3
/* FILE DATA ELEMENTS */
RECORD_TYPE = STREAM
/* POINTERS TO DATA OBJECTS */
^COMPRESSED_FILE = "H1635_0007_SR3.JP2"
/* IDENTIFICATION DATA ELEMENTS */
DATA_SET_ID = "MEX-M-HRSC-5-REFDR-MAPPROJECTED-V3.0"
DATA_SET_NAME = "MARS EXPRESS HRSC MAP PROJECTED REFDR V3.0"
DETECTOR_ID = MEX_HRSC_SRC
EVENT_TYPE = "MARS-GLOBAL-MAPPING-Vo-Lc-Eo"
INSTRUMENT_HOST_ID = MEX
INSTRUMENT_HOST_NAME = "MARS EXPRESS"
INSTRUMENT_ID = HRSC
INSTRUMENT_NAME = "HIGH RESOLUTION STEREO CAMERA"
MISSION_NAME = "MARS EXPRESS"
MISSION_PHASE_NAME = MR_Phase_6
PROCESSING_LEVEL_ID = 3
PRODUCT_CREATION_TIME = 2016-03-09T06:48:11.000Z
PRODUCT_ID = "H1635_0007_SR3.JP2"
RELEASE_ID = 0021
REVISION_ID = 0000
/* QUALITY DATA ELEMENTS */
DATA_QUALITY_ID = 1
DATA_QUALITY_DESC = "Data calculated based on original SPICE kernels"
/* TIME DATA ELEMENTS */
SPACECRAFT_CLOCK_START_COUNT = "1/0062518702.57134"
SPACECRAFT_CLOCK_STOP_COUNT = "1/0062520726.21028"
IMAGE_TIME = 2005-04-25T14:23:29.749Z
START_TIME = 2005-04-25T14:23:29.747Z
STOP_TIME = 2005-04-25T14:23:29.752Z
/* ORBITAL DATA ELEMENTS */
ASCENDING_NODE_LONGITUDE = 194.18
MAXIMUM_RESOLUTION = 13.942
FOOTPRINT_POINT_LATITUDE = (36.5927,36.5811,36.5719,36.5575, 36.5495,36.5389,36.5262,36.5177,36.5045 ,36.4974,36.4853,36.4773,36.4702, 36.4618,36.4521,36.445,36.4389,36.4271, 36.4146,36.4049,36.399,36.3898,36.3775, 36.369,36.357,36.3571,36.3572,36.3574, 36.3575,36.3576,36.3577,36.3579,36.358, 36.3581,36.3582,36.3583,36.3584,36.3586 ,36.3587,36.3588,36.3589,36.359,36.3591 ,36.3592,36.3593,36.3595,36.3596, 36.3597,36.3598,36.3608,36.3679,36.3747 ,36.3863,36.3941,36.4035,36.4101, 36.4189,36.4297,36.4366,36.4474,36.4564 ,36.4642,36.4741,36.4821,36.4901,36.501 ,36.5121,36.5248,36.5352,36.5435, 36.5512,36.5656,36.5755,36.5847,36.5925 ,36.5974,36.5973,36.5972,36.5971,36.597 ,36.5969,36.5968,36.5967,36.5966, 36.5965,36.5963,36.5962,36.5961,36.596, 36.5959,36.5957,36.5956,36.5955,36.5954 ,36.5953,36.5951,36.595,36.5949,36.5948 ,36.5927)
FOOTPRINT_POINT_LONGITUDE = (198.592,198.592,198.592,198.591, 198.591,198.591,198.591,198.591,198.59, 198.59,198.59,198.59,198.59,198.59, 198.59,198.589,198.589,198.589,198.589, 198.589,198.589,198.588,198.588,198.588 ,198.588,198.576,198.564,198.552, 198.541,198.529,198.517,198.506,198.494 ,198.482,198.47,198.459,198.447,198.435 ,198.424,198.409,198.397,198.385, 198.374,198.362,198.35,198.339,198.327, 198.315,198.303,198.291,198.291,198.291 ,198.291,198.291,198.291,198.291, 198.291,198.291,198.292,198.292,198.292 ,198.292,198.292,198.292,198.292, 198.292,198.293,198.293,198.293,198.293 ,198.293,198.293,198.293,198.293, 198.294,198.303,198.314,198.326,198.338 ,198.35,198.362,198.373,198.385,198.397 ,198.409,198.423,198.435,198.447, 198.459,198.47,198.482,198.494,198.506, 198.517,198.529,198.541,198.553,198.564 ,198.576,198.592)
ORBIT_NUMBER = 1635
ORBITAL_ECCENTRICITY = 0.566
ORBITAL_INCLINATION = 86.6
ORBITAL_SEMIMAJOR_AXIS = 8542.25
PERIAPSIS_ALTITUDE = 325.43
PERIAPSIS_ARGUMENT_ANGLE = 72.3
PERIAPSIS_TIME = 2005-04-25T14:01:29.000Z
SPACECRAFT_ORIENTATION = (0.0,1.0,0.0)
^MEX_ORIENTATION_DESC = "MEX_ORIENTATION_DESC.TXT"
SPACECRAFT_POINTING_MODE = NADIR
^MEX_POINTING_DESC = "MEX_POINTING_DESC.TXT"
RIGHT_ASCENSION = -1e+32
DECLINATION = -1e+32
OFFSET_ANGLE = -1e+32
SPACECRAFT_SOLAR_DISTANCE = 2.13543e+08
TARGET_NAME = MARS
/* CAMERA DATA ELEMENTS */
BUFFER_MODE_ID = BUFFER_8
EXPOSURE_DURATION = 5.04
INST_CMPRS_NAME = NONE
INST_CMPRS_RATIO = 1.0
INST_CMPRS_QUALITY = -2147483648
INST_CMPRS_QUANTZ_TBL_ID = -2147483648
INSTRUMENT_TEMPERATURE = 14.2424
MISSING_FRAMES = 0
START_BIT = 0
/* RADIOMETRIC DATA ELEMENTS */
BANDWIDTH = 250.0
CENTER_FILTER_WAVELENGTH = 600.0
RADIANCE_OFFSET = -9.99e+31
RADIANCE_SCALING_FACTOR = -9.99e+31
REFLECTANCE_SCALING_FACTOR = -9.99e+31
MEX:REFLECTANCE_OFFSET = -9.99e+31
/* IMAGE OBJECT DEFINITIONS */
OBJECT = IMAGE
  INTERCHANGE_FORMAT = BINARY
  LINES = 1473
  LINE_SAMPLES = 1478
  SAMPLE_TYPE = UNSIGNED_INTEGER
  SAMPLE_BITS = 8
  BANDS = 1
  BAND_STORAGE_TYPE = BAND_SEQUENTIAL
  MAXIMUM = 4990
  MEAN = 4430.7
  MINIMUM = 3736
  STANDARD_DEVIATION = 113.092
END_OBJECT = IMAGE
/* MAP OBJECT DEFINITIONS */
OBJECT = IMAGE_MAP_PROJECTION
  ^DATA_SET_MAP_PROJECTION_CATALOG= "DSMAP.CAT"
  A_AXIS_RADIUS = 3396.19
  B_AXIS_RADIUS = 3396.19
  C_AXIS_RADIUS = 3396.19
  CENTER_LATITUDE = 0.0
  CENTER_LONGITUDE = 198.0
  COORDINATE_SYSTEM_NAME = PLANETOGRAPHIC
  COORDINATE_SYSTEM_TYPE = "BODY-FIXED ROTATING"
  EASTERNMOST_LONGITUDE = 198.592
  FIRST_STANDARD_PARALLEL = "N/A"
  LINE_FIRST_PIXEL = 1
  LINE_LAST_PIXEL = 1473
  LINE_PROJECTION_OFFSET = 216789.0
  MAP_PROJECTION_ROTATION = 0.0
  MAP_PROJECTION_TYPE = SINUSOIDAL
  MAP_RESOLUTION = 5927.46965121889
  MAP_SCALE = 0.01
  MAXIMUM_LATITUDE = 36.5974
  MINIMUM_LATITUDE = 36.357
  POSITIVE_LONGITUDE_DIRECTION = EAST
  REFERENCE_LATITUDE = "N/A"
  REFERENCE_LONGITUDE = "N/A"
  SAMPLE_FIRST_PIXEL = 1
  SAMPLE_LAST_PIXEL = 1478
  SAMPLE_PROJECTION_OFFSET = -1359.0
  SECOND_STANDARD_PARALLEL = "N/A"
  WESTERNMOST_LONGITUDE = 198.291
END_OBJECT = IMAGE_MAP_PROJECTION
/* The JPEG2000 image data file associated with this label. */
OBJECT = COMPRESSED_FILE
  FILE_NAME = "H1635_0007_SR3.JP2"
  RECORD_TYPE = UNDEFINED
  FILE_RECORDS = UNK
  ENCODING_TYPE = "JP2"
  INTERCHANGE_FORMAT = BINARY
  UNCOMPRESSED_FILE_NAME = "H1635_0007_SR3.IMG"
  REQUIRED_STORAGE_BYTES = "2196308"
  ^DESCRIPTION = "JP2INFO.TXT"
END_OBJECT = COMPRESSED_FILE
END
