PDS_VERSION_ID = PDS3
/* FILE DATA ELEMENTS */
RECORD_TYPE = STREAM
/* POINTERS TO DATA OBJECTS */
^COMPRESSED_FILE = "H1636_0001_SR3.JP2"
/* IDENTIFICATION DATA ELEMENTS */
DATA_SET_ID = "MEX-M-HRSC-5-REFDR-MAPPROJECTED-V3.0"
DATA_SET_NAME = "MARS EXPRESS HRSC MAP PROJECTED REFDR V3.0"
DETECTOR_ID = MEX_HRSC_SRC
EVENT_TYPE = "MARS-REGIONAL-MAPPING-Te-Im-Pf"
INSTRUMENT_HOST_ID = MEX
INSTRUMENT_HOST_NAME = "MARS EXPRESS"
INSTRUMENT_ID = HRSC
INSTRUMENT_NAME = "HIGH RESOLUTION STEREO CAMERA"
MISSION_NAME = "MARS EXPRESS"
MISSION_PHASE_NAME = MR_Phase_6
PROCESSING_LEVEL_ID = 3
PRODUCT_CREATION_TIME = 2016-03-09T06:48:11.000Z
PRODUCT_ID = "H1636_0001_SR3.JP2"
RELEASE_ID = 0021
REVISION_ID = 0000
/* QUALITY DATA ELEMENTS */
DATA_QUALITY_ID = 1
DATA_QUALITY_DESC = "Data calculated based on original SPICE kernels"
/* TIME DATA ELEMENTS */
SPACECRAFT_CLOCK_START_COUNT = "1/0062542500.57962"
SPACECRAFT_CLOCK_STOP_COUNT = "1/0062543816.33741"
IMAGE_TIME = 2005-04-25T20:57:09.510Z
START_TIME = 2005-04-25T20:57:09.252Z
STOP_TIME = 2005-04-25T20:57:09.768Z
/* ORBITAL DATA ELEMENTS */
ASCENDING_NODE_LONGITUDE = 194.17
MAXIMUM_RESOLUTION = 7.003
FOOTPRINT_POINT_LATITUDE = (62.7614,62.7548,62.7513,62.7474, 62.7414,62.7373,62.7327,62.729,62.7241, 62.719,62.7153,62.7099,62.7038,62.6974, 62.6909,62.6862,62.6825,62.6766,62.6725 ,62.6672,62.6634,62.6577,62.6544, 62.6505,62.6468,62.6435,62.6431,62.6426 ,62.6422,62.6418,62.6412,62.6407, 62.6403,62.6399,62.6394,62.639,62.6385, 62.6381,62.6376,62.6371,62.6367,62.6362 ,62.6358,62.6353,62.6349,62.6344,62.634 ,62.6335,62.633,62.6337,62.6372,62.6418 ,62.6474,62.6517,62.6579,62.6642, 62.6695,62.6752,62.6799,62.683,62.6867, 62.6926,62.6956,62.7004,62.7042,62.709, 62.712,62.7164,62.7227,62.726,62.7311, 62.7368,62.7404,62.7455,62.7518,62.7523 ,62.7527,62.7532,62.7536,62.7541, 62.7546,62.755,62.7555,62.7559,62.7564, 62.7568,62.7573,62.7576,62.7581,62.7585 ,62.759,62.7594,62.7599,62.7603,62.7608 ,62.7612,62.7617,62.7621,62.7626, 62.7614)
FOOTPRINT_POINT_LONGITUDE = (98.5494,98.5508,98.5515,98.5523, 98.5535,98.5544,98.5553,98.556,98.5571, 98.5581,98.5589,98.56,98.5612,98.5625, 98.5638,98.5648,98.5655,98.5667,98.5676 ,98.5687,98.5694,98.5706,98.5713, 98.5721,98.5728,98.5654,98.5551,98.5448 ,98.5345,98.5242,98.5114,98.5011, 98.4908,98.4805,98.4702,98.4599,98.4496 ,98.4393,98.429,98.4188,98.4085,98.3982 ,98.3879,98.3776,98.3673,98.357,98.3467 ,98.3364,98.3262,98.3115,98.3107, 98.3097,98.3086,98.3077,98.3063,98.305, 98.3039,98.3027,98.3016,98.301,98.3002, 98.299,98.2983,98.2973,98.2965,98.2954, 98.2948,98.2939,98.2925,98.2918,98.2907 ,98.2895,98.2887,98.2877,98.2944, 98.3047,98.3151,98.3254,98.3357,98.346, 98.3564,98.3667,98.377,98.3874,98.3977, 98.408,98.4184,98.4261,98.4364,98.4468, 98.4571,98.4675,98.4778,98.4881,98.4985 ,98.5088,98.5191,98.5295,98.5398, 98.5494)
ORBIT_NUMBER = 1636
ORBITAL_ECCENTRICITY = 0.566
ORBITAL_INCLINATION = 86.61
ORBITAL_SEMIMAJOR_AXIS = 8539.34
PERIAPSIS_ALTITUDE = 325.14
PERIAPSIS_ARGUMENT_ANGLE = 72.11
PERIAPSIS_TIME = 2005-04-25T20:44:52.000Z
SPACECRAFT_ORIENTATION = (0.0,1.0,0.0)
^MEX_ORIENTATION_DESC = "MEX_ORIENTATION_DESC.TXT"
SPACECRAFT_POINTING_MODE = NADIR
^MEX_POINTING_DESC = "MEX_POINTING_DESC.TXT"
RIGHT_ASCENSION = -1e+32
DECLINATION = -1e+32
OFFSET_ANGLE = -1e+32
SPACECRAFT_SOLAR_DISTANCE = 2.135e+08
TARGET_NAME = MARS
/* CAMERA DATA ELEMENTS */
BUFFER_MODE_ID = BUFFER_8
EXPOSURE_DURATION = 516.096
INST_CMPRS_NAME = NONE
INST_CMPRS_RATIO = 1.0
INST_CMPRS_QUALITY = -2147483648
INST_CMPRS_QUANTZ_TBL_ID = -2147483648
INSTRUMENT_TEMPERATURE = 8.18182
MISSING_FRAMES = 0
START_BIT = 0
/* RADIOMETRIC DATA ELEMENTS */
BANDWIDTH = 250.0
CENTER_FILTER_WAVELENGTH = 600.0
RADIANCE_OFFSET = -9.99e+31
RADIANCE_SCALING_FACTOR = -9.99e+31
REFLECTANCE_SCALING_FACTOR = -9.99e+31
MEX:REFLECTANCE_OFFSET = -9.99e+31
/* IMAGE OBJECT DEFINITIONS */
OBJECT = IMAGE
  INTERCHANGE_FORMAT = BINARY
  LINES = 1620
  LINE_SAMPLES = 1642
  SAMPLE_TYPE = UNSIGNED_INTEGER
  SAMPLE_BITS = 8
  BANDS = 1
  BAND_STORAGE_TYPE = BAND_SEQUENTIAL
  MAXIMUM = 13964
  MEAN = 9808.77
  MINIMUM = 0
  STANDARD_DEVIATION = 5711.04
END_OBJECT = IMAGE
/* MAP OBJECT DEFINITIONS */
OBJECT = IMAGE_MAP_PROJECTION
  ^DATA_SET_MAP_PROJECTION_CATALOG= "DSMAP.CAT"
  A_AXIS_RADIUS = 3396.19
  B_AXIS_RADIUS = 3396.19
  C_AXIS_RADIUS = 3396.19
  CENTER_LATITUDE = 0.0
  CENTER_LONGITUDE = 98.0
  COORDINATE_SYSTEM_NAME = PLANETOGRAPHIC
  COORDINATE_SYSTEM_TYPE = "BODY-FIXED ROTATING"
  EASTERNMOST_LONGITUDE = 98.5728
  FIRST_STANDARD_PARALLEL = "N/A"
  LINE_FIRST_PIXEL = 1
  LINE_LAST_PIXEL = 1620
  LINE_PROJECTION_OFFSET = 742696.0
  MAP_PROJECTION_ROTATION = 0.0
  MAP_PROJECTION_TYPE = SINUSOIDAL
  MAP_RESOLUTION = 11854.9393024378
  MAP_SCALE = 0.005
  MAXIMUM_LATITUDE = 62.7626
  MINIMUM_LATITUDE = 62.633
  POSITIVE_LONGITUDE_DIRECTION = EAST
  REFERENCE_LATITUDE = "N/A"
  REFERENCE_LONGITUDE = "N/A"
  SAMPLE_FIRST_PIXEL = 1
  SAMPLE_LAST_PIXEL = 1642
  SAMPLE_PROJECTION_OFFSET = -1508.0
  SECOND_STANDARD_PARALLEL = "N/A"
  WESTERNMOST_LONGITUDE = 98.2877
END_OBJECT = IMAGE_MAP_PROJECTION
/* The JPEG2000 image data file associated with this label. */
OBJECT = COMPRESSED_FILE
  FILE_NAME = "H1636_0001_SR3.JP2"
  RECORD_TYPE = UNDEFINED
  FILE_RECORDS = UNK
  ENCODING_TYPE = "JP2"
  INTERCHANGE_FORMAT = BINARY
  UNCOMPRESSED_FILE_NAME = "H1636_0001_SR3.IMG"
  REQUIRED_STORAGE_BYTES = "2679744"
  ^DESCRIPTION = "JP2INFO.TXT"
END_OBJECT = COMPRESSED_FILE
END
