PDS_VERSION_ID = PDS3
/* FILE DATA ELEMENTS */
RECORD_TYPE = STREAM
/* POINTERS TO DATA OBJECTS */
^COMPRESSED_FILE = "H1636_0005_SR3.JP2"
/* IDENTIFICATION DATA ELEMENTS */
DATA_SET_ID = "MEX-M-HRSC-5-REFDR-MAPPROJECTED-V3.0"
DATA_SET_NAME = "MARS EXPRESS HRSC MAP PROJECTED REFDR V3.0"
DETECTOR_ID = MEX_HRSC_SRC
EVENT_TYPE = "MARS-REGIONAL-MAPPING-Te-Im-Pf"
INSTRUMENT_HOST_ID = MEX
INSTRUMENT_HOST_NAME = "MARS EXPRESS"
INSTRUMENT_ID = HRSC
INSTRUMENT_NAME = "HIGH RESOLUTION STEREO CAMERA"
MISSION_NAME = "MARS EXPRESS"
MISSION_PHASE_NAME = MR_Phase_6
PROCESSING_LEVEL_ID = 3
PRODUCT_CREATION_TIME = 2016-03-09T06:48:11.000Z
PRODUCT_ID = "H1636_0005_SR3.JP2"
RELEASE_ID = 0021
REVISION_ID = 0000
/* QUALITY DATA ELEMENTS */
DATA_QUALITY_ID = 1
DATA_QUALITY_DESC = "Data calculated based on original SPICE kernels"
/* TIME DATA ELEMENTS */
SPACECRAFT_CLOCK_START_COUNT = "1/0062542500.57962"
SPACECRAFT_CLOCK_STOP_COUNT = "1/0062543816.33741"
IMAGE_TIME = 2005-04-25T20:57:17.685Z
START_TIME = 2005-04-25T20:57:17.683Z
STOP_TIME = 2005-04-25T20:57:17.688Z
/* ORBITAL DATA ELEMENTS */
ASCENDING_NODE_LONGITUDE = 194.17
MAXIMUM_RESOLUTION = 7.085
FOOTPRINT_POINT_LATITUDE = (62.3326,62.329,62.3237,62.3178,62.3112 ,62.3063,62.3006,62.2967,62.2918, 62.2875,62.2837,62.2777,62.2735,62.2694 ,62.2658,62.2598,62.256,62.2512,62.2481 ,62.2433,62.2389,62.2349,62.2291, 62.2233,62.2169,62.2165,62.216,62.2156, 62.2151,62.2147,62.2143,62.2138,62.2135 ,62.2131,62.2126,62.2121,62.2115, 62.2111,62.2106,62.2102,62.2097,62.2093 ,62.2088,62.2084,62.2079,62.2075,62.207 ,62.2066,62.2061,62.2076,62.2127, 62.2202,62.2259,62.2297,62.2336,62.2367 ,62.2404,62.2453,62.2515,62.2568, 62.2606,62.266,62.2693,62.276,62.2807, 62.2852,62.2887,62.2944,62.2988,62.3039 ,62.3105,62.3175,62.3229,62.3266, 62.3271,62.3275,62.328,62.3284,62.3289, 62.3293,62.3298,62.3302,62.3307,62.3313 ,62.3317,62.332,62.3325,62.3328,62.3332 ,62.3336,62.334,62.3344,62.3348,62.3353 ,62.3357,62.3361,62.3366,62.337,62.3374 ,62.3326)
FOOTPRINT_POINT_LONGITUDE = (98.636,98.6367,98.6377,98.6389,98.6402 ,98.6411,98.6422,98.643,98.644,98.6448, 98.6456,98.6467,98.6476,98.6484,98.6491 ,98.6502,98.651,98.6519,98.6525,98.6535 ,98.6543,98.6551,98.6562,98.6574, 98.6532,98.6429,98.6326,98.6224,98.6121 ,98.6018,98.5916,98.5813,98.5736, 98.5633,98.5531,98.5402,98.5274,98.5171 ,98.5069,98.4966,98.4864,98.4761, 98.4658,98.4556,98.4453,98.435,98.4248, 98.4145,98.4042,98.3972,98.3962,98.3946 ,98.3935,98.3927,98.3919,98.3913, 98.3905,98.3895,98.3883,98.3872,98.3864 ,98.3853,98.3846,98.3832,98.3823, 98.3814,98.3807,98.3795,98.3786,98.3775 ,98.3762,98.3747,98.3736,98.3809, 98.3912,98.4015,98.4118,98.4221,98.4324 ,98.4428,98.4531,98.4634,98.4737, 98.4865,98.4968,98.5046,98.5149,98.5226 ,98.5303,98.5407,98.551,98.5587,98.569, 98.5793,98.5896,98.5999,98.6102,98.6206 ,98.6309,98.636)
ORBIT_NUMBER = 1636
ORBITAL_ECCENTRICITY = 0.566
ORBITAL_INCLINATION = 86.61
ORBITAL_SEMIMAJOR_AXIS = 8539.34
PERIAPSIS_ALTITUDE = 325.14
PERIAPSIS_ARGUMENT_ANGLE = 72.11
PERIAPSIS_TIME = 2005-04-25T20:44:52.000Z
SPACECRAFT_ORIENTATION = (0.0,1.0,0.0)
^MEX_ORIENTATION_DESC = "MEX_ORIENTATION_DESC.TXT"
SPACECRAFT_POINTING_MODE = NADIR
^MEX_POINTING_DESC = "MEX_POINTING_DESC.TXT"
RIGHT_ASCENSION = -1e+32
DECLINATION = -1e+32
OFFSET_ANGLE = -1e+32
SPACECRAFT_SOLAR_DISTANCE = 2.135e+08
TARGET_NAME = MARS
/* CAMERA DATA ELEMENTS */
BUFFER_MODE_ID = BUFFER_8
EXPOSURE_DURATION = 5.04
INST_CMPRS_NAME = NONE
INST_CMPRS_RATIO = 1.0
INST_CMPRS_QUALITY = -2147483648
INST_CMPRS_QUANTZ_TBL_ID = -2147483648
INSTRUMENT_TEMPERATURE = 8.18182
MISSING_FRAMES = 0
START_BIT = 0
/* RADIOMETRIC DATA ELEMENTS */
BANDWIDTH = 250.0
CENTER_FILTER_WAVELENGTH = 600.0
RADIANCE_OFFSET = -9.99e+31
RADIANCE_SCALING_FACTOR = -9.99e+31
REFLECTANCE_SCALING_FACTOR = -9.99e+31
MEX:REFLECTANCE_OFFSET = -9.99e+31
/* IMAGE OBJECT DEFINITIONS */
OBJECT = IMAGE
  INTERCHANGE_FORMAT = BINARY
  LINES = 1635
  LINE_SAMPLES = 1638
  SAMPLE_TYPE = UNSIGNED_INTEGER
  SAMPLE_BITS = 8
  BANDS = 1
  BAND_STORAGE_TYPE = BAND_SEQUENTIAL
  MAXIMUM = 2326
  MEAN = 2063.3
  MINIMUM = 1759
  STANDARD_DEVIATION = 56.717
END_OBJECT = IMAGE
/* MAP OBJECT DEFINITIONS */
OBJECT = IMAGE_MAP_PROJECTION
  ^DATA_SET_MAP_PROJECTION_CATALOG= "DSMAP.CAT"
  A_AXIS_RADIUS = 3396.19
  B_AXIS_RADIUS = 3396.19
  C_AXIS_RADIUS = 3396.19
  CENTER_LATITUDE = 0.0
  CENTER_LONGITUDE = 99.0
  COORDINATE_SYSTEM_NAME = PLANETOGRAPHIC
  COORDINATE_SYSTEM_TYPE = "BODY-FIXED ROTATING"
  EASTERNMOST_LONGITUDE = 98.6574
  FIRST_STANDARD_PARALLEL = "N/A"
  LINE_FIRST_PIXEL = 1
  LINE_LAST_PIXEL = 1635
  LINE_PROJECTION_OFFSET = 737677.0
  MAP_PROJECTION_ROTATION = 0.0
  MAP_PROJECTION_TYPE = SINUSOIDAL
  MAP_RESOLUTION = 11854.9393024378
  MAP_SCALE = 0.005
  MAXIMUM_LATITUDE = 62.3374
  MINIMUM_LATITUDE = 62.2061
  POSITIVE_LONGITUDE_DIRECTION = EAST
  REFERENCE_LATITUDE = "N/A"
  REFERENCE_LONGITUDE = "N/A"
  SAMPLE_FIRST_PIXEL = 1
  SAMPLE_LAST_PIXEL = 1638
  SAMPLE_PROJECTION_OFFSET = 3476.0
  SECOND_STANDARD_PARALLEL = "N/A"
  WESTERNMOST_LONGITUDE = 98.3736
END_OBJECT = IMAGE_MAP_PROJECTION
/* The JPEG2000 image data file associated with this label. */
OBJECT = COMPRESSED_FILE
  FILE_NAME = "H1636_0005_SR3.JP2"
  RECORD_TYPE = UNDEFINED
  FILE_RECORDS = UNK
  ENCODING_TYPE = "JP2"
  INTERCHANGE_FORMAT = BINARY
  UNCOMPRESSED_FILE_NAME = "H1636_0005_SR3.IMG"
  REQUIRED_STORAGE_BYTES = "2697786"
  ^DESCRIPTION = "JP2INFO.TXT"
END_OBJECT = COMPRESSED_FILE
END
