PDS_VERSION_ID = PDS3
/* FILE DATA ELEMENTS */
RECORD_TYPE = STREAM
/* POINTERS TO DATA OBJECTS */
^COMPRESSED_FILE = "H1636_0008_SR3.JP2"
/* IDENTIFICATION DATA ELEMENTS */
DATA_SET_ID = "MEX-M-HRSC-5-REFDR-MAPPROJECTED-V3.0"
DATA_SET_NAME = "MARS EXPRESS HRSC MAP PROJECTED REFDR V3.0"
DETECTOR_ID = MEX_HRSC_SRC
EVENT_TYPE = "MARS-REGIONAL-MAPPING-Te-Im-Pf"
INSTRUMENT_HOST_ID = MEX
INSTRUMENT_HOST_NAME = "MARS EXPRESS"
INSTRUMENT_ID = HRSC
INSTRUMENT_NAME = "HIGH RESOLUTION STEREO CAMERA"
MISSION_NAME = "MARS EXPRESS"
MISSION_PHASE_NAME = MR_Phase_6
PROCESSING_LEVEL_ID = 3
PRODUCT_CREATION_TIME = 2016-03-09T06:48:11.000Z
PRODUCT_ID = "H1636_0008_SR3.JP2"
RELEASE_ID = 0021
REVISION_ID = 0000
/* QUALITY DATA ELEMENTS */
DATA_QUALITY_ID = 1
DATA_QUALITY_DESC = "Data calculated based on original SPICE kernels"
/* TIME DATA ELEMENTS */
SPACECRAFT_CLOCK_START_COUNT = "1/0062542500.57962"
SPACECRAFT_CLOCK_STOP_COUNT = "1/0062543816.33741"
IMAGE_TIME = 2005-04-25T20:57:24.225Z
START_TIME = 2005-04-25T20:57:24.223Z
STOP_TIME = 2005-04-25T20:57:24.228Z
/* ORBITAL DATA ELEMENTS */
ASCENDING_NODE_LONGITUDE = 194.17
MAXIMUM_RESOLUTION = 7.15
FOOTPRINT_POINT_LATITUDE = (61.9973,61.9932,61.9883,61.9818,61.977 ,61.9736,61.9676,61.963,61.9579,61.9546 ,61.9511,61.9459,61.9406,61.937,61.9318 ,61.9269,61.9236,61.9198,61.9149, 61.9079,61.904,61.899,61.8952,61.8907, 61.8858,61.8806,61.877,61.8764,61.8759, 61.8756,61.8751,61.8748,61.8745,61.8739 ,61.8735,61.8731,61.8726,61.8722, 61.8717,61.8713,61.8709,61.8704,61.87, 61.8695,61.8691,61.8685,61.8681,61.8677 ,61.8672,61.8668,61.8663,61.8659, 61.8705,61.8744,61.8797,61.8836,61.89, 61.8941,61.8996,61.9033,61.9093,61.9127 ,61.9198,61.9248,61.9297,61.9365, 61.9444,61.9506,61.9542,61.9593,61.9639 ,61.9687,61.9758,61.9792,61.9874,61.988 ,61.9884,61.9889,61.9893,61.9898, 61.9902,61.9907,61.9911,61.9917,61.9921 ,61.9926,61.993,61.9933,61.9938,61.9942 ,61.9948,61.9952,61.9956,61.9961, 61.9965,61.997,61.9974,61.9978,61.9982, 61.9973)
FOOTPRINT_POINT_LONGITUDE = (98.7012,98.702,98.7029,98.7041,98.705, 98.7057,98.7068,98.7077,98.7087,98.7093 ,98.71,98.7109,98.7119,98.7126,98.7136, 98.7146,98.7152,98.7159,98.7168,98.7181 ,98.7189,98.7198,98.7205,98.7214, 98.7223,98.7233,98.7237,98.7109,98.6981 ,98.6904,98.6802,98.6725,98.6648,98.652 ,98.6417,98.6315,98.6212,98.611,98.6007 ,98.5905,98.5802,98.57,98.5598,98.5495, 98.5393,98.5265,98.5162,98.506,98.4957, 98.4855,98.4752,98.465,98.4633,98.4625, 98.4615,98.4607,98.4595,98.4587,98.4576 ,98.4568,98.4557,98.455,98.4536,98.4526 ,98.4516,98.4503,98.4487,98.4475, 98.4468,98.4458,98.4448,98.4439,98.4425 ,98.4418,98.4404,98.4533,98.4636, 98.4738,98.4841,98.4944,98.5047,98.515, 98.5253,98.5381,98.5484,98.5587,98.569, 98.5767,98.587,98.5973,98.6101,98.6204, 98.6307,98.641,98.6513,98.6616,98.6719, 98.6822,98.6925,98.7012)
ORBIT_NUMBER = 1636
ORBITAL_ECCENTRICITY = 0.566
ORBITAL_INCLINATION = 86.61
ORBITAL_SEMIMAJOR_AXIS = 8539.34
PERIAPSIS_ALTITUDE = 325.14
PERIAPSIS_ARGUMENT_ANGLE = 72.11
PERIAPSIS_TIME = 2005-04-25T20:44:52.000Z
SPACECRAFT_ORIENTATION = (0.0,1.0,0.0)
^MEX_ORIENTATION_DESC = "MEX_ORIENTATION_DESC.TXT"
SPACECRAFT_POINTING_MODE = NADIR
^MEX_POINTING_DESC = "MEX_POINTING_DESC.TXT"
RIGHT_ASCENSION = -1e+32
DECLINATION = -1e+32
OFFSET_ANGLE = -1e+32
SPACECRAFT_SOLAR_DISTANCE = 2.135e+08
TARGET_NAME = MARS
/* CAMERA DATA ELEMENTS */
BUFFER_MODE_ID = BUFFER_8
EXPOSURE_DURATION = 5.04
INST_CMPRS_NAME = NONE
INST_CMPRS_RATIO = 1.0
INST_CMPRS_QUALITY = -2147483648
INST_CMPRS_QUANTZ_TBL_ID = -2147483648
INSTRUMENT_TEMPERATURE = 8.73204
MISSING_FRAMES = 0
START_BIT = 0
/* RADIOMETRIC DATA ELEMENTS */
BANDWIDTH = 250.0
CENTER_FILTER_WAVELENGTH = 600.0
RADIANCE_OFFSET = -9.99e+31
RADIANCE_SCALING_FACTOR = -9.99e+31
REFLECTANCE_SCALING_FACTOR = -9.99e+31
MEX:REFLECTANCE_OFFSET = -9.99e+31
/* IMAGE OBJECT DEFINITIONS */
OBJECT = IMAGE
  INTERCHANGE_FORMAT = BINARY
  LINES = 1646
  LINE_SAMPLES = 1647
  SAMPLE_TYPE = UNSIGNED_INTEGER
  SAMPLE_BITS = 8
  BANDS = 1
  BAND_STORAGE_TYPE = BAND_SEQUENTIAL
  MAXIMUM = 2415
  MEAN = 2143.13
  MINIMUM = 1762
  STANDARD_DEVIATION = 57.7589
END_OBJECT = IMAGE
/* MAP OBJECT DEFINITIONS */
OBJECT = IMAGE_MAP_PROJECTION
  ^DATA_SET_MAP_PROJECTION_CATALOG= "DSMAP.CAT"
  A_AXIS_RADIUS = 3396.19
  B_AXIS_RADIUS = 3396.19
  C_AXIS_RADIUS = 3396.19
  CENTER_LATITUDE = 0.0
  CENTER_LONGITUDE = 99.0
  COORDINATE_SYSTEM_NAME = PLANETOGRAPHIC
  COORDINATE_SYSTEM_TYPE = "BODY-FIXED ROTATING"
  EASTERNMOST_LONGITUDE = 98.72369999999999
  FIRST_STANDARD_PARALLEL = "N/A"
  LINE_FIRST_PIXEL = 1
  LINE_LAST_PIXEL = 1646
  LINE_PROJECTION_OFFSET = 733676.0
  MAP_PROJECTION_ROTATION = 0.0
  MAP_PROJECTION_TYPE = SINUSOIDAL
  MAP_RESOLUTION = 11854.9393024378
  MAP_SCALE = 0.005
  MAXIMUM_LATITUDE = 61.9982
  MINIMUM_LATITUDE = 61.8659
  POSITIVE_LONGITUDE_DIRECTION = EAST
  REFERENCE_LATITUDE = "N/A"
  REFERENCE_LONGITUDE = "N/A"
  SAMPLE_FIRST_PIXEL = 1
  SAMPLE_LAST_PIXEL = 1647
  SAMPLE_PROJECTION_OFFSET = 3142.0
  SECOND_STANDARD_PARALLEL = "N/A"
  WESTERNMOST_LONGITUDE = 98.4404
END_OBJECT = IMAGE_MAP_PROJECTION
/* The JPEG2000 image data file associated with this label. */
OBJECT = COMPRESSED_FILE
  FILE_NAME = "H1636_0008_SR3.JP2"
  RECORD_TYPE = UNDEFINED
  FILE_RECORDS = UNK
  ENCODING_TYPE = "JP2"
  INTERCHANGE_FORMAT = BINARY
  UNCOMPRESSED_FILE_NAME = "H1636_0008_SR3.IMG"
  REQUIRED_STORAGE_BYTES = "2730726"
  ^DESCRIPTION = "JP2INFO.TXT"
END_OBJECT = COMPRESSED_FILE
END
