PDS_VERSION_ID = PDS3
/* FILE DATA ELEMENTS */
RECORD_TYPE = STREAM
/* POINTERS TO DATA OBJECTS */
^COMPRESSED_FILE = "H1640_0000_ND3.JP2"
/* IDENTIFICATION DATA ELEMENTS */
DATA_SET_ID = "MEX-M-HRSC-5-REFDR-MAPPROJECTED-V3.0"
DATA_SET_NAME = "MARS EXPRESS HRSC MAP PROJECTED REFDR V3.0"
DETECTOR_ID = MEX_HRSC_NADIR
EVENT_TYPE = "MARS-GLOBAL-SYSTEMTEST-Te-Im-Tc"
INSTRUMENT_HOST_ID = MEX
INSTRUMENT_HOST_NAME = "MARS EXPRESS"
INSTRUMENT_ID = HRSC
INSTRUMENT_NAME = "HIGH RESOLUTION STEREO CAMERA"
MISSION_NAME = "MARS EXPRESS"
MISSION_PHASE_NAME = MR_Phase_6
PROCESSING_LEVEL_ID = 3
PRODUCT_CREATION_TIME = 2016-03-09T06:48:11.000Z
PRODUCT_ID = "H1640_0000_ND3.JP2"
RELEASE_ID = 0021
REVISION_ID = 0000
/* QUALITY DATA ELEMENTS */
DATA_QUALITY_ID = 1
DATA_QUALITY_DESC = "Data calculated based on original SPICE kernels"
/* TIME DATA ELEMENTS */
SPACECRAFT_CLOCK_START_COUNT = "1/0062639967.56208"
SPACECRAFT_CLOCK_STOP_COUNT = "1/0062641779.63449"
START_TIME = 2005-04-27T00:03:39.747Z
STOP_TIME = 2005-04-27T00:08:50.808Z
/* ORBITAL DATA ELEMENTS */
ASCENDING_NODE_LONGITUDE = 194.07
MAXIMUM_RESOLUTION = 72.9
FOOTPRINT_POINT_LATITUDE = (30.1442,30.1422,30.1395,30.1362, 30.1323,30.1276,30.1194,30.1115,30.1045 ,30.0969,30.0885,30.0795,30.0674,30.057 ,30.046,30.0343,30.0123,29.9988,29.9846 ,29.9698,29.9543,29.9382,29.9214,29.698 ,29.4889,29.2805,29.0728,28.6599,28.25, 27.8424,27.4377,27.0357,26.6363,26.2397 ,25.8456,25.4542,25.0654,24.6793, 24.2956,23.9147,23.5362,23.1601,22.7865 ,22.4153,22.0464,21.6799,21.3159, 20.9541,20.5946,20.2375,20.2624,20.2925 ,20.3303,20.3737,20.409,20.4362,20.4624 ,20.4882,20.5135,20.5378,20.5673,20.596 ,20.6181,20.6395,20.6602,20.6753, 20.6949,20.7139,20.7322,20.7498,20.7666 ,20.7829,20.7985,20.8163,21.1575, 21.5013,21.8474,22.1961,22.5473,22.901, 23.2573,23.6162,23.9777,24.3418,24.7086 ,25.0781,25.4503,25.8251,26.2027, 26.5832,26.9665,27.3528,27.7418,28.1337 ,28.5285,28.9263,29.327,29.7307,30.1373 ,30.1442)
FOOTPRINT_POINT_LONGITUDE = (63.223,63.5148,63.8062,64.0971,64.3876 ,64.6778,65.113,65.4756,65.7655,66.0551 ,66.3445,66.6338,66.9953,67.2843, 67.5731,67.8622,68.3687,68.658,68.9477, 69.2381,69.5287,69.8193,70.1101,70.3182 ,70.3204,70.3224,70.3246,70.3261, 70.3254,70.3281,70.3298,70.3316,70.3341 ,70.3359,70.338,70.3393,70.3398,70.3398 ,70.3409,70.3394,70.3387,70.3384, 70.3375,70.3369,70.3364,70.3359,70.3344 ,70.3333,70.3322,70.33,69.9899,69.6544, 69.2282,68.7202,68.2962,67.9588,67.6228 ,67.2855,66.9484,66.6118,66.1908, 65.7694,65.4321,65.0946,64.757,64.5024, 64.1633,63.8246,63.4861,63.1463,62.806, 62.4652,62.1236,61.7276,61.7806,61.8335 ,61.886,61.9377,61.9893,62.0404,62.0916 ,62.1418,62.1924,62.2415,62.2911, 62.3398,62.3875,62.4288,62.4753,62.5228 ,62.569,62.6175,62.6635,62.7074,62.7504 ,62.7933,62.8356,62.8764,62.9149, 63.223)
ORBIT_NUMBER = 1640
ORBITAL_ECCENTRICITY = 0.566
ORBITAL_INCLINATION = 86.61
ORBITAL_SEMIMAJOR_AXIS = 8540.07
PERIAPSIS_ALTITUDE = 325.12
PERIAPSIS_ARGUMENT_ANGLE = 71.41
PERIAPSIS_TIME = 2005-04-26T23:38:15.000Z
SPACECRAFT_ORIENTATION = (0.0,1.0,0.0)
^MEX_ORIENTATION_DESC = "MEX_ORIENTATION_DESC.TXT"
SPACECRAFT_POINTING_MODE = NADIR
^MEX_POINTING_DESC = "MEX_POINTING_DESC.TXT"
RIGHT_ASCENSION = -1e+32
DECLINATION = -1e+32
OFFSET_ANGLE = -1e+32
SPACECRAFT_SOLAR_DISTANCE = 2.13329e+08
TARGET_NAME = MARS
/* CAMERA DATA ELEMENTS */
DETECTOR_TEMPERATURE = 18.3705
FOCAL_PLANE_TEMPERATURE = 8.7872
INST_CMPRS_NAME = NONE
INST_CMPRS_RATIO = 1.0
INST_CMPRS_QUALITY = -2147483648
INST_CMPRS_QUANTZ_TBL_ID = -2147483648
INSTRUMENT_TEMPERATURE = 9.6028
LENS_TEMPERATURE = 9.195
MACROPIXEL_SIZE = 1
MISSING_FRAMES = 0
PIXEL_SUBSAMPLING_FLAG = N
SIGNAL_CHAIN_ID = 0
/* RADIOMETRIC DATA ELEMENTS */
BANDWIDTH = 177.0
CENTER_FILTER_WAVELENGTH = 677.5
RADIANCE_OFFSET = 3.6452
RADIANCE_SCALING_FACTOR = 0.0236032
REFLECTANCE_SCALING_FACTOR = 0.000570617
MEX:REFLECTANCE_OFFSET = 0.0881242
/* IMAGE OBJECT DEFINITIONS */
OBJECT = IMAGE
  INTERCHANGE_FORMAT = BINARY
  LINES = 11753
  LINE_SAMPLES = 9646
  SAMPLE_TYPE = UNSIGNED_INTEGER
  SAMPLE_BITS = 8
  BANDS = 1
  BAND_STORAGE_TYPE = BAND_SEQUENTIAL
  MAXIMUM = 237
  MEAN = 152.337
  MINIMUM = 79
  STANDARD_DEVIATION = 17.8804
END_OBJECT = IMAGE
/* MAP OBJECT DEFINITIONS */
OBJECT = IMAGE_MAP_PROJECTION
  ^DATA_SET_MAP_PROJECTION_CATALOG= "DSMAP.CAT"
  A_AXIS_RADIUS = 3396.0
  B_AXIS_RADIUS = 3396.0
  C_AXIS_RADIUS = 3396.0
  CENTER_LATITUDE = 0.0
  CENTER_LONGITUDE = 66.0
  COORDINATE_SYSTEM_NAME = PLANETOGRAPHIC
  COORDINATE_SYSTEM_TYPE = "BODY-FIXED ROTATING"
  EASTERNMOST_LONGITUDE = 70.3409
  FIRST_STANDARD_PARALLEL = "N/A"
  LINE_FIRST_PIXEL = 1
  LINE_LAST_PIXEL = 11753
  LINE_PROJECTION_OFFSET = 35735.0
  MAP_PROJECTION_ROTATION = 0.0
  MAP_PROJECTION_TYPE = SINUSOIDAL
  MAP_RESOLUTION = 1185.42760773333
  MAP_SCALE = 0.05
  MAXIMUM_LATITUDE = 30.1442
  MINIMUM_LATITUDE = 20.2375
  POSITIVE_LONGITUDE_DIRECTION = EAST
  REFERENCE_LATITUDE = "N/A"
  REFERENCE_LONGITUDE = "N/A"
  SAMPLE_FIRST_PIXEL = 1
  SAMPLE_LAST_PIXEL = 9646
  SAMPLE_PROJECTION_OFFSET = 4765.0
  SECOND_STANDARD_PARALLEL = "N/A"
  WESTERNMOST_LONGITUDE = 61.7276
END_OBJECT = IMAGE_MAP_PROJECTION
/* The JPEG2000 image data file associated with this label. */
OBJECT = COMPRESSED_FILE
  FILE_NAME = "H1640_0000_ND3.JP2"
  RECORD_TYPE = UNDEFINED
  FILE_RECORDS = UNK
  ENCODING_TYPE = "JP2"
  INTERCHANGE_FORMAT = BINARY
  UNCOMPRESSED_FILE_NAME = "H1640_0000_ND3.IMG"
  REQUIRED_STORAGE_BYTES = "113398376"
  ^DESCRIPTION = "JP2INFO.TXT"
END_OBJECT = COMPRESSED_FILE
END
