PDS_VERSION_ID = PDS3
/* FILE DATA ELEMENTS */
RECORD_TYPE = STREAM
/* POINTERS TO DATA OBJECTS */
^COMPRESSED_FILE = "H1641_0000_GR3.JP2"
/* IDENTIFICATION DATA ELEMENTS */
DATA_SET_ID = "MEX-M-HRSC-5-REFDR-MAPPROJECTED-V3.0"
DATA_SET_NAME = "MARS EXPRESS HRSC MAP PROJECTED REFDR V3.0"
DETECTOR_ID = MEX_HRSC_GREEN
EVENT_TYPE = "MARS-REGIONAL-MAPPING-Fl-Eo-At"
INSTRUMENT_HOST_ID = MEX
INSTRUMENT_HOST_NAME = "MARS EXPRESS"
INSTRUMENT_ID = HRSC
INSTRUMENT_NAME = "HIGH RESOLUTION STEREO CAMERA"
MISSION_NAME = "MARS EXPRESS"
MISSION_PHASE_NAME = MR_Phase_6
PROCESSING_LEVEL_ID = 3
PRODUCT_CREATION_TIME = 2016-03-09T06:48:11.000Z
PRODUCT_ID = "H1641_0000_GR3.JP2"
RELEASE_ID = 0021
REVISION_ID = 0000
/* QUALITY DATA ELEMENTS */
DATA_QUALITY_ID = 1
DATA_QUALITY_DESC = "Data calculated based on original SPICE kernels"
/* TIME DATA ELEMENTS */
SPACECRAFT_CLOCK_START_COUNT = "1/0062663377.57323"
SPACECRAFT_CLOCK_STOP_COUNT = "1/0062665543.57840"
START_TIME = 2005-04-27T06:30:49.568Z
STOP_TIME = 2005-04-27T06:51:29.956Z
/* ORBITAL DATA ELEMENTS */
ASCENDING_NODE_LONGITUDE = 194.06
MAXIMUM_RESOLUTION = 47.2
FOOTPRINT_POINT_LATITUDE = (73.6786,73.8399,74.1115,73.0649, 71.9907,70.8873,69.7551,68.5919,67.396, 66.7863,66.1666,65.2151,64.5737,63.923, 63.2623,62.5918,61.9116,61.2207,60.5193 ,59.8072,59.0841,58.3493,48.0383,47.117 ,46.1788,45.214,44.2404,43.2496,42.2403 ,41.2121,40.1649,39.0977,38.0099, 36.9012,35.2477,34.1713,33.1148,32.0779 ,31.06,30.0607,29.0797,28.1163,27.1701, 26.2407,25.3278,24.4309,23.9557,24.0253 ,24.0908,24.1674,24.2076,24.2459, 24.2819,24.316,24.3477,24.3768,24.4058, 25.2524,26.1158,26.9963,27.8945,28.8106 ,29.7452,30.6988,31.6717,32.6646, 33.6777,34.7114,35.7665,36.8434,38.4625 ,39.5185,40.5556,41.5747,42.5762,43.56, 44.5273,45.4778,46.8816,48.2495,58.3603 ,59.4394,60.1452,60.84,61.5245,62.1987, 62.8631,63.5178,64.1615,64.797,65.4287, 66.046,66.6533,67.2529,68.4255,69.566, 70.675,71.7536,72.8014,73.6786)
FOOTPRINT_POINT_LONGITUDE = (317.021,319.174,323.434,324.186, 324.862,325.473,326.026,326.529,326.988 ,327.203,327.408,327.703,327.887, 328.064,328.234,328.398,328.554,328.705 ,328.849,328.989,329.122,329.25,330.498 ,330.573,330.644,330.714,330.78,330.842 ,330.902,330.959,331.014,331.065, 331.114,331.16,331.223,331.26,331.294, 331.325,331.352,331.377,331.4,331.421, 331.439,331.456,331.471,331.485,330.583 ,329.672,328.763,327.604,326.94,326.275 ,325.607,324.938,324.266,323.591, 322.882,322.997,323.109,323.217,323.322 ,323.424,323.522,323.616,323.706,323.79 ,323.869,323.944,324.012,324.073,324.15 ,324.191,324.222,324.245,324.259, 324.266,324.264,324.256,324.228,324.183 ,323.156,322.951,322.803,322.646, 322.481,322.306,322.12,321.925,321.719, 321.502,321.271,321.029,320.776,320.509 ,319.932,319.292,318.583,317.795, 316.918,317.021)
ORBIT_NUMBER = 1641
ORBITAL_ECCENTRICITY = 0.566
ORBITAL_INCLINATION = 86.61
ORBITAL_SEMIMAJOR_AXIS = 8540.0
PERIAPSIS_ALTITUDE = 325.72
PERIAPSIS_ARGUMENT_ANGLE = 71.22
PERIAPSIS_TIME = 2005-04-27T06:21:35.000Z
SPACECRAFT_ORIENTATION = (0.0,1.0,0.0)
^MEX_ORIENTATION_DESC = "MEX_ORIENTATION_DESC.TXT"
SPACECRAFT_POINTING_MODE = ACROSSTRACK
^MEX_POINTING_DESC = "MEX_POINTING_DESC.TXT"
RIGHT_ASCENSION = -1e+32
DECLINATION = -1e+32
OFFSET_ANGLE = -0.687
SPACECRAFT_SOLAR_DISTANCE = 2.13287e+08
TARGET_NAME = MARS
/* CAMERA DATA ELEMENTS */
DETECTOR_TEMPERATURE = 18.3705
FOCAL_PLANE_TEMPERATURE = 8.5833
INST_CMPRS_NAME = "DISCRETE COSINE TRANSFORMATION (DCT)"
INST_CMPRS_RATIO = 10.9515
INST_CMPRS_QUALITY = 0
INST_CMPRS_QUANTZ_TBL_ID = 0
INSTRUMENT_TEMPERATURE = 11.4379
LENS_TEMPERATURE = 8.7872
MACROPIXEL_SIZE = 2
MISSING_FRAMES = 1176
PIXEL_SUBSAMPLING_FLAG = N
SIGNAL_CHAIN_ID = 2
/* RADIOMETRIC DATA ELEMENTS */
BANDWIDTH = 88.0
CENTER_FILTER_WAVELENGTH = 538.0
RADIANCE_OFFSET = 0.0371992
RADIANCE_SCALING_FACTOR = 0.00910286
REFLECTANCE_SCALING_FACTOR = 0.000356527
MEX:REFLECTANCE_OFFSET = 0.00145696
/* IMAGE OBJECT DEFINITIONS */
OBJECT = IMAGE
  INTERCHANGE_FORMAT = BINARY
  LINES = 59489
  LINE_SAMPLES = 9004
  SAMPLE_TYPE = UNSIGNED_INTEGER
  SAMPLE_BITS = 8
  BANDS = 1
  BAND_STORAGE_TYPE = BAND_SEQUENTIAL
  MAXIMUM = 329
  MEAN = 154.728
  MINIMUM = 3
  STANDARD_DEVIATION = 95.7683
END_OBJECT = IMAGE
/* MAP OBJECT DEFINITIONS */
OBJECT = IMAGE_MAP_PROJECTION
  ^DATA_SET_MAP_PROJECTION_CATALOG= "DSMAP.CAT"
  A_AXIS_RADIUS = 3396.0
  B_AXIS_RADIUS = 3396.0
  C_AXIS_RADIUS = 3396.0
  CENTER_LATITUDE = 0.0
  CENTER_LONGITUDE = 326.0
  COORDINATE_SYSTEM_NAME = PLANETOGRAPHIC
  COORDINATE_SYSTEM_TYPE = "BODY-FIXED ROTATING"
  EASTERNMOST_LONGITUDE = 331.485
  FIRST_STANDARD_PARALLEL = "N/A"
  LINE_FIRST_PIXEL = 1
  LINE_LAST_PIXEL = 59489
  LINE_PROJECTION_OFFSET = 87856.25
  MAP_PROJECTION_ROTATION = 0.0
  MAP_PROJECTION_TYPE = SINUSOIDAL
  MAP_RESOLUTION = 1185.42760773333
  MAP_SCALE = 0.05
  MAXIMUM_LATITUDE = 74.11150000000001
  MINIMUM_LATITUDE = 23.9557
  POSITIVE_LONGITUDE_DIRECTION = EAST
  REFERENCE_LATITUDE = "N/A"
  REFERENCE_LONGITUDE = "N/A"
  SAMPLE_FIRST_PIXEL = 1
  SAMPLE_LAST_PIXEL = 9004
  SAMPLE_PROJECTION_OFFSET = 3250.75
  SECOND_STANDARD_PARALLEL = "N/A"
  WESTERNMOST_LONGITUDE = 316.918
END_OBJECT = IMAGE_MAP_PROJECTION
/* The JPEG2000 image data file associated with this label. */
OBJECT = COMPRESSED_FILE
  FILE_NAME = "H1641_0000_GR3.JP2"
  RECORD_TYPE = UNDEFINED
  FILE_RECORDS = UNK
  ENCODING_TYPE = "JP2"
  INTERCHANGE_FORMAT = BINARY
  UNCOMPRESSED_FILE_NAME = "H1641_0000_GR3.IMG"
  REQUIRED_STORAGE_BYTES = "535674972"
  ^DESCRIPTION = "JP2INFO.TXT"
END_OBJECT = COMPRESSED_FILE
END
