PDS_VERSION_ID = PDS3
/* FILE DATA ELEMENTS */
RECORD_TYPE = STREAM
/* POINTERS TO DATA OBJECTS */
^COMPRESSED_FILE = "H1641_0000_RE3.JP2"
/* IDENTIFICATION DATA ELEMENTS */
DATA_SET_ID = "MEX-M-HRSC-5-REFDR-MAPPROJECTED-V3.0"
DATA_SET_NAME = "MARS EXPRESS HRSC MAP PROJECTED REFDR V3.0"
DETECTOR_ID = MEX_HRSC_RED
EVENT_TYPE = "MARS-REGIONAL-MAPPING-Fl-Eo-At"
INSTRUMENT_HOST_ID = MEX
INSTRUMENT_HOST_NAME = "MARS EXPRESS"
INSTRUMENT_ID = HRSC
INSTRUMENT_NAME = "HIGH RESOLUTION STEREO CAMERA"
MISSION_NAME = "MARS EXPRESS"
MISSION_PHASE_NAME = MR_Phase_6
PROCESSING_LEVEL_ID = 3
PRODUCT_CREATION_TIME = 2016-03-09T06:48:11.000Z
PRODUCT_ID = "H1641_0000_RE3.JP2"
RELEASE_ID = 0021
REVISION_ID = 0000
/* QUALITY DATA ELEMENTS */
DATA_QUALITY_ID = 1
DATA_QUALITY_DESC = "Data calculated based on original SPICE kernels"
/* TIME DATA ELEMENTS */
SPACECRAFT_CLOCK_START_COUNT = "1/0062663377.57323"
SPACECRAFT_CLOCK_STOP_COUNT = "1/0062665543.57840"
START_TIME = 2005-04-27T06:29:53.929Z
STOP_TIME = 2005-04-27T06:45:50.307Z
/* ORBITAL DATA ELEMENTS */
ASCENDING_NODE_LONGITUDE = 194.06
MAXIMUM_RESOLUTION = 45.5
FOOTPRINT_POINT_LATITUDE = (73.7401,74.0732,73.3981,72.4168, 71.4082,70.3764,69.3171,68.23,67.114, 65.9687,64.7918,64.191,63.5819,62.9633, 62.3364,61.7003,61.0549,60.3999,59.7353 ,59.0605,58.3756,57.6791,56.972,56.2537 ,55.5246,54.7829,54.0297,53.264,41.3254 ,40.3281,39.3114,38.2737,37.2151,36.134 ,35.0312,33.9053,32.7551,31.5807,30.381 ,29.7712,29.1545,28.5318,27.9006, 27.2632,26.6271,25.994,25.3657,24.743, 24.1221,24.0745,24.1168,24.1275,24.125, 24.1096,24.0733,24.6813,25.2934,25.9102 ,26.5319,27.1554,27.7819,28.4031, 29.0175,30.2274,31.4111,32.5701,33.7059 ,34.8195,35.9101,36.98,38.028,39.0557, 40.0637,41.0514,52.9031,54.0398,54.7823 ,55.5129,56.2321,56.9398,57.6372, 58.3231,58.9991,59.6635,60.3196,60.9644 ,61.6004,62.228,62.8449,63.4536,64.6456 ,65.8045,66.9309,68.0273,69.094,70.1329 ,71.1449,72.1302,73.0891,73.7401)
FOOTPRINT_POINT_LONGITUDE = (316.6,320.518,323.711,324.358,324.947, 325.483,325.973,326.421,326.834,327.213 ,327.562,327.727,327.885,328.037, 328.184,328.324,328.46,328.59,328.715, 328.835,328.951,329.062,329.169,329.272 ,329.371,329.466,329.557,329.645, 330.504,330.544,330.58,330.614,330.644, 330.671,330.695,330.715,330.732,330.745 ,330.755,330.759,330.761,330.763, 330.764,330.764,330.762,330.76,330.757, 330.753,330.748,329.703,328.267,327.22, 326.037,325.179,323.958,324.017,324.074 ,324.131,324.186,324.238,324.289, 324.337,324.383,324.467,324.542,324.608 ,324.665,324.715,324.756,324.79,324.816 ,324.836,324.848,324.854,324.314, 324.187,324.094,323.996,323.891,323.78, 323.662,323.538,323.407,323.268,323.123 ,322.97,322.81,322.641,322.465,322.28, 321.883,321.447,320.969,320.446,319.873 ,319.244,318.553,317.792,316.953,316.6)
ORBIT_NUMBER = 1641
ORBITAL_ECCENTRICITY = 0.566
ORBITAL_INCLINATION = 86.61
ORBITAL_SEMIMAJOR_AXIS = 8540.0
PERIAPSIS_ALTITUDE = 325.72
PERIAPSIS_ARGUMENT_ANGLE = 71.22
PERIAPSIS_TIME = 2005-04-27T06:21:35.000Z
SPACECRAFT_ORIENTATION = (0.0,1.0,0.0)
^MEX_ORIENTATION_DESC = "MEX_ORIENTATION_DESC.TXT"
SPACECRAFT_POINTING_MODE = ACROSSTRACK
^MEX_POINTING_DESC = "MEX_POINTING_DESC.TXT"
RIGHT_ASCENSION = -1e+32
DECLINATION = -1e+32
OFFSET_ANGLE = -0.687
SPACECRAFT_SOLAR_DISTANCE = 2.13287e+08
TARGET_NAME = MARS
/* CAMERA DATA ELEMENTS */
DETECTOR_TEMPERATURE = 18.7783
FOCAL_PLANE_TEMPERATURE = 8.5833
INST_CMPRS_NAME = "DISCRETE COSINE TRANSFORMATION (DCT)"
INST_CMPRS_RATIO = 12.3637
INST_CMPRS_QUALITY = 0
INST_CMPRS_QUANTZ_TBL_ID = 0
INSTRUMENT_TEMPERATURE = 11.4379
LENS_TEMPERATURE = 8.7872
MACROPIXEL_SIZE = 2
MISSING_FRAMES = 1173
PIXEL_SUBSAMPLING_FLAG = N
SIGNAL_CHAIN_ID = 3
/* RADIOMETRIC DATA ELEMENTS */
BANDWIDTH = 48.0
CENTER_FILTER_WAVELENGTH = 748.0
RADIANCE_OFFSET = 0.0388762
RADIANCE_SCALING_FACTOR = 0.00614904
REFLECTANCE_SCALING_FACTOR = 0.00063835
MEX:REFLECTANCE_OFFSET = 0.00403585
/* IMAGE OBJECT DEFINITIONS */
OBJECT = IMAGE
  INTERCHANGE_FORMAT = BINARY
  LINES = 59489
  LINE_SAMPLES = 9004
  SAMPLE_TYPE = UNSIGNED_INTEGER
  SAMPLE_BITS = 8
  BANDS = 1
  BAND_STORAGE_TYPE = BAND_SEQUENTIAL
  MAXIMUM = 276
  MEAN = 94.8085
  MINIMUM = 4
  STANDARD_DEVIATION = 62.5523
END_OBJECT = IMAGE
/* MAP OBJECT DEFINITIONS */
OBJECT = IMAGE_MAP_PROJECTION
  ^DATA_SET_MAP_PROJECTION_CATALOG= "DSMAP.CAT"
  A_AXIS_RADIUS = 3396.0
  B_AXIS_RADIUS = 3396.0
  C_AXIS_RADIUS = 3396.0
  CENTER_LATITUDE = 0.0
  CENTER_LONGITUDE = 326.0
  COORDINATE_SYSTEM_NAME = PLANETOGRAPHIC
  COORDINATE_SYSTEM_TYPE = "BODY-FIXED ROTATING"
  EASTERNMOST_LONGITUDE = 330.764
  FIRST_STANDARD_PARALLEL = "N/A"
  LINE_FIRST_PIXEL = 1
  LINE_LAST_PIXEL = 59489
  LINE_PROJECTION_OFFSET = 87856.25
  MAP_PROJECTION_ROTATION = 0.0
  MAP_PROJECTION_TYPE = SINUSOIDAL
  MAP_RESOLUTION = 1185.42760773333
  MAP_SCALE = 0.05
  MAXIMUM_LATITUDE = 74.0732
  MINIMUM_LATITUDE = 24.0733
  POSITIVE_LONGITUDE_DIRECTION = EAST
  REFERENCE_LATITUDE = "N/A"
  REFERENCE_LONGITUDE = "N/A"
  SAMPLE_FIRST_PIXEL = 1
  SAMPLE_LAST_PIXEL = 9004
  SAMPLE_PROJECTION_OFFSET = 3250.75
  SECOND_STANDARD_PARALLEL = "N/A"
  WESTERNMOST_LONGITUDE = 316.6
END_OBJECT = IMAGE_MAP_PROJECTION
/* The JPEG2000 image data file associated with this label. */
OBJECT = COMPRESSED_FILE
  FILE_NAME = "H1641_0000_RE3.JP2"
  RECORD_TYPE = UNDEFINED
  FILE_RECORDS = UNK
  ENCODING_TYPE = "JP2"
  INTERCHANGE_FORMAT = BINARY
  UNCOMPRESSED_FILE_NAME = "H1641_0000_RE3.IMG"
  REQUIRED_STORAGE_BYTES = "535674972"
  ^DESCRIPTION = "JP2INFO.TXT"
END_OBJECT = COMPRESSED_FILE
END
