PDS_VERSION_ID = PDS3
/* FILE DATA ELEMENTS */
RECORD_TYPE = STREAM
/* POINTERS TO DATA OBJECTS */
^COMPRESSED_FILE = "H1641_0002_SR3.JP2"
/* IDENTIFICATION DATA ELEMENTS */
DATA_SET_ID = "MEX-M-HRSC-5-REFDR-MAPPROJECTED-V3.0"
DATA_SET_NAME = "MARS EXPRESS HRSC MAP PROJECTED REFDR V3.0"
DETECTOR_ID = MEX_HRSC_SRC
EVENT_TYPE = "MARS-REGIONAL-MAPPING-Fl-Eo-At"
INSTRUMENT_HOST_ID = MEX
INSTRUMENT_HOST_NAME = "MARS EXPRESS"
INSTRUMENT_ID = HRSC
INSTRUMENT_NAME = "HIGH RESOLUTION STEREO CAMERA"
MISSION_NAME = "MARS EXPRESS"
MISSION_PHASE_NAME = MR_Phase_6
PROCESSING_LEVEL_ID = 3
PRODUCT_CREATION_TIME = 2016-03-09T06:48:11.000Z
PRODUCT_ID = "H1641_0002_SR3.JP2"
RELEASE_ID = 0021
REVISION_ID = 0000
/* QUALITY DATA ELEMENTS */
DATA_QUALITY_ID = 1
DATA_QUALITY_DESC = "Data calculated based on original SPICE kernels"
/* TIME DATA ELEMENTS */
SPACECRAFT_CLOCK_START_COUNT = "1/0062663377.57323"
SPACECRAFT_CLOCK_STOP_COUNT = "1/0062665543.57840"
IMAGE_TIME = 2005-04-27T06:34:46.934Z
START_TIME = 2005-04-27T06:34:46.931Z
STOP_TIME = 2005-04-27T06:34:46.936Z
/* ORBITAL DATA ELEMENTS */
ASCENDING_NODE_LONGITUDE = 194.06
MAXIMUM_RESOLUTION = 7.592
FOOTPRINT_POINT_LATITUDE = (60.7921,60.7872,60.7802,60.7713, 60.7673,60.7616,60.7556,60.7494,60.7452 ,60.7401,60.7348,60.7302,60.7262, 60.7224,60.7167,60.7126,60.7056,60.7012 ,60.6948,60.6894,60.683,60.6793,60.6757 ,60.6718,60.6678,60.6672,60.6667, 60.6662,60.6656,60.6651,60.6646,60.664, 60.6635,60.6629,60.6624,60.6618,60.6613 ,60.6607,60.6602,60.6597,60.6591, 60.6586,60.658,60.6575,60.6569,60.6563, 60.6558,60.6552,60.6547,60.6541,60.6579 ,60.6616,60.6665,60.6721,60.6766,60.683 ,60.6885,60.6925,60.6984,60.7043, 60.7091,60.7125,60.7209,60.7264,60.7327 ,60.7368,60.7424,60.7472,60.7523, 60.7563,60.7623,60.7687,60.7756,60.7831 ,60.7836,60.7842,60.7846,60.7852, 60.7857,60.7863,60.7868,60.7874,60.7879 ,60.7885,60.789,60.7896,60.7901,60.7907 ,60.7912,60.7917,60.7923,60.7928, 60.7934,60.7939,60.7944,60.795,60.7955, 60.7961,60.7966,60.7921)
FOOTPRINT_POINT_LONGITUDE = (325.865,325.866,325.867,325.869,325.87 ,325.871,325.872,325.874,325.875, 325.876,325.877,325.878,325.879,325.879 ,325.881,325.881,325.883,325.884, 325.885,325.886,325.888,325.889,325.889 ,325.89,325.891,325.88,325.87,325.859, 325.849,325.838,325.828,325.817,325.807 ,325.796,325.786,325.775,325.765, 325.754,325.744,325.734,325.723,325.713 ,325.702,325.692,325.681,325.671,325.66 ,325.65,325.639,325.629,325.624,325.623 ,325.622,325.621,325.62,325.618,325.617 ,325.616,325.615,325.613,325.612, 325.612,325.61,325.608,325.607,325.606, 325.605,325.604,325.603,325.602,325.601 ,325.599,325.598,325.599,325.609,325.62 ,325.628,325.638,325.649,325.659,325.67 ,325.68,325.691,325.701,325.712,325.723 ,325.733,325.744,325.754,325.765, 325.775,325.786,325.796,325.807,325.817 ,325.828,325.838,325.849,325.859, 325.865)
ORBIT_NUMBER = 1641
ORBITAL_ECCENTRICITY = 0.566
ORBITAL_INCLINATION = 86.61
ORBITAL_SEMIMAJOR_AXIS = 8540.0
PERIAPSIS_ALTITUDE = 325.72
PERIAPSIS_ARGUMENT_ANGLE = 71.22
PERIAPSIS_TIME = 2005-04-27T06:21:35.000Z
SPACECRAFT_ORIENTATION = (0.0,1.0,0.0)
^MEX_ORIENTATION_DESC = "MEX_ORIENTATION_DESC.TXT"
SPACECRAFT_POINTING_MODE = ACROSSTRACK
^MEX_POINTING_DESC = "MEX_POINTING_DESC.TXT"
RIGHT_ASCENSION = -1e+32
DECLINATION = -1e+32
OFFSET_ANGLE = -0.687
SPACECRAFT_SOLAR_DISTANCE = 2.13287e+08
TARGET_NAME = MARS
/* CAMERA DATA ELEMENTS */
BUFFER_MODE_ID = BUFFER_8
EXPOSURE_DURATION = 5.04
INST_CMPRS_NAME = NONE
INST_CMPRS_RATIO = 1.0
INST_CMPRS_QUALITY = -2147483648
INST_CMPRS_QUANTZ_TBL_ID = -2147483648
INSTRUMENT_TEMPERATURE = 14.2424
MISSING_FRAMES = 0
START_BIT = 0
/* RADIOMETRIC DATA ELEMENTS */
BANDWIDTH = 250.0
CENTER_FILTER_WAVELENGTH = 600.0
RADIANCE_OFFSET = -9.99e+31
RADIANCE_SCALING_FACTOR = -9.99e+31
REFLECTANCE_SCALING_FACTOR = -9.99e+31
MEX:REFLECTANCE_OFFSET = -9.99e+31
/* IMAGE OBJECT DEFINITIONS */
OBJECT = IMAGE
  INTERCHANGE_FORMAT = BINARY
  LINES = 904
  LINE_SAMPLES = 909
  SAMPLE_TYPE = UNSIGNED_INTEGER
  SAMPLE_BITS = 8
  BANDS = 1
  BAND_STORAGE_TYPE = BAND_SEQUENTIAL
  MAXIMUM = 1988
  MEAN = 1724.81
  MINIMUM = 1443
  STANDARD_DEVIATION = 55.0747
END_OBJECT = IMAGE
/* MAP OBJECT DEFINITIONS */
OBJECT = IMAGE_MAP_PROJECTION
  ^DATA_SET_MAP_PROJECTION_CATALOG= "DSMAP.CAT"
  A_AXIS_RADIUS = 3396.19
  B_AXIS_RADIUS = 3396.19
  C_AXIS_RADIUS = 3396.19
  CENTER_LATITUDE = 0.0
  CENTER_LONGITUDE = 326.0
  COORDINATE_SYSTEM_NAME = PLANETOGRAPHIC
  COORDINATE_SYSTEM_TYPE = "BODY-FIXED ROTATING"
  EASTERNMOST_LONGITUDE = 325.891
  FIRST_STANDARD_PARALLEL = "N/A"
  LINE_FIRST_PIXEL = 1
  LINE_LAST_PIXEL = 904
  LINE_PROJECTION_OFFSET = 359751.0
  MAP_PROJECTION_ROTATION = 0.0
  MAP_PROJECTION_TYPE = SINUSOIDAL
  MAP_RESOLUTION = 5927.46965121889
  MAP_SCALE = 0.01
  MAXIMUM_LATITUDE = 60.7966
  MINIMUM_LATITUDE = 60.6541
  POSITIVE_LONGITUDE_DIRECTION = EAST
  REFERENCE_LATITUDE = "N/A"
  REFERENCE_LONGITUDE = "N/A"
  SAMPLE_FIRST_PIXEL = 1
  SAMPLE_LAST_PIXEL = 909
  SAMPLE_PROJECTION_OFFSET = 1289.0
  SECOND_STANDARD_PARALLEL = "N/A"
  WESTERNMOST_LONGITUDE = 325.598
END_OBJECT = IMAGE_MAP_PROJECTION
/* The JPEG2000 image data file associated with this label. */
OBJECT = COMPRESSED_FILE
  FILE_NAME = "H1641_0002_SR3.JP2"
  RECORD_TYPE = UNDEFINED
  FILE_RECORDS = UNK
  ENCODING_TYPE = "JP2"
  INTERCHANGE_FORMAT = BINARY
  UNCOMPRESSED_FILE_NAME = "H1641_0002_SR3.IMG"
  REQUIRED_STORAGE_BYTES = "840825"
  ^DESCRIPTION = "JP2INFO.TXT"
END_OBJECT = COMPRESSED_FILE
END
