PDS_VERSION_ID = PDS3
/* FILE DATA ELEMENTS */
RECORD_TYPE = STREAM
/* POINTERS TO DATA OBJECTS */
^COMPRESSED_FILE = "H1644_0000_ND3.JP2"
/* IDENTIFICATION DATA ELEMENTS */
DATA_SET_ID = "MEX-M-HRSC-5-REFDR-MAPPROJECTED-V3.0"
DATA_SET_NAME = "MARS EXPRESS HRSC MAP PROJECTED REFDR V3.0"
DETECTOR_ID = MEX_HRSC_NADIR
EVENT_TYPE = "MARS-GLOBAL-MAPPING-Te-Im-Fl"
INSTRUMENT_HOST_ID = MEX
INSTRUMENT_HOST_NAME = "MARS EXPRESS"
INSTRUMENT_ID = HRSC
INSTRUMENT_NAME = "HIGH RESOLUTION STEREO CAMERA"
MISSION_NAME = "MARS EXPRESS"
MISSION_PHASE_NAME = MR_Phase_6
PROCESSING_LEVEL_ID = 3
PRODUCT_CREATION_TIME = 2016-03-09T06:48:11.000Z
PRODUCT_ID = "H1644_0000_ND3.JP2"
RELEASE_ID = 0021
REVISION_ID = 0000
/* QUALITY DATA ELEMENTS */
DATA_QUALITY_ID = 1
DATA_QUALITY_DESC = "Data calculated based on original SPICE kernels"
/* TIME DATA ELEMENTS */
SPACECRAFT_CLOCK_START_COUNT = "1/0062736498.57153"
SPACECRAFT_CLOCK_STOP_COUNT = "1/0062738549.08310"
START_TIME = 2005-04-28T02:50:59.185Z
STOP_TIME = 2005-04-28T03:01:59.178Z
/* ORBITAL DATA ELEMENTS */
ASCENDING_NODE_LONGITUDE = 193.99
MAXIMUM_RESOLUTION = 52.4
FOOTPRINT_POINT_LATITUDE = (43.891,43.9179,43.9301,43.9427,43.9465 ,43.9393,43.9222,43.0784,42.2206, 41.7864,41.3487,40.9077,40.4632,40.0148 ,39.5628,39.107,38.6477,38.1847,37.7177 ,37.2467,36.7722,36.2937,35.811,35.324, 34.8346,34.3481,33.8653,33.3863,32.9108 ,32.4389,31.9706,31.5058,31.0444, 30.5861,30.132,29.6807,29.2333,28.7887, 28.3473,27.9096,27.0432,26.1895,25.348, 24.5186,23.7011,22.8952,22.0858,21.6217 ,21.1315,21.1776,21.2442,21.3001, 21.3397,21.3965,21.4497,21.4833,21.5357 ,21.5747,21.6238,21.656,21.6981,22.1473 ,22.5912,23.3666,24.14,24.9257,25.724, 26.535,27.3591,28.1963,29.0473,29.912, 30.3496,30.7907,31.2357,31.6841,32.136, 32.5917,33.0512,33.5146,33.9818,34.4529 ,34.9275,35.4058,35.882,36.354,36.8225, 37.2876,37.749,38.2068,38.6609,39.1116, 39.5589,40.003,40.4435,41.314,42.1715, 43.0156,43.8472,43.891)
FOOTPRINT_POINT_LONGITUDE = (30.9681,31.962,32.5831,33.5764,34.3827 ,35.8125,36.755,36.7845,36.8203,36.8364 ,36.8518,36.8678,36.8821,36.8961, 36.9101,36.9225,36.9347,36.9471,36.9592 ,36.9725,36.9817,36.9926,37.003,37.0128 ,37.0222,37.0311,37.0401,37.0471, 37.0548,37.062,37.0681,37.0737,37.0793, 37.0875,37.0891,37.0949,37.0958,37.1002 ,37.1044,37.1056,37.1107,37.1132, 37.1154,37.1155,37.1145,37.1115,37.1086 ,37.1072,37.1044,36.596,35.829,35.1508, 34.645,33.8842,33.1239,32.6164,31.7688, 31.0902,30.1554,29.473,28.4888,28.5578, 28.6236,28.7346,28.8428,28.9498,29.0578 ,29.1594,29.2593,29.3538,29.4481, 29.5385,29.5837,29.6237,29.6704,29.7125 ,29.7502,29.7892,29.8279,29.867,29.9072 ,29.946,29.9775,30.0134,30.0453,30.0727 ,30.1024,30.1309,30.1575,30.1816, 30.2049,30.2249,30.2437,30.263,30.2807, 30.3117,30.3344,30.3524,30.3674, 30.9681)
ORBIT_NUMBER = 1644
ORBITAL_ECCENTRICITY = 0.566
ORBITAL_INCLINATION = 86.59
ORBITAL_SEMIMAJOR_AXIS = 8541.31
PERIAPSIS_ALTITUDE = 325.42
PERIAPSIS_ARGUMENT_ANGLE = 70.69
PERIAPSIS_TIME = 2005-04-28T02:31:29.000Z
SPACECRAFT_ORIENTATION = (0.0,1.0,0.0)
^MEX_ORIENTATION_DESC = "MEX_ORIENTATION_DESC.TXT"
SPACECRAFT_POINTING_MODE = NADIR
^MEX_POINTING_DESC = "MEX_POINTING_DESC.TXT"
RIGHT_ASCENSION = -1e+32
DECLINATION = -1e+32
OFFSET_ANGLE = -1e+32
SPACECRAFT_SOLAR_DISTANCE = 2.1316e+08
TARGET_NAME = MARS
/* CAMERA DATA ELEMENTS */
DETECTOR_TEMPERATURE = 18.3705
FOCAL_PLANE_TEMPERATURE = 8.3794
INST_CMPRS_NAME = "DISCRETE COSINE TRANSFORMATION (DCT)"
INST_CMPRS_RATIO = 6.62057
INST_CMPRS_QUALITY = 0
INST_CMPRS_QUANTZ_TBL_ID = 0
INSTRUMENT_TEMPERATURE = 11.234
LENS_TEMPERATURE = 8.9911
MACROPIXEL_SIZE = 1
MISSING_FRAMES = 115
PIXEL_SUBSAMPLING_FLAG = N
SIGNAL_CHAIN_ID = 0
/* RADIOMETRIC DATA ELEMENTS */
BANDWIDTH = 177.0
CENTER_FILTER_WAVELENGTH = 677.5
RADIANCE_OFFSET = 2.5475
RADIANCE_SCALING_FACTOR = 0.0252384
REFLECTANCE_SCALING_FACTOR = 0.000609187
MEX:REFLECTANCE_OFFSET = 0.0614899
/* IMAGE OBJECT DEFINITIONS */
OBJECT = IMAGE
  INTERCHANGE_FORMAT = BINARY
  LINES = 27045
  LINE_SAMPLES = 9566
  SAMPLE_TYPE = UNSIGNED_INTEGER
  SAMPLE_BITS = 8
  BANDS = 1
  BAND_STORAGE_TYPE = BAND_SEQUENTIAL
  MAXIMUM = 283
  MEAN = 190.432
  MINIMUM = 71
  STANDARD_DEVIATION = 44.7936
END_OBJECT = IMAGE
/* MAP OBJECT DEFINITIONS */
OBJECT = IMAGE_MAP_PROJECTION
  ^DATA_SET_MAP_PROJECTION_CATALOG= "DSMAP.CAT"
  A_AXIS_RADIUS = 3396.0
  B_AXIS_RADIUS = 3396.0
  C_AXIS_RADIUS = 3396.0
  CENTER_LATITUDE = 0.0
  CENTER_LONGITUDE = 33.0
  COORDINATE_SYSTEM_NAME = PLANETOGRAPHIC
  COORDINATE_SYSTEM_TYPE = "BODY-FIXED ROTATING"
  EASTERNMOST_LONGITUDE = 37.1155
  FIRST_STANDARD_PARALLEL = "N/A"
  LINE_FIRST_PIXEL = 1
  LINE_LAST_PIXEL = 27045
  LINE_PROJECTION_OFFSET = 52095.0
  MAP_PROJECTION_ROTATION = 0.0
  MAP_PROJECTION_TYPE = SINUSOIDAL
  MAP_RESOLUTION = 1185.42760773333
  MAP_SCALE = 0.05
  MAXIMUM_LATITUDE = 43.9465
  MINIMUM_LATITUDE = 21.1315
  POSITIVE_LONGITUDE_DIRECTION = EAST
  REFERENCE_LATITUDE = "N/A"
  REFERENCE_LONGITUDE = "N/A"
  SAMPLE_FIRST_PIXEL = 1
  SAMPLE_LAST_PIXEL = 9566
  SAMPLE_PROJECTION_OFFSET = 4971.0
  SECOND_STANDARD_PARALLEL = "N/A"
  WESTERNMOST_LONGITUDE = 28.4888
END_OBJECT = IMAGE_MAP_PROJECTION
/* The JPEG2000 image data file associated with this label. */
OBJECT = COMPRESSED_FILE
  FILE_NAME = "H1644_0000_ND3.JP2"
  RECORD_TYPE = UNDEFINED
  FILE_RECORDS = UNK
  ENCODING_TYPE = "JP2"
  INTERCHANGE_FORMAT = BINARY
  UNCOMPRESSED_FILE_NAME = "H1644_0000_ND3.IMG"
  REQUIRED_STORAGE_BYTES = "258741168"
  ^DESCRIPTION = "JP2INFO.TXT"
END_OBJECT = COMPRESSED_FILE
END
