PDS_VERSION_ID = PDS3
/* FILE DATA ELEMENTS */
RECORD_TYPE = STREAM
/* POINTERS TO DATA OBJECTS */
^COMPRESSED_FILE = "H1768_0016_SR3.JP2"
/* IDENTIFICATION DATA ELEMENTS */
DATA_SET_ID = "MEX-M-HRSC-5-REFDR-MAPPROJECTED-V3.0"
DATA_SET_NAME = "MARS EXPRESS HRSC MAP PROJECTED REFDR V3.0"
DETECTOR_ID = MEX_HRSC_SRC
EVENT_TYPE = "MARS-TERMINATOR-VARIABLE-Gl-At"
INSTRUMENT_HOST_ID = MEX
INSTRUMENT_HOST_NAME = "MARS EXPRESS"
INSTRUMENT_ID = HRSC
INSTRUMENT_NAME = "HIGH RESOLUTION STEREO CAMERA"
MISSION_NAME = "MARS EXPRESS"
MISSION_PHASE_NAME = MR_Phase_6
PROCESSING_LEVEL_ID = 3
PRODUCT_CREATION_TIME = 2016-03-09T12:57:05.000Z
PRODUCT_ID = "H1768_0016_SR3.JP2"
RELEASE_ID = 0022
REVISION_ID = 0000
/* QUALITY DATA ELEMENTS */
DATA_QUALITY_ID = 1
DATA_QUALITY_DESC = "Data calculated based on original SPICE kernels"
/* TIME DATA ELEMENTS */
SPACECRAFT_CLOCK_START_COUNT = "1/0065729562.57177"
SPACECRAFT_CLOCK_STOP_COUNT = "1/0065730454.42853"
IMAGE_TIME = 2005-06-01T18:21:13.510Z
START_TIME = 2005-06-01T18:21:13.508Z
STOP_TIME = 2005-06-01T18:21:13.513Z
/* ORBITAL DATA ELEMENTS */
ASCENDING_NODE_LONGITUDE = 191.37
MAXIMUM_RESOLUTION = 51.793
FOOTPRINT_POINT_LATITUDE = (-78.3521,-78.2959,-78.2397,-78.1835, -78.1273,-78.0992,-78.0711,-78.0402, -78.0121,-77.984,-77.9558,-77.9277, -77.8996,-77.8715,-77.8434,-77.8152, -77.7871,-77.759,-77.7309,-77.7021, -77.674,-77.6458,-77.6177,-77.5896, -77.5614,-77.5157,-77.5146,-77.5135, -77.5123,-77.5111,-77.5097,-77.5084, -77.5062,-77.5046,-77.5022,-77.5003, -77.4979,-77.494,-77.4917,-77.4885, -77.4859,-77.4832,-77.4804,-77.4774, -77.4745,-77.4706,-77.4674,-77.4635, -77.4658,-77.4938,-77.5219,-77.5499, -77.5779,-77.6059,-77.6339,-77.6857, -77.7189,-77.7469,-77.7749,-77.8029, -77.8309,-77.8589,-77.8869,-77.9149, -77.9429,-77.9709,-77.9989,-78.0268, -78.0757,-78.1037,-78.1317,-78.1597, -78.1877,-78.2156,-78.2436,-78.2716, -78.3275,-78.3434,-78.3469,-78.3504, -78.3538,-78.3571,-78.3602,-78.3655, -78.3684,-78.3711,-78.3739,-78.3781, -78.3804,-78.3832,-78.3862,-78.3882, -78.3904,-78.3921,-78.3941,-78.3955, -78.3977,-78.3989,-78.4,-78.3521)
FOOTPRINT_POINT_LONGITUDE = (277.32,277.312,277.304,277.297,277.289 ,277.285,277.281,277.277,277.273,277.27 ,277.266,277.262,277.259,277.255, 277.251,277.248,277.244,277.24,277.237, 277.233,277.23,277.226,277.223,277.219, 277.216,277.214,277.376,277.539,277.701 ,277.863,278.026,278.188,278.391, 278.553,278.756,278.918,279.12,279.403, 279.565,279.768,279.929,280.091,280.253 ,280.414,280.576,280.778,280.939,281.14 ,281.328,281.341,281.354,281.366, 281.379,281.392,281.404,281.428,281.443 ,281.456,281.469,281.483,281.496, 281.509,281.522,281.536,281.549,281.563 ,281.576,281.59,281.614,281.628,281.642 ,281.656,281.67,281.684,281.698,281.712 ,281.741,281.613,281.44,281.267,281.094 ,280.92,280.747,280.443,280.27,280.096, 279.922,279.618,279.444,279.227,278.966 ,278.791,278.574,278.399,278.182, 278.007,277.702,277.527,277.353,277.32)
ORBIT_NUMBER = 1768
ORBITAL_ECCENTRICITY = 0.567
ORBITAL_INCLINATION = 86.62
ORBITAL_SEMIMAJOR_AXIS = 8572.22
PERIAPSIS_ALTITUDE = 323.84
PERIAPSIS_ARGUMENT_ANGLE = 48.62
PERIAPSIS_TIME = 2005-06-01T19:31:40.000Z
SPACECRAFT_ORIENTATION = (0.0,1.0,0.0)
^MEX_ORIENTATION_DESC = "MEX_ORIENTATION_DESC.TXT"
SPACECRAFT_POINTING_MODE = INERT
^MEX_POINTING_DESC = "MEX_POINTING_DESC.TXT"
RIGHT_ASCENSION = 90.484
DECLINATION = -29.534
OFFSET_ANGLE = -1e+32
SPACECRAFT_SOLAR_DISTANCE = 2.08861e+08
TARGET_NAME = MARS
/* CAMERA DATA ELEMENTS */
BUFFER_MODE_ID = DIRECT
EXPOSURE_DURATION = 5.04
INST_CMPRS_NAME = NONE
INST_CMPRS_RATIO = 1.0
INST_CMPRS_QUALITY = -2147483648
INST_CMPRS_QUANTZ_TBL_ID = -2147483648
INSTRUMENT_TEMPERATURE = 17.2727
MISSING_FRAMES = 0
START_BIT = 0
/* RADIOMETRIC DATA ELEMENTS */
BANDWIDTH = 250.0
CENTER_FILTER_WAVELENGTH = 600.0
RADIANCE_OFFSET = -9.99e+31
RADIANCE_SCALING_FACTOR = -9.99e+31
REFLECTANCE_SCALING_FACTOR = -9.99e+31
MEX:REFLECTANCE_OFFSET = -9.99e+31
/* IMAGE OBJECT DEFINITIONS */
OBJECT = IMAGE
  INTERCHANGE_FORMAT = BINARY
  LINES = 1439
  LINE_SAMPLES = 1442
  SAMPLE_TYPE = UNSIGNED_INTEGER
  SAMPLE_BITS = 8
  BANDS = 1
  BAND_STORAGE_TYPE = BAND_SEQUENTIAL
  MAXIMUM = 8068
  MEAN = 6039.98
  MINIMUM = 0
  STANDARD_DEVIATION = 388.366
END_OBJECT = IMAGE
/* MAP OBJECT DEFINITIONS */
OBJECT = IMAGE_MAP_PROJECTION
  ^DATA_SET_MAP_PROJECTION_CATALOG= "DSMAP.CAT"
  A_AXIS_RADIUS = 3396.19
  B_AXIS_RADIUS = 3396.19
  C_AXIS_RADIUS = 3396.19
  CENTER_LATITUDE = 0.0
  CENTER_LONGITUDE = 279.0
  COORDINATE_SYSTEM_NAME = PLANETOGRAPHIC
  COORDINATE_SYSTEM_TYPE = "BODY-FIXED ROTATING"
  EASTERNMOST_LONGITUDE = 281.741
  FIRST_STANDARD_PARALLEL = "N/A"
  LINE_FIRST_PIXEL = 1
  LINE_LAST_PIXEL = 1439
  LINE_PROJECTION_OFFSET = -114451.0
  MAP_PROJECTION_ROTATION = 0.0
  MAP_PROJECTION_TYPE = SINUSOIDAL
  MAP_RESOLUTION = 1481.86741280472
  MAP_SCALE = 0.04
  MAXIMUM_LATITUDE = -77.4635
  MINIMUM_LATITUDE = -78.40000000000001
  POSITIVE_LONGITUDE_DIRECTION = EAST
  REFERENCE_LATITUDE = "N/A"
  REFERENCE_LONGITUDE = "N/A"
  SAMPLE_FIRST_PIXEL = 1
  SAMPLE_LAST_PIXEL = 1442
  SAMPLE_PROJECTION_OFFSET = 593.0
  SECOND_STANDARD_PARALLEL = "N/A"
  WESTERNMOST_LONGITUDE = 277.214
END_OBJECT = IMAGE_MAP_PROJECTION
/* The JPEG2000 image data file associated with this label. */
OBJECT = COMPRESSED_FILE
  FILE_NAME = "H1768_0016_SR3.JP2"
  RECORD_TYPE = UNDEFINED
  FILE_RECORDS = UNK
  ENCODING_TYPE = "JP2"
  INTERCHANGE_FORMAT = BINARY
  UNCOMPRESSED_FILE_NAME = "H1768_0016_SR3.IMG"
  REQUIRED_STORAGE_BYTES = "2095226"
  ^DESCRIPTION = "JP2INFO.TXT"
END_OBJECT = COMPRESSED_FILE
END
