PDS_VERSION_ID = PDS3
/* FILE DATA ELEMENTS */
RECORD_TYPE = STREAM
/* POINTERS TO DATA OBJECTS */
^COMPRESSED_FILE = "H1774_0005_SR3.JP2"
/* IDENTIFICATION DATA ELEMENTS */
DATA_SET_ID = "MEX-M-HRSC-5-REFDR-MAPPROJECTED-V3.0"
DATA_SET_NAME = "MARS EXPRESS HRSC MAP PROJECTED REFDR V3.0"
DETECTOR_ID = MEX_HRSC_SRC
EVENT_TYPE = "MARS-TERMINATOR-VARIABLE-Gl-At"
INSTRUMENT_HOST_ID = MEX
INSTRUMENT_HOST_NAME = "MARS EXPRESS"
INSTRUMENT_ID = HRSC
INSTRUMENT_NAME = "HIGH RESOLUTION STEREO CAMERA"
MISSION_NAME = "MARS EXPRESS"
MISSION_PHASE_NAME = MR_Phase_6
PROCESSING_LEVEL_ID = 3
PRODUCT_CREATION_TIME = 2016-03-09T12:57:05.000Z
PRODUCT_ID = "H1774_0005_SR3.JP2"
RELEASE_ID = 0022
REVISION_ID = 0000
/* QUALITY DATA ELEMENTS */
DATA_QUALITY_ID = 1
DATA_QUALITY_DESC = "Data calculated based on original SPICE kernels"
/* TIME DATA ELEMENTS */
SPACECRAFT_CLOCK_START_COUNT = "1/0065874047.56194"
SPACECRAFT_CLOCK_STOP_COUNT = "1/0065875628.01194"
IMAGE_TIME = 2005-06-03T10:23:45.494Z
START_TIME = 2005-06-03T10:23:45.491Z
STOP_TIME = 2005-06-03T10:23:45.496Z
/* ORBITAL DATA ELEMENTS */
ASCENDING_NODE_LONGITUDE = 191.25
MAXIMUM_RESOLUTION = 64.415
FOOTPRINT_POINT_LATITUDE = (-67.1716,-67.2071,-67.2426,-67.3017, -67.3626,-67.3979,-67.4331,-67.4683, -67.5035,-67.5386,-67.5779,-67.6295, -67.6644,-67.6993,-67.7342,-67.769, -67.8124,-67.8471,-67.8818,-67.9165, -67.9592,-67.9937,-68.0401,-68.0746, -68.109,-68.1433,-68.1776,-68.2247, -68.251,-68.2964,-68.3353,-68.3612, -68.3871,-68.4194,-68.4451,-68.4707, -68.509,-68.5345,-68.5598,-68.5911, -68.6158,-68.6409,-68.672,-68.6969, -68.7217,-68.7525,-68.7771,-68.8016, -68.826,-68.8503,-68.7929,-68.7611, -68.7262,-68.6912,-68.6561,-68.592, -68.526,-68.4907,-68.4555,-68.4201, -68.3848,-68.3494,-68.3139,-68.2542, -68.2187,-68.1831,-68.1474,-68.1118, -68.076,-68.0352,-67.9994,-67.9635, -67.9163,-67.8803,-67.8443,-67.7802, -67.739,-67.6964,-67.6726,-67.6408, -67.6168,-67.5927,-67.5605,-67.5362, -67.5118,-67.4813,-67.4567,-67.4321, -67.395,-67.3702,-67.3453,-67.3078, -67.2826,-67.2574,-67.2199,-67.1945, -67.169,-67.1434,-67.1177,-67.1716)
FOOTPRINT_POINT_LONGITUDE = (261.663,261.712,261.762,261.845, 261.931,261.981,262.031,262.082,262.132 ,262.183,262.24,262.316,262.367,262.418 ,262.469,262.52,262.585,262.636,262.688 ,262.74,262.805,262.857,262.928,262.98, 263.033,263.086,263.139,263.139,263.041 ,262.869,262.72,262.621,262.522,262.398 ,262.298,262.198,262.048,261.947, 261.847,261.72,261.619,261.518,261.391, 261.289,261.187,261.059,260.956,260.853 ,260.75,260.647,260.542,260.496,260.446 ,260.395,260.345,260.253,260.159, 260.109,260.06,260.011,259.961,259.912, 259.863,259.781,259.732,259.684,259.635 ,259.587,259.539,259.483,259.435, 259.388,259.325,259.278,259.23,259.145, 259.095,259.27,259.37,259.494,259.593, 259.693,259.843,259.942,260.04,260.163, 260.262,260.36,260.506,260.604,260.701, 260.847,260.944,261.04,261.185,261.281, 261.377,261.473,261.569,261.663)
ORBIT_NUMBER = 1774
ORBITAL_ECCENTRICITY = 0.568
ORBITAL_INCLINATION = 86.62
ORBITAL_SEMIMAJOR_AXIS = 8576.08
PERIAPSIS_ALTITUDE = 322.76
PERIAPSIS_ARGUMENT_ANGLE = 47.56
PERIAPSIS_TIME = 2005-06-03T11:50:32.000Z
SPACECRAFT_ORIENTATION = (0.0,1.0,0.0)
^MEX_ORIENTATION_DESC = "MEX_ORIENTATION_DESC.TXT"
SPACECRAFT_POINTING_MODE = INERT
^MEX_POINTING_DESC = "MEX_POINTING_DESC.TXT"
RIGHT_ASCENSION = 89.514
DECLINATION = -28.853
OFFSET_ANGLE = -1e+32
SPACECRAFT_SOLAR_DISTANCE = 2.08705e+08
TARGET_NAME = MARS
/* CAMERA DATA ELEMENTS */
BUFFER_MODE_ID = DIRECT
EXPOSURE_DURATION = 5.04
INST_CMPRS_NAME = NONE
INST_CMPRS_RATIO = 1.0
INST_CMPRS_QUALITY = -2147483648
INST_CMPRS_QUANTZ_TBL_ID = -2147483648
INSTRUMENT_TEMPERATURE = 11.2121
MISSING_FRAMES = 0
START_BIT = 0
/* RADIOMETRIC DATA ELEMENTS */
BANDWIDTH = 250.0
CENTER_FILTER_WAVELENGTH = 600.0
RADIANCE_OFFSET = -9.99e+31
RADIANCE_SCALING_FACTOR = -9.99e+31
REFLECTANCE_SCALING_FACTOR = -9.99e+31
MEX:REFLECTANCE_OFFSET = -9.99e+31
/* IMAGE OBJECT DEFINITIONS */
OBJECT = IMAGE
  INTERCHANGE_FORMAT = BINARY
  LINES = 1336
  LINE_SAMPLES = 1182
  SAMPLE_TYPE = UNSIGNED_INTEGER
  SAMPLE_BITS = 8
  BANDS = 1
  BAND_STORAGE_TYPE = BAND_SEQUENTIAL
  MAXIMUM = 9891
  MEAN = 8424.95
  MINIMUM = 6198
  STANDARD_DEVIATION = 378.094
END_OBJECT = IMAGE
/* MAP OBJECT DEFINITIONS */
OBJECT = IMAGE_MAP_PROJECTION
  ^DATA_SET_MAP_PROJECTION_CATALOG= "DSMAP.CAT"
  A_AXIS_RADIUS = 3396.19
  B_AXIS_RADIUS = 3396.19
  C_AXIS_RADIUS = 3396.19
  CENTER_LATITUDE = 0.0
  CENTER_LONGITUDE = 261.0
  COORDINATE_SYSTEM_NAME = PLANETOGRAPHIC
  COORDINATE_SYSTEM_TYPE = "BODY-FIXED ROTATING"
  EASTERNMOST_LONGITUDE = 263.139
  FIRST_STANDARD_PARALLEL = "N/A"
  LINE_FIRST_PIXEL = 1
  LINE_LAST_PIXEL = 1336
  LINE_PROJECTION_OFFSET = -49475.0
  MAP_PROJECTION_ROTATION = 0.0
  MAP_PROJECTION_TYPE = SINUSOIDAL
  MAP_RESOLUTION = 740.9337064023611
  MAP_SCALE = 0.08
  MAXIMUM_LATITUDE = -67.1177
  MINIMUM_LATITUDE = -68.8503
  POSITIVE_LONGITUDE_DIRECTION = EAST
  REFERENCE_LATITUDE = "N/A"
  REFERENCE_LONGITUDE = "N/A"
  SAMPLE_FIRST_PIXEL = 1
  SAMPLE_LAST_PIXEL = 1182
  SAMPLE_PROJECTION_OFFSET = 576.0
  SECOND_STANDARD_PARALLEL = "N/A"
  WESTERNMOST_LONGITUDE = 259.095
END_OBJECT = IMAGE_MAP_PROJECTION
/* The JPEG2000 image data file associated with this label. */
OBJECT = COMPRESSED_FILE
  FILE_NAME = "H1774_0005_SR3.JP2"
  RECORD_TYPE = UNDEFINED
  FILE_RECORDS = UNK
  ENCODING_TYPE = "JP2"
  INTERCHANGE_FORMAT = BINARY
  UNCOMPRESSED_FILE_NAME = "H1774_0005_SR3.IMG"
  REQUIRED_STORAGE_BYTES = "1598064"
  ^DESCRIPTION = "JP2INFO.TXT"
END_OBJECT = COMPRESSED_FILE
END
