PDS_VERSION_ID = PDS3
/* FILE DATA ELEMENTS */
RECORD_TYPE = STREAM
/* POINTERS TO DATA OBJECTS */
^COMPRESSED_FILE = "H1774_0020_SR3.JP2"
/* IDENTIFICATION DATA ELEMENTS */
DATA_SET_ID = "MEX-M-HRSC-5-REFDR-MAPPROJECTED-V3.0"
DATA_SET_NAME = "MARS EXPRESS HRSC MAP PROJECTED REFDR V3.0"
DETECTOR_ID = MEX_HRSC_SRC
EVENT_TYPE = "MARS-TERMINATOR-VARIABLE-Gl-At"
INSTRUMENT_HOST_ID = MEX
INSTRUMENT_HOST_NAME = "MARS EXPRESS"
INSTRUMENT_ID = HRSC
INSTRUMENT_NAME = "HIGH RESOLUTION STEREO CAMERA"
MISSION_NAME = "MARS EXPRESS"
MISSION_PHASE_NAME = MR_Phase_6
PROCESSING_LEVEL_ID = 3
PRODUCT_CREATION_TIME = 2016-03-09T12:57:05.000Z
PRODUCT_ID = "H1774_0020_SR3.JP2"
RELEASE_ID = 0022
REVISION_ID = 0000
/* QUALITY DATA ELEMENTS */
DATA_QUALITY_ID = 1
DATA_QUALITY_DESC = "Data calculated based on original SPICE kernels"
/* TIME DATA ELEMENTS */
SPACECRAFT_CLOCK_START_COUNT = "1/0065874047.56194"
SPACECRAFT_CLOCK_STOP_COUNT = "1/0065875628.01194"
IMAGE_TIME = 2005-06-03T10:32:07.459Z
START_TIME = 2005-06-03T10:32:07.457Z
STOP_TIME = 2005-06-03T10:32:07.462Z
/* ORBITAL DATA ELEMENTS */
ASCENDING_NODE_LONGITUDE = 191.25
MAXIMUM_RESOLUTION = 57.396
FOOTPRINT_POINT_LATITUDE = (-82.4026,-82.4353,-82.4495,-82.4691, -82.5015,-82.5167,-82.536,-82.5497, -82.5688,-82.6004,-82.6324,-82.6635, -82.6943,-82.7242,-82.7532,-82.7822, -82.7951,-82.8128,-82.8305,-82.8481, -82.8655,-82.8926,-82.9194,-82.9363, -82.9546,-82.9717,-83.0056,-83.0393, -83.0732,-83.1069,-83.1405,-83.1741, -83.2076,-83.2409,-83.2659,-83.2992, -83.3324,-83.3655,-83.3903,-83.4233, -83.4564,-83.4892,-83.5138,-83.5465, -83.5709,-83.6035,-83.6279,-83.6603, -83.6926,-83.7409,-83.7731,-83.8052, -83.7947,-83.7733,-83.75,-83.7224, -83.6939,-83.6652,-83.6363,-83.6165, -83.5965,-83.5764,-83.5454,-83.5142, -83.4821,-83.4615,-83.4388,-83.4174, -83.3835,-83.3494,-83.3151,-83.2804, -83.2449,-83.2083,-83.1865,-83.1593, -83.1153,-83.0857,-83.049,-83.0195, -82.9748,-82.9448,-82.9223,-82.8922, -82.8694,-82.8237,-82.7933,-82.7556, -82.717,-82.6863,-82.6631,-82.6322, -82.609,-82.5779,-82.5468,-82.5156, -82.4922,-82.4609,-82.4222,-82.4026)
FOOTPRINT_POINT_LONGITUDE = (281.414,281.736,281.879,282.073, 282.406,282.564,282.761,282.904,283.103 ,283.437,283.776,284.112,284.453, 284.791,285.124,285.466,285.618,285.83, 286.044,286.259,286.474,286.813,287.154 ,287.373,287.614,287.825,287.663,287.5, 287.335,287.169,287.001,286.831,286.659 ,286.486,286.355,286.179,286.0,285.821, 285.684,285.501,285.317,285.13,284.989, 284.799,284.655,284.461,284.315,284.117 ,283.918,283.616,283.411,283.205, 282.981,282.713,282.426,282.09,281.75, 281.413,281.078,280.852,280.628,280.404 ,280.064,279.727,279.386,279.171, 278.936,278.716,278.374,278.034,277.698 ,277.365,277.029,276.69,276.491,276.378 ,276.703,276.917,277.184,277.396, 277.709,277.915,278.069,278.272,278.422 ,278.721,278.919,279.166,279.407, 279.599,279.741,279.931,280.071,280.258 ,280.443,280.626,280.763,280.944,281.17 ,281.414)
ORBIT_NUMBER = 1774
ORBITAL_ECCENTRICITY = 0.568
ORBITAL_INCLINATION = 86.62
ORBITAL_SEMIMAJOR_AXIS = 8576.08
PERIAPSIS_ALTITUDE = 322.76
PERIAPSIS_ARGUMENT_ANGLE = 47.56
PERIAPSIS_TIME = 2005-06-03T11:50:32.000Z
SPACECRAFT_ORIENTATION = (0.0,1.0,0.0)
^MEX_ORIENTATION_DESC = "MEX_ORIENTATION_DESC.TXT"
SPACECRAFT_POINTING_MODE = INERT
^MEX_POINTING_DESC = "MEX_POINTING_DESC.TXT"
RIGHT_ASCENSION = 89.514
DECLINATION = -28.853
OFFSET_ANGLE = -1e+32
SPACECRAFT_SOLAR_DISTANCE = 2.08705e+08
TARGET_NAME = MARS
/* CAMERA DATA ELEMENTS */
BUFFER_MODE_ID = DIRECT
EXPOSURE_DURATION = 5.04
INST_CMPRS_NAME = NONE
INST_CMPRS_RATIO = 1.0
INST_CMPRS_QUALITY = -2147483648
INST_CMPRS_QUANTZ_TBL_ID = -2147483648
INSTRUMENT_TEMPERATURE = 20.2597
MISSING_FRAMES = 0
START_BIT = 0
/* RADIOMETRIC DATA ELEMENTS */
BANDWIDTH = 250.0
CENTER_FILTER_WAVELENGTH = 600.0
RADIANCE_OFFSET = -9.99e+31
RADIANCE_SCALING_FACTOR = -9.99e+31
REFLECTANCE_SCALING_FACTOR = -9.99e+31
MEX:REFLECTANCE_OFFSET = -9.99e+31
/* IMAGE OBJECT DEFINITIONS */
OBJECT = IMAGE
  INTERCHANGE_FORMAT = BINARY
  LINES = 2149
  LINE_SAMPLES = 2108
  SAMPLE_TYPE = UNSIGNED_INTEGER
  SAMPLE_BITS = 8
  BANDS = 1
  BAND_STORAGE_TYPE = BAND_SEQUENTIAL
  MAXIMUM = 11351
  MEAN = 9539.82
  MINIMUM = 29
  STANDARD_DEVIATION = 357.999
END_OBJECT = IMAGE
/* MAP OBJECT DEFINITIONS */
OBJECT = IMAGE_MAP_PROJECTION
  ^DATA_SET_MAP_PROJECTION_CATALOG= "DSMAP.CAT"
  A_AXIS_RADIUS = 3396.19
  B_AXIS_RADIUS = 3396.19
  C_AXIS_RADIUS = 3396.19
  CENTER_LATITUDE = 0.0
  CENTER_LONGITUDE = 282.0
  COORDINATE_SYSTEM_NAME = PLANETOGRAPHIC
  COORDINATE_SYSTEM_TYPE = "BODY-FIXED ROTATING"
  EASTERNMOST_LONGITUDE = 287.825
  FIRST_STANDARD_PARALLEL = "N/A"
  LINE_FIRST_PIXEL = 1
  LINE_LAST_PIXEL = 2149
  LINE_PROJECTION_OFFSET = -121631.0
  MAP_PROJECTION_ROTATION = 0.0
  MAP_PROJECTION_TYPE = SINUSOIDAL
  MAP_RESOLUTION = 1481.86741280472
  MAP_SCALE = 0.04
  MAXIMUM_LATITUDE = -82.40260000000001
  MINIMUM_LATITUDE = -83.8052
  POSITIVE_LONGITUDE_DIRECTION = EAST
  REFERENCE_LATITUDE = "N/A"
  REFERENCE_LONGITUDE = "N/A"
  SAMPLE_FIRST_PIXEL = 1
  SAMPLE_LAST_PIXEL = 2108
  SAMPLE_PROJECTION_OFFSET = 1090.0
  SECOND_STANDARD_PARALLEL = "N/A"
  WESTERNMOST_LONGITUDE = 276.378
END_OBJECT = IMAGE_MAP_PROJECTION
/* The JPEG2000 image data file associated with this label. */
OBJECT = COMPRESSED_FILE
  FILE_NAME = "H1774_0020_SR3.JP2"
  RECORD_TYPE = UNDEFINED
  FILE_RECORDS = UNK
  ENCODING_TYPE = "JP2"
  INTERCHANGE_FORMAT = BINARY
  UNCOMPRESSED_FILE_NAME = "H1774_0020_SR3.IMG"
  REQUIRED_STORAGE_BYTES = "4551172"
  ^DESCRIPTION = "JP2INFO.TXT"
END_OBJECT = COMPRESSED_FILE
END
