PDS_VERSION_ID = PDS3
/* FILE DATA ELEMENTS */
RECORD_TYPE = STREAM
/* POINTERS TO DATA OBJECTS */
^COMPRESSED_FILE = "H1774_0021_SR3.JP2"
/* IDENTIFICATION DATA ELEMENTS */
DATA_SET_ID = "MEX-M-HRSC-5-REFDR-MAPPROJECTED-V3.0"
DATA_SET_NAME = "MARS EXPRESS HRSC MAP PROJECTED REFDR V3.0"
DETECTOR_ID = MEX_HRSC_SRC
EVENT_TYPE = "MARS-TERMINATOR-VARIABLE-Gl-At"
INSTRUMENT_HOST_ID = MEX
INSTRUMENT_HOST_NAME = "MARS EXPRESS"
INSTRUMENT_ID = HRSC
INSTRUMENT_NAME = "HIGH RESOLUTION STEREO CAMERA"
MISSION_NAME = "MARS EXPRESS"
MISSION_PHASE_NAME = MR_Phase_6
PROCESSING_LEVEL_ID = 3
PRODUCT_CREATION_TIME = 2016-03-09T12:57:05.000Z
PRODUCT_ID = "H1774_0021_SR3.JP2"
RELEASE_ID = 0022
REVISION_ID = 0000
/* QUALITY DATA ELEMENTS */
DATA_QUALITY_ID = 1
DATA_QUALITY_DESC = "Data calculated based on original SPICE kernels"
/* TIME DATA ELEMENTS */
SPACECRAFT_CLOCK_START_COUNT = "1/0065874047.56194"
SPACECRAFT_CLOCK_STOP_COUNT = "1/0065875628.01194"
IMAGE_TIME = 2005-06-03T10:32:39.071Z
START_TIME = 2005-06-03T10:32:39.068Z
STOP_TIME = 2005-06-03T10:32:39.073Z
/* ORBITAL DATA ELEMENTS */
ASCENDING_NODE_LONGITUDE = 191.25
MAXIMUM_RESOLUTION = 56.994
FOOTPRINT_POINT_LATITUDE = (-83.2058,-83.2234,-83.2409,-83.2664, -83.2837,-83.3008,-83.3252,-83.3498, -83.3738,-83.3975,-83.4204,-83.4391, -83.466,-83.4882,-83.5096,-83.5309, -83.552,-83.5727,-83.5928,-83.6129, -83.6323,-83.6446,-83.6635,-83.6821, -83.6952,-83.7343,-83.7696,-83.8137, -83.8489,-83.8839,-83.9276,-83.9625, -83.9974,-84.0322,-84.0582,-84.0929, -84.1364,-84.171,-84.1969,-84.2313, -84.2657,-84.3,-84.3257,-84.3599, -84.3855,-84.4196,-84.4623,-84.4962, -84.5385,-84.5723,-84.5613,-84.5425, -84.523,-84.4911,-84.4711,-84.4477, -84.4289,-84.4072,-84.3853,-84.3632, -84.3409,-84.318,-84.2947,-84.2706, -84.2464,-84.2219,-84.1973,-84.1719, -84.1464,-84.1272,-84.1114,-84.092, -84.0664,-84.0387,-84.0189,-83.9767, -83.9382,-83.9072,-83.8761,-83.8449, -83.8057,-83.7741,-83.7268,-83.6793, -83.6555,-83.6237,-83.5997,-83.5678, -83.5277,-83.4955,-83.4633,-83.439, -83.4066,-83.3742,-83.3416,-83.3172, -83.2845,-83.2599,-83.2271,-83.2058)
FOOTPRINT_POINT_LONGITUDE = (285.575,285.8,286.025,286.359,286.587, 286.816,287.148,287.489,287.826,288.164 ,288.498,288.774,289.174,289.514, 289.848,290.186,290.525,290.865,291.201 ,291.539,291.872,292.087,292.422, 292.758,292.999,292.902,292.75,292.559, 292.404,292.246,292.047,291.885,291.721 ,291.556,291.43,291.26,291.049,290.875, 290.743,290.566,290.386,290.204,290.067 ,289.881,289.74,289.55,289.312,289.117, 288.87,288.669,288.352,288.022,287.685, 287.147,286.816,286.441,286.14,285.799, 285.461,285.124,284.791,284.453,284.117 ,283.774,283.435,283.099,282.765, 282.427,282.092,281.844,281.64,281.395, 281.075,280.736,280.497,280.603,280.882 ,281.104,281.323,281.539,281.807, 282.018,282.331,282.64,282.793,282.995, 283.145,283.343,283.589,283.783,283.975 ,284.117,284.306,284.493,284.678, 284.815,284.997,285.132,285.311, 285.575)
ORBIT_NUMBER = 1774
ORBITAL_ECCENTRICITY = 0.568
ORBITAL_INCLINATION = 86.62
ORBITAL_SEMIMAJOR_AXIS = 8576.08
PERIAPSIS_ALTITUDE = 322.76
PERIAPSIS_ARGUMENT_ANGLE = 47.56
PERIAPSIS_TIME = 2005-06-03T11:50:32.000Z
SPACECRAFT_ORIENTATION = (0.0,1.0,0.0)
^MEX_ORIENTATION_DESC = "MEX_ORIENTATION_DESC.TXT"
SPACECRAFT_POINTING_MODE = INERT
^MEX_POINTING_DESC = "MEX_POINTING_DESC.TXT"
RIGHT_ASCENSION = 89.514
DECLINATION = -28.853
OFFSET_ANGLE = -1e+32
SPACECRAFT_SOLAR_DISTANCE = 2.08705e+08
TARGET_NAME = MARS
/* CAMERA DATA ELEMENTS */
BUFFER_MODE_ID = DIRECT
EXPOSURE_DURATION = 5.04
INST_CMPRS_NAME = NONE
INST_CMPRS_RATIO = 1.0
INST_CMPRS_QUALITY = -2147483648
INST_CMPRS_QUANTZ_TBL_ID = -2147483648
INSTRUMENT_TEMPERATURE = 20.2597
MISSING_FRAMES = 0
START_BIT = 0
/* RADIOMETRIC DATA ELEMENTS */
BANDWIDTH = 250.0
CENTER_FILTER_WAVELENGTH = 600.0
RADIANCE_OFFSET = -9.99e+31
RADIANCE_SCALING_FACTOR = -9.99e+31
REFLECTANCE_SCALING_FACTOR = -9.99e+31
MEX:REFLECTANCE_OFFSET = -9.99e+31
/* IMAGE OBJECT DEFINITIONS */
OBJECT = IMAGE
  INTERCHANGE_FORMAT = BINARY
  LINES = 2093
  LINE_SAMPLES = 2058
  SAMPLE_TYPE = UNSIGNED_INTEGER
  SAMPLE_BITS = 8
  BANDS = 1
  BAND_STORAGE_TYPE = BAND_SEQUENTIAL
  MAXIMUM = 10899
  MEAN = 9640.28
  MINIMUM = 2
  STANDARD_DEVIATION = 414.92
END_OBJECT = IMAGE
/* MAP OBJECT DEFINITIONS */
OBJECT = IMAGE_MAP_PROJECTION
  ^DATA_SET_MAP_PROJECTION_CATALOG= "DSMAP.CAT"
  A_AXIS_RADIUS = 3396.19
  B_AXIS_RADIUS = 3396.19
  C_AXIS_RADIUS = 3396.19
  CENTER_LATITUDE = 0.0
  CENTER_LONGITUDE = 287.0
  COORDINATE_SYSTEM_NAME = PLANETOGRAPHIC
  COORDINATE_SYSTEM_TYPE = "BODY-FIXED ROTATING"
  EASTERNMOST_LONGITUDE = 292.999
  FIRST_STANDARD_PARALLEL = "N/A"
  LINE_FIRST_PIXEL = 1
  LINE_LAST_PIXEL = 2093
  LINE_PROJECTION_OFFSET = -122830.0
  MAP_PROJECTION_ROTATION = 0.0
  MAP_PROJECTION_TYPE = SINUSOIDAL
  MAP_RESOLUTION = 1481.86741280472
  MAP_SCALE = 0.04
  MAXIMUM_LATITUDE = -83.2058
  MINIMUM_LATITUDE = -84.5723
  POSITIVE_LONGITUDE_DIRECTION = EAST
  REFERENCE_LATITUDE = "N/A"
  REFERENCE_LONGITUDE = "N/A"
  SAMPLE_FIRST_PIXEL = 1
  SAMPLE_LAST_PIXEL = 2058
  SAMPLE_PROJECTION_OFFSET = 1116.0
  SECOND_STANDARD_PARALLEL = "N/A"
  WESTERNMOST_LONGITUDE = 280.497
END_OBJECT = IMAGE_MAP_PROJECTION
/* The JPEG2000 image data file associated with this label. */
OBJECT = COMPRESSED_FILE
  FILE_NAME = "H1774_0021_SR3.JP2"
  RECORD_TYPE = UNDEFINED
  FILE_RECORDS = UNK
  ENCODING_TYPE = "JP2"
  INTERCHANGE_FORMAT = BINARY
  UNCOMPRESSED_FILE_NAME = "H1774_0021_SR3.IMG"
  REQUIRED_STORAGE_BYTES = "4327974"
  ^DESCRIPTION = "JP2INFO.TXT"
END_OBJECT = COMPRESSED_FILE
END
