PDS_VERSION_ID = PDS3
/* FILE DATA ELEMENTS */
RECORD_TYPE = STREAM
/* POINTERS TO DATA OBJECTS */
^COMPRESSED_FILE = "H1774_0039_SR3.JP2"
/* IDENTIFICATION DATA ELEMENTS */
DATA_SET_ID = "MEX-M-HRSC-5-REFDR-MAPPROJECTED-V3.0"
DATA_SET_NAME = "MARS EXPRESS HRSC MAP PROJECTED REFDR V3.0"
DETECTOR_ID = MEX_HRSC_SRC
EVENT_TYPE = "MARS-TERMINATOR-VARIABLE-Gl-At"
INSTRUMENT_HOST_ID = MEX
INSTRUMENT_HOST_NAME = "MARS EXPRESS"
INSTRUMENT_ID = HRSC
INSTRUMENT_NAME = "HIGH RESOLUTION STEREO CAMERA"
MISSION_NAME = "MARS EXPRESS"
MISSION_PHASE_NAME = MR_Phase_6
PROCESSING_LEVEL_ID = 3
PRODUCT_CREATION_TIME = 2016-03-09T12:57:05.000Z
PRODUCT_ID = "H1774_0039_SR3.JP2"
RELEASE_ID = 0022
REVISION_ID = 0000
/* QUALITY DATA ELEMENTS */
DATA_QUALITY_ID = 1
DATA_QUALITY_DESC = "Data calculated based on original SPICE kernels"
/* TIME DATA ELEMENTS */
SPACECRAFT_CLOCK_START_COUNT = "1/0065874047.56194"
SPACECRAFT_CLOCK_STOP_COUNT = "1/0065875628.01194"
IMAGE_TIME = 2005-06-03T10:41:26.110Z
START_TIME = 2005-06-03T10:41:26.107Z
STOP_TIME = 2005-06-03T10:41:26.112Z
/* ORBITAL DATA ELEMENTS */
ASCENDING_NODE_LONGITUDE = 191.25
MAXIMUM_RESOLUTION = 50.904
FOOTPRINT_POINT_LATITUDE = (-78.9522,-78.9246,-78.897,-78.8693, -78.8417,-78.8141,-78.7865,-78.7589, -78.7054,-78.6777,-78.6501,-78.6225, -78.5948,-78.5672,-78.5396,-78.512, -78.4843,-78.4567,-78.429,-78.4014, -78.3696,-78.3419,-78.3143,-78.2866, -78.259,-78.2314,-78.2037,-78.1761, -78.1312,-78.1312,-78.1312,-78.131, -78.1308,-78.1304,-78.1296,-78.1284, -78.1272,-78.126,-78.1249,-78.1237, -78.1224,-78.121,-78.1195,-78.1179, -78.1163,-78.1141,-78.1107,-78.1086, -78.1064,-78.1041,-78.1457,-78.1733, -78.2009,-78.2284,-78.256,-78.2948, -78.3223,-78.3499,-78.3775,-78.412, -78.4396,-78.4671,-78.4947,-78.5222, -78.5498,-78.5774,-78.6049,-78.6325, -78.66,-78.6876,-78.7151,-78.7642, -78.7918,-78.8193,-78.8469,-78.8744, -78.902,-78.957,-78.9731,-78.9755, -78.9778,-78.9815,-78.9835,-78.9854, -78.9871,-78.9896,-78.9911,-78.9928, -78.9946,-78.9957,-78.9969,-78.9981, -78.9988,-78.9994,-78.9999,-79.0004, -79.0006,-79.0006,-79.0006,-78.9522)
FOOTPRINT_POINT_LONGITUDE = (46.6218,46.6224,46.6231,46.6237, 46.6243,46.6249,46.6255,46.6261,46.6273 ,46.6279,46.6284,46.629,46.6296,46.6302 ,46.6308,46.6313,46.6319,46.6325,46.633 ,46.6336,46.6343,46.6348,46.6354, 46.6359,46.6365,46.637,46.6376,46.6381, 46.7271,46.8949,47.0627,47.2306,47.3984 ,47.5662,47.8599,48.1535,48.4051, 48.6147,48.7823,48.95,49.1176,49.2852, 49.4527,49.6202,49.7877,49.9969,50.2897 ,50.457,50.6242,50.7913,50.9143,50.9236 ,50.9329,50.9422,50.9516,50.9649, 50.9744,50.984,50.9935,51.0055,51.0152, 51.025,51.0347,51.0446,51.0545,51.0644, 51.0744,51.0844,51.0945,51.1046,51.1148 ,51.1329,51.1432,51.1536,51.164,51.1745 ,51.185,51.2062,50.9818,50.8018,50.6217 ,50.3064,50.1261,49.9458,49.7654, 49.4947,49.3142,49.0885,48.8176,48.6369 ,48.411,48.1399,47.9591,47.7783,47.5522 ,47.2357,47.0548,46.8287,46.6479, 46.6218)
ORBIT_NUMBER = 1774
ORBITAL_ECCENTRICITY = 0.568
ORBITAL_INCLINATION = 86.62
ORBITAL_SEMIMAJOR_AXIS = 8576.08
PERIAPSIS_ALTITUDE = 322.76
PERIAPSIS_ARGUMENT_ANGLE = 47.56
PERIAPSIS_TIME = 2005-06-03T11:50:32.000Z
SPACECRAFT_ORIENTATION = (0.0,1.0,0.0)
^MEX_ORIENTATION_DESC = "MEX_ORIENTATION_DESC.TXT"
SPACECRAFT_POINTING_MODE = INERT
^MEX_POINTING_DESC = "MEX_POINTING_DESC.TXT"
RIGHT_ASCENSION = 89.514
DECLINATION = -28.853
OFFSET_ANGLE = -1e+32
SPACECRAFT_SOLAR_DISTANCE = 2.08705e+08
TARGET_NAME = MARS
/* CAMERA DATA ELEMENTS */
BUFFER_MODE_ID = DIRECT
EXPOSURE_DURATION = 5.04
INST_CMPRS_NAME = NONE
INST_CMPRS_RATIO = 1.0
INST_CMPRS_QUALITY = -2147483648
INST_CMPRS_QUANTZ_TBL_ID = -2147483648
INSTRUMENT_TEMPERATURE = 25.4545
MISSING_FRAMES = 0
START_BIT = 0
/* RADIOMETRIC DATA ELEMENTS */
BANDWIDTH = 250.0
CENTER_FILTER_WAVELENGTH = 600.0
RADIANCE_OFFSET = -9.99e+31
RADIANCE_SCALING_FACTOR = -9.99e+31
REFLECTANCE_SCALING_FACTOR = -9.99e+31
MEX:REFLECTANCE_OFFSET = -9.99e+31
/* IMAGE OBJECT DEFINITIONS */
OBJECT = IMAGE
  INTERCHANGE_FORMAT = BINARY
  LINES = 1376
  LINE_SAMPLES = 1392
  SAMPLE_TYPE = UNSIGNED_INTEGER
  SAMPLE_BITS = 8
  BANDS = 1
  BAND_STORAGE_TYPE = BAND_SEQUENTIAL
  MAXIMUM = 6196
  MEAN = 5383.77
  MINIMUM = 0
  STANDARD_DEVIATION = 333.014
END_OBJECT = IMAGE
/* MAP OBJECT DEFINITIONS */
OBJECT = IMAGE_MAP_PROJECTION
  ^DATA_SET_MAP_PROJECTION_CATALOG= "DSMAP.CAT"
  A_AXIS_RADIUS = 3396.19
  B_AXIS_RADIUS = 3396.19
  C_AXIS_RADIUS = 3396.19
  CENTER_LATITUDE = 0.0
  CENTER_LONGITUDE = 49.0
  COORDINATE_SYSTEM_NAME = PLANETOGRAPHIC
  COORDINATE_SYSTEM_TYPE = "BODY-FIXED ROTATING"
  EASTERNMOST_LONGITUDE = 51.2062
  FIRST_STANDARD_PARALLEL = "N/A"
  LINE_FIRST_PIXEL = 1
  LINE_LAST_PIXEL = 1376
  LINE_PROJECTION_OFFSET = -115404.0
  MAP_PROJECTION_ROTATION = 0.0
  MAP_PROJECTION_TYPE = SINUSOIDAL
  MAP_RESOLUTION = 1481.86741280472
  MAP_SCALE = 0.04
  MAXIMUM_LATITUDE = -78.1041
  MINIMUM_LATITUDE = -79.00060000000001
  POSITIVE_LONGITUDE_DIRECTION = EAST
  REFERENCE_LATITUDE = "N/A"
  REFERENCE_LONGITUDE = "N/A"
  SAMPLE_FIRST_PIXEL = 1
  SAMPLE_LAST_PIXEL = 1392
  SAMPLE_PROJECTION_OFFSET = 739.0
  SECOND_STANDARD_PARALLEL = "N/A"
  WESTERNMOST_LONGITUDE = 46.6218
END_OBJECT = IMAGE_MAP_PROJECTION
/* The JPEG2000 image data file associated with this label. */
OBJECT = COMPRESSED_FILE
  FILE_NAME = "H1774_0039_SR3.JP2"
  RECORD_TYPE = UNDEFINED
  FILE_RECORDS = UNK
  ENCODING_TYPE = "JP2"
  INTERCHANGE_FORMAT = BINARY
  UNCOMPRESSED_FILE_NAME = "H1774_0039_SR3.IMG"
  REQUIRED_STORAGE_BYTES = "1934880"
  ^DESCRIPTION = "JP2INFO.TXT"
END_OBJECT = COMPRESSED_FILE
END
