PDS_VERSION_ID = PDS3
/* FILE DATA ELEMENTS */
RECORD_TYPE = STREAM
/* POINTERS TO DATA OBJECTS */
^COMPRESSED_FILE = "H1774_0051_SR3.JP2"
/* IDENTIFICATION DATA ELEMENTS */
DATA_SET_ID = "MEX-M-HRSC-5-REFDR-MAPPROJECTED-V3.0"
DATA_SET_NAME = "MARS EXPRESS HRSC MAP PROJECTED REFDR V3.0"
DETECTOR_ID = MEX_HRSC_SRC
EVENT_TYPE = "MARS-TERMINATOR-VARIABLE-Gl-At"
INSTRUMENT_HOST_ID = MEX
INSTRUMENT_HOST_NAME = "MARS EXPRESS"
INSTRUMENT_ID = HRSC
INSTRUMENT_NAME = "HIGH RESOLUTION STEREO CAMERA"
MISSION_NAME = "MARS EXPRESS"
MISSION_PHASE_NAME = MR_Phase_6
PROCESSING_LEVEL_ID = 3
PRODUCT_CREATION_TIME = 2016-03-09T12:57:05.000Z
PRODUCT_ID = "H1774_0051_SR3.JP2"
RELEASE_ID = 0022
REVISION_ID = 0000
/* QUALITY DATA ELEMENTS */
DATA_QUALITY_ID = 1
DATA_QUALITY_DESC = "Data calculated based on original SPICE kernels"
/* TIME DATA ELEMENTS */
SPACECRAFT_CLOCK_START_COUNT = "1/0065874047.56194"
SPACECRAFT_CLOCK_STOP_COUNT = "1/0065875628.01194"
IMAGE_TIME = 2005-06-03T10:46:47.676Z
START_TIME = 2005-06-03T10:46:47.673Z
STOP_TIME = 2005-06-03T10:46:47.678Z
/* ORBITAL DATA ELEMENTS */
ASCENDING_NODE_LONGITUDE = 191.25
MAXIMUM_RESOLUTION = 47.563
FOOTPRINT_POINT_LATITUDE = (-69.7225,-69.6708,-69.6449,-69.604, -69.5781,-69.5522,-69.5262,-69.5003, -69.4744,-69.4484,-69.4224,-69.3965, -69.3705,-69.3445,-69.3186,-69.2926, -69.2665,-69.2405,-69.2145,-69.1885, -69.1625,-69.1364,-69.1104,-69.0844, -69.0583,-69.0322,-68.9916,-68.9655, -68.9371,-68.9289,-68.9234,-68.915, -68.9094,-68.9038,-68.8938,-68.888, -68.8822,-68.8719,-68.866,-68.86, -68.8491,-68.843,-68.8368,-68.8306, -68.8241,-68.8178,-68.8114,-68.8, -68.7935,-68.7997,-68.8256,-68.8516, -68.8775,-68.9034,-68.9293,-68.9706, -68.9965,-69.0224,-69.0483,-69.0854, -69.1112,-69.1371,-69.1629,-69.1888, -69.2146,-69.2405,-69.2663,-69.3166, -69.3424,-69.3682,-69.394,-69.4198, -69.4455,-69.4713,-69.4971,-69.5228, -69.5486,-69.5994,-69.6087,-69.6154, -69.6221,-69.6336,-69.6401,-69.6466, -69.6578,-69.6641,-69.6704,-69.6797, -69.6859,-69.692,-69.7027,-69.7087, -69.7146,-69.7252,-69.731,-69.7367, -69.743,-69.7486,-69.7542,-69.7225)
FOOTPRINT_POINT_LONGITUDE = (55.3297,55.3055,55.2934,55.2754, 55.2634,55.2515,55.2396,55.2277,55.2158 ,55.2039,55.1921,55.1803,55.1686, 55.1569,55.1451,55.1335,55.1224,55.1108 ,55.0992,55.0877,55.0761,55.0646, 55.0531,55.0416,55.0302,55.0188,55.001, 54.9897,55.0024,55.1355,55.2242,55.3572 ,55.4458,55.5344,55.6892,55.7777, 55.8661,56.0206,56.1089,56.1972,56.3516 ,56.4397,56.5278,56.6158,56.7039, 56.7918,56.8797,57.0335,57.1213,57.2295 ,57.2432,57.257,57.2708,57.2847,57.2986 ,57.3208,57.3347,57.3487,57.3628, 57.3831,57.3972,57.4113,57.4255,57.4397 ,57.454,57.4683,57.4826,57.5102,57.5246 ,57.5391,57.5536,57.5681,57.5826, 57.5972,57.6119,57.6265,57.6412,57.668, 57.554,57.4632,57.3723,57.2131,57.1221, 57.031,56.8716,56.7804,56.6891,56.5521, 56.4607,56.3693,56.2092,56.1176,56.026, 55.8655,55.7738,55.682,55.59,55.4981, 55.4063,55.3297)
ORBIT_NUMBER = 1774
ORBITAL_ECCENTRICITY = 0.568
ORBITAL_INCLINATION = 86.62
ORBITAL_SEMIMAJOR_AXIS = 8576.08
PERIAPSIS_ALTITUDE = 322.76
PERIAPSIS_ARGUMENT_ANGLE = 47.56
PERIAPSIS_TIME = 2005-06-03T11:50:32.000Z
SPACECRAFT_ORIENTATION = (0.0,1.0,0.0)
^MEX_ORIENTATION_DESC = "MEX_ORIENTATION_DESC.TXT"
SPACECRAFT_POINTING_MODE = INERT
^MEX_POINTING_DESC = "MEX_POINTING_DESC.TXT"
RIGHT_ASCENSION = 89.514
DECLINATION = -28.853
OFFSET_ANGLE = -1e+32
SPACECRAFT_SOLAR_DISTANCE = 2.08705e+08
TARGET_NAME = MARS
/* CAMERA DATA ELEMENTS */
BUFFER_MODE_ID = DIRECT
EXPOSURE_DURATION = 5.04
INST_CMPRS_NAME = NONE
INST_CMPRS_RATIO = 1.0
INST_CMPRS_QUALITY = -2147483648
INST_CMPRS_QUANTZ_TBL_ID = -2147483648
INSTRUMENT_TEMPERATURE = 28.0519
MISSING_FRAMES = 0
START_BIT = 0
/* RADIOMETRIC DATA ELEMENTS */
BANDWIDTH = 250.0
CENTER_FILTER_WAVELENGTH = 600.0
RADIANCE_OFFSET = -9.99e+31
RADIANCE_SCALING_FACTOR = -9.99e+31
REFLECTANCE_SCALING_FACTOR = -9.99e+31
MEX:REFLECTANCE_OFFSET = -9.99e+31
/* IMAGE OBJECT DEFINITIONS */
OBJECT = IMAGE
  INTERCHANGE_FORMAT = BINARY
  LINES = 1482
  LINE_SAMPLES = 1453
  SAMPLE_TYPE = UNSIGNED_INTEGER
  SAMPLE_BITS = 8
  BANDS = 1
  BAND_STORAGE_TYPE = BAND_SEQUENTIAL
  MAXIMUM = 6585
  MEAN = 5152.08
  MINIMUM = 0
  STANDARD_DEVIATION = 372.867
END_OBJECT = IMAGE
/* MAP OBJECT DEFINITIONS */
OBJECT = IMAGE_MAP_PROJECTION
  ^DATA_SET_MAP_PROJECTION_CATALOG= "DSMAP.CAT"
  A_AXIS_RADIUS = 3396.19
  B_AXIS_RADIUS = 3396.19
  C_AXIS_RADIUS = 3396.19
  CENTER_LATITUDE = 0.0
  CENTER_LONGITUDE = 56.0
  COORDINATE_SYSTEM_NAME = PLANETOGRAPHIC
  COORDINATE_SYSTEM_TYPE = "BODY-FIXED ROTATING"
  EASTERNMOST_LONGITUDE = 57.668
  FIRST_STANDARD_PARALLEL = "N/A"
  LINE_FIRST_PIXEL = 1
  LINE_LAST_PIXEL = 1482
  LINE_PROJECTION_OFFSET = -101602.0
  MAP_PROJECTION_ROTATION = 0.0
  MAP_PROJECTION_TYPE = SINUSOIDAL
  MAP_RESOLUTION = 1481.86741280472
  MAP_SCALE = 0.04
  MAXIMUM_LATITUDE = -68.79349999999999
  MINIMUM_LATITUDE = -69.7542
  POSITIVE_LONGITUDE_DIRECTION = EAST
  REFERENCE_LATITUDE = "N/A"
  REFERENCE_LONGITUDE = "N/A"
  SAMPLE_FIRST_PIXEL = 1
  SAMPLE_LAST_PIXEL = 1453
  SAMPLE_PROJECTION_OFFSET = 554.0
  SECOND_STANDARD_PARALLEL = "N/A"
  WESTERNMOST_LONGITUDE = 54.9897
END_OBJECT = IMAGE_MAP_PROJECTION
/* The JPEG2000 image data file associated with this label. */
OBJECT = COMPRESSED_FILE
  FILE_NAME = "H1774_0051_SR3.JP2"
  RECORD_TYPE = UNDEFINED
  FILE_RECORDS = UNK
  ENCODING_TYPE = "JP2"
  INTERCHANGE_FORMAT = BINARY
  UNCOMPRESSED_FILE_NAME = "H1774_0051_SR3.IMG"
  REQUIRED_STORAGE_BYTES = "2173688"
  ^DESCRIPTION = "JP2INFO.TXT"
END_OBJECT = COMPRESSED_FILE
END
