PDS_VERSION_ID = PDS3
/* FILE DATA ELEMENTS */
RECORD_TYPE = STREAM
/* POINTERS TO DATA OBJECTS */
^COMPRESSED_FILE = "H1781_0002_SR3.JP2"
/* IDENTIFICATION DATA ELEMENTS */
DATA_SET_ID = "MEX-M-HRSC-5-REFDR-MAPPROJECTED-V3.0"
DATA_SET_NAME = "MARS EXPRESS HRSC MAP PROJECTED REFDR V3.0"
DETECTOR_ID = MEX_HRSC_SRC
EVENT_TYPE = "MARS-TERMINATOR-VARIABLE-Gl-At"
INSTRUMENT_HOST_ID = MEX
INSTRUMENT_HOST_NAME = "MARS EXPRESS"
INSTRUMENT_ID = HRSC
INSTRUMENT_NAME = "HIGH RESOLUTION STEREO CAMERA"
MISSION_NAME = "MARS EXPRESS"
MISSION_PHASE_NAME = MR_Phase_6
PROCESSING_LEVEL_ID = 3
PRODUCT_CREATION_TIME = 2016-03-09T12:57:05.000Z
PRODUCT_ID = "H1781_0002_SR3.JP2"
RELEASE_ID = 0022
REVISION_ID = 0000
/* QUALITY DATA ELEMENTS */
DATA_QUALITY_ID = 1
DATA_QUALITY_DESC = "Data calculated based on original SPICE kernels"
/* TIME DATA ELEMENTS */
SPACECRAFT_CLOCK_START_COUNT = "1/0066043768.57980"
SPACECRAFT_CLOCK_STOP_COUNT = "1/0066045182.54162"
IMAGE_TIME = 2005-06-05T09:30:33.108Z
START_TIME = 2005-06-05T09:30:33.106Z
STOP_TIME = 2005-06-05T09:30:33.111Z
/* ORBITAL DATA ELEMENTS */
ASCENDING_NODE_LONGITUDE = 191.1
MAXIMUM_RESOLUTION = 60.934
FOOTPRINT_POINT_LATITUDE = (-71.9344,-71.9658,-71.9978,-72.0292, -72.0606,-72.1066,-72.1379,-72.1691, -72.2002,-72.2314,-72.2722,-72.3032, -72.3357,-72.3667,-72.3976,-72.437, -72.4679,-72.4987,-72.5294,-72.5602, -72.6109,-72.6415,-72.6773,-72.7079, -72.7384,-72.7688,-72.7992,-72.8296, -72.8862,-72.9114,-72.9492,-72.9743, -73.0115,-73.0364,-73.0797,-73.1044, -73.129,-73.1535,-73.1779,-73.2205, -73.2447,-73.2869,-73.3109,-73.3345, -73.3583,-73.382,-73.4233,-73.4467, -73.4873,-73.4615,-73.4304,-73.3992, -73.368,-73.3098,-73.2785,-73.2471, -73.2157,-73.1843,-73.1395,-73.108, -73.0764,-73.0448,-73.0132,-72.9783, -72.9477,-72.916,-72.8842,-72.8524, -72.8205,-72.7839,-72.7519,-72.7199, -72.6879,-72.6412,-72.6001,-72.5679, -72.5357,-72.4959,-72.4735,-72.4511, -72.4286,-72.406,-72.3833,-72.3433, -72.3204,-72.2919,-72.2512,-72.2105, -72.1871,-72.1636,-72.1399,-72.1163, -72.0925,-72.0688,-72.0449,-72.0209, -71.9966,-71.9668,-71.9425,-71.9344)
FOOTPRINT_POINT_LONGITUDE = (295.68,295.741,295.803,295.864,295.925 ,296.016,296.077,296.139,296.201, 296.263,296.345,296.408,296.475,296.538 ,296.601,296.682,296.746,296.81,296.874 ,296.938,297.045,297.11,297.186,297.252 ,297.317,297.383,297.449,297.515, 297.634,297.52,297.348,297.232,297.059, 296.943,296.739,296.622,296.505,296.388 ,296.27,296.063,295.944,295.736,295.616 ,295.496,295.376,295.255,295.043, 294.922,294.708,294.545,294.482,294.419 ,294.356,294.239,294.176,294.114, 294.052,293.99,293.902,293.841,293.78, 293.719,293.658,293.592,293.534,293.474 ,293.414,293.354,293.295,293.226, 293.167,293.108,293.049,292.964,292.889 ,292.831,292.773,292.785,292.903, 293.021,293.139,293.256,293.373,293.577 ,293.693,293.838,294.04,294.241,294.356 ,294.47,294.584,294.698,294.811,294.925 ,295.037,295.15,295.262,295.402,295.514 ,295.68)
ORBIT_NUMBER = 1781
ORBITAL_ECCENTRICITY = 0.568
ORBITAL_INCLINATION = 86.62
ORBITAL_SEMIMAJOR_AXIS = 8580.16
PERIAPSIS_ALTITUDE = 322.24
PERIAPSIS_ARGUMENT_ANGLE = 46.28
PERIAPSIS_TIME = 2005-06-05T10:52:40.000Z
SPACECRAFT_ORIENTATION = (0.0,1.0,0.0)
^MEX_ORIENTATION_DESC = "MEX_ORIENTATION_DESC.TXT"
SPACECRAFT_POINTING_MODE = INERT
^MEX_POINTING_DESC = "MEX_POINTING_DESC.TXT"
RIGHT_ASCENSION = 88.331
DECLINATION = -28.013
OFFSET_ANGLE = -1e+32
SPACECRAFT_SOLAR_DISTANCE = 2.08529e+08
TARGET_NAME = MARS
/* CAMERA DATA ELEMENTS */
BUFFER_MODE_ID = DIRECT
EXPOSURE_DURATION = 5.04
INST_CMPRS_NAME = NONE
INST_CMPRS_RATIO = 1.0
INST_CMPRS_QUALITY = -2147483648
INST_CMPRS_QUANTZ_TBL_ID = -2147483648
INSTRUMENT_TEMPERATURE = 8.18182
MISSING_FRAMES = 0
START_BIT = 0
/* RADIOMETRIC DATA ELEMENTS */
BANDWIDTH = 250.0
CENTER_FILTER_WAVELENGTH = 600.0
RADIANCE_OFFSET = -9.99e+31
RADIANCE_SCALING_FACTOR = -9.99e+31
REFLECTANCE_SCALING_FACTOR = -9.99e+31
MEX:REFLECTANCE_OFFSET = -9.99e+31
/* IMAGE OBJECT DEFINITIONS */
OBJECT = IMAGE
  INTERCHANGE_FORMAT = BINARY
  LINES = 1222
  LINE_SAMPLES = 1126
  SAMPLE_TYPE = UNSIGNED_INTEGER
  SAMPLE_BITS = 8
  BANDS = 1
  BAND_STORAGE_TYPE = BAND_SEQUENTIAL
  MAXIMUM = 10634
  MEAN = 9653.07
  MINIMUM = 0
  STANDARD_DEVIATION = 345.29
END_OBJECT = IMAGE
/* MAP OBJECT DEFINITIONS */
OBJECT = IMAGE_MAP_PROJECTION
  ^DATA_SET_MAP_PROJECTION_CATALOG= "DSMAP.CAT"
  A_AXIS_RADIUS = 3396.19
  B_AXIS_RADIUS = 3396.19
  C_AXIS_RADIUS = 3396.19
  CENTER_LATITUDE = 0.0
  CENTER_LONGITUDE = 295.0
  COORDINATE_SYSTEM_NAME = PLANETOGRAPHIC
  COORDINATE_SYSTEM_TYPE = "BODY-FIXED ROTATING"
  EASTERNMOST_LONGITUDE = 297.634
  FIRST_STANDARD_PARALLEL = "N/A"
  LINE_FIRST_PIXEL = 1
  LINE_LAST_PIXEL = 1222
  LINE_PROJECTION_OFFSET = -53032.0
  MAP_PROJECTION_ROTATION = 0.0
  MAP_PROJECTION_TYPE = SINUSOIDAL
  MAP_RESOLUTION = 740.9337064023611
  MAP_SCALE = 0.08
  MAXIMUM_LATITUDE = -71.9344
  MINIMUM_LATITUDE = -73.4873
  POSITIVE_LONGITUDE_DIRECTION = EAST
  REFERENCE_LATITUDE = "N/A"
  REFERENCE_LONGITUDE = "N/A"
  SAMPLE_FIRST_PIXEL = 1
  SAMPLE_LAST_PIXEL = 1126
  SAMPLE_PROJECTION_OFFSET = 550.0
  SECOND_STANDARD_PARALLEL = "N/A"
  WESTERNMOST_LONGITUDE = 292.773
END_OBJECT = IMAGE_MAP_PROJECTION
/* The JPEG2000 image data file associated with this label. */
OBJECT = COMPRESSED_FILE
  FILE_NAME = "H1781_0002_SR3.JP2"
  RECORD_TYPE = UNDEFINED
  FILE_RECORDS = UNK
  ENCODING_TYPE = "JP2"
  INTERCHANGE_FORMAT = BINARY
  UNCOMPRESSED_FILE_NAME = "H1781_0002_SR3.IMG"
  REQUIRED_STORAGE_BYTES = "1395114"
  ^DESCRIPTION = "JP2INFO.TXT"
END_OBJECT = COMPRESSED_FILE
END
