PDS_VERSION_ID = PDS3
/* FILE DATA ELEMENTS */
RECORD_TYPE = STREAM
/* POINTERS TO DATA OBJECTS */
^COMPRESSED_FILE = "H1781_0037_SR3.JP2"
/* IDENTIFICATION DATA ELEMENTS */
DATA_SET_ID = "MEX-M-HRSC-5-REFDR-MAPPROJECTED-V3.0"
DATA_SET_NAME = "MARS EXPRESS HRSC MAP PROJECTED REFDR V3.0"
DETECTOR_ID = MEX_HRSC_SRC
EVENT_TYPE = "MARS-TERMINATOR-VARIABLE-Gl-At"
INSTRUMENT_HOST_ID = MEX
INSTRUMENT_HOST_NAME = "MARS EXPRESS"
INSTRUMENT_ID = HRSC
INSTRUMENT_NAME = "HIGH RESOLUTION STEREO CAMERA"
MISSION_NAME = "MARS EXPRESS"
MISSION_PHASE_NAME = MR_Phase_6
PROCESSING_LEVEL_ID = 3
PRODUCT_CREATION_TIME = 2016-03-09T12:57:05.000Z
PRODUCT_ID = "H1781_0037_SR3.JP2"
RELEASE_ID = 0022
REVISION_ID = 0000
/* QUALITY DATA ELEMENTS */
DATA_QUALITY_ID = 1
DATA_QUALITY_DESC = "Data calculated based on original SPICE kernels"
/* TIME DATA ELEMENTS */
SPACECRAFT_CLOCK_START_COUNT = "1/0066043768.57980"
SPACECRAFT_CLOCK_STOP_COUNT = "1/0066045182.54162"
IMAGE_TIME = 2005-06-05T09:47:53.012Z
START_TIME = 2005-06-05T09:47:53.010Z
STOP_TIME = 2005-06-05T09:47:53.015Z
/* ORBITAL DATA ELEMENTS */
ASCENDING_NODE_LONGITUDE = 191.1
MAXIMUM_RESOLUTION = 48.051
FOOTPRINT_POINT_LATITUDE = (-74.8479,-74.7957,-74.7435,-74.7173, -74.6912,-74.6646,-74.6385,-74.6123, -74.5862,-74.56,-74.5339,-74.5077, -74.4816,-74.4554,-74.4293,-74.4031, -74.3769,-74.3508,-74.3208,-74.2946, -74.2621,-74.2359,-74.2097,-74.1835, -74.1573,-74.1311,-74.1049,-74.0699, -74.0676,-74.0632,-74.0606,-74.058, -74.0553,-74.0525,-74.0475,-74.0446, -74.0416,-74.0385,-74.0353,-74.0296, -74.0263,-74.023,-74.0195,-74.016, -74.0098,-74.0061,-74.0023,-73.9986, -73.9947,-74.005,-74.0311,-74.0572, -74.0833,-74.1093,-74.1354,-74.1615, -74.1875,-74.2218,-74.2478,-74.2739, -74.2999,-74.326,-74.3536,-74.3796, -74.4057,-74.4317,-74.4577,-74.4838, -74.5098,-74.5358,-74.5618,-74.5878, -74.6138,-74.6399,-74.6659,-74.6943, -74.7203,-74.7463,-74.7983,-74.8157, -74.8198,-74.8268,-74.8306,-74.8363, -74.84,-74.8463,-74.8498,-74.8557, -74.859,-74.8647,-74.8678,-74.8731, -74.876,-74.8803,-74.883,-74.886, -74.8886,-74.8909,-74.8933,-74.8479)
FOOTPRINT_POINT_LONGITUDE = (83.4992,83.4849,83.4707,83.4636, 83.4565,83.4492,83.4422,83.4352,83.4283 ,83.4214,83.4145,83.4076,83.4007, 83.3939,83.3871,83.3803,83.3735,83.3668 ,83.3589,83.3522,83.3438,83.3372, 83.3305,83.3239,83.3174,83.3108,83.3042 ,83.3582,83.4766,83.6839,83.8023, 83.9207,84.039,84.1573,84.3643,84.4825, 84.6006,84.7188,84.8368,85.0434,85.1613 ,85.2792,85.3971,85.5149,85.721,85.8387 ,85.9563,86.0739,86.1914,86.3031, 86.3143,86.3255,86.3367,86.348,86.3594, 86.3708,86.3822,86.3972,86.4087,86.4202 ,86.4318,86.4434,86.4558,86.4675, 86.4793,86.491,86.5028,86.5147,86.5266, 86.5385,86.5504,86.5624,86.5745,86.5866 ,86.5987,86.612,86.6242,86.6364,86.661, 86.5094,86.3859,86.1695,86.0458,85.8601 ,85.7362,85.5194,85.3954,85.1783, 85.0542,84.8369,84.7126,84.4951,84.3707 ,84.1841,84.0596,83.9042,83.7796, 83.6551,83.5304,83.4992)
ORBIT_NUMBER = 1781
ORBITAL_ECCENTRICITY = 0.568
ORBITAL_INCLINATION = 86.62
ORBITAL_SEMIMAJOR_AXIS = 8580.16
PERIAPSIS_ALTITUDE = 322.24
PERIAPSIS_ARGUMENT_ANGLE = 46.28
PERIAPSIS_TIME = 2005-06-05T10:52:40.000Z
SPACECRAFT_ORIENTATION = (0.0,1.0,0.0)
^MEX_ORIENTATION_DESC = "MEX_ORIENTATION_DESC.TXT"
SPACECRAFT_POINTING_MODE = INERT
^MEX_POINTING_DESC = "MEX_POINTING_DESC.TXT"
RIGHT_ASCENSION = 88.331
DECLINATION = -28.013
OFFSET_ANGLE = -1e+32
SPACECRAFT_SOLAR_DISTANCE = 2.08529e+08
TARGET_NAME = MARS
/* CAMERA DATA ELEMENTS */
BUFFER_MODE_ID = DIRECT
EXPOSURE_DURATION = 5.04
INST_CMPRS_NAME = NONE
INST_CMPRS_RATIO = 1.0
INST_CMPRS_QUALITY = -2147483648
INST_CMPRS_QUANTZ_TBL_ID = -2147483648
INSTRUMENT_TEMPERATURE = 25.0243
MISSING_FRAMES = 0
START_BIT = 0
/* RADIOMETRIC DATA ELEMENTS */
BANDWIDTH = 250.0
CENTER_FILTER_WAVELENGTH = 600.0
RADIANCE_OFFSET = -9.99e+31
RADIANCE_SCALING_FACTOR = -9.99e+31
REFLECTANCE_SCALING_FACTOR = -9.99e+31
MEX:REFLECTANCE_OFFSET = -9.99e+31
/* IMAGE OBJECT DEFINITIONS */
OBJECT = IMAGE
  INTERCHANGE_FORMAT = BINARY
  LINES = 1383
  LINE_SAMPLES = 1386
  SAMPLE_TYPE = UNSIGNED_INTEGER
  SAMPLE_BITS = 8
  BANDS = 1
  BAND_STORAGE_TYPE = BAND_SEQUENTIAL
  MAXIMUM = 6650
  MEAN = 5033.05
  MINIMUM = 0
  STANDARD_DEVIATION = 301.368
END_OBJECT = IMAGE
/* MAP OBJECT DEFINITIONS */
OBJECT = IMAGE_MAP_PROJECTION
  ^DATA_SET_MAP_PROJECTION_CATALOG= "DSMAP.CAT"
  A_AXIS_RADIUS = 3396.19
  B_AXIS_RADIUS = 3396.19
  C_AXIS_RADIUS = 3396.19
  CENTER_LATITUDE = 0.0
  CENTER_LONGITUDE = 85.0
  COORDINATE_SYSTEM_NAME = PLANETOGRAPHIC
  COORDINATE_SYSTEM_TYPE = "BODY-FIXED ROTATING"
  EASTERNMOST_LONGITUDE = 86.661
  FIRST_STANDARD_PARALLEL = "N/A"
  LINE_FIRST_PIXEL = 1
  LINE_LAST_PIXEL = 1383
  LINE_PROJECTION_OFFSET = -109313.0
  MAP_PROJECTION_ROTATION = 0.0
  MAP_PROJECTION_TYPE = SINUSOIDAL
  MAP_RESOLUTION = 1481.86741280472
  MAP_SCALE = 0.04
  MAXIMUM_LATITUDE = -73.99469999999999
  MINIMUM_LATITUDE = -74.8933
  POSITIVE_LONGITUDE_DIRECTION = EAST
  REFERENCE_LATITUDE = "N/A"
  REFERENCE_LONGITUDE = "N/A"
  SAMPLE_FIRST_PIXEL = 1
  SAMPLE_LAST_PIXEL = 1386
  SAMPLE_PROJECTION_OFFSET = 707.0
  SECOND_STANDARD_PARALLEL = "N/A"
  WESTERNMOST_LONGITUDE = 83.30419999999999
END_OBJECT = IMAGE_MAP_PROJECTION
/* The JPEG2000 image data file associated with this label. */
OBJECT = COMPRESSED_FILE
  FILE_NAME = "H1781_0037_SR3.JP2"
  RECORD_TYPE = UNDEFINED
  FILE_RECORDS = UNK
  ENCODING_TYPE = "JP2"
  INTERCHANGE_FORMAT = BINARY
  UNCOMPRESSED_FILE_NAME = "H1781_0037_SR3.IMG"
  REQUIRED_STORAGE_BYTES = "1936242"
  ^DESCRIPTION = "JP2INFO.TXT"
END_OBJECT = COMPRESSED_FILE
END
