PDS_VERSION_ID = PDS3
/* FILE DATA ELEMENTS */
RECORD_TYPE = STREAM
/* POINTERS TO DATA OBJECTS */
^COMPRESSED_FILE = "H1781_0045_SR3.JP2"
/* IDENTIFICATION DATA ELEMENTS */
DATA_SET_ID = "MEX-M-HRSC-5-REFDR-MAPPROJECTED-V3.0"
DATA_SET_NAME = "MARS EXPRESS HRSC MAP PROJECTED REFDR V3.0"
DETECTOR_ID = MEX_HRSC_SRC
EVENT_TYPE = "MARS-TERMINATOR-VARIABLE-Gl-At"
INSTRUMENT_HOST_ID = MEX
INSTRUMENT_HOST_NAME = "MARS EXPRESS"
INSTRUMENT_ID = HRSC
INSTRUMENT_NAME = "HIGH RESOLUTION STEREO CAMERA"
MISSION_NAME = "MARS EXPRESS"
MISSION_PHASE_NAME = MR_Phase_6
PROCESSING_LEVEL_ID = 3
PRODUCT_CREATION_TIME = 2016-03-09T12:57:05.000Z
PRODUCT_ID = "H1781_0045_SR3.JP2"
RELEASE_ID = 0022
REVISION_ID = 0000
/* QUALITY DATA ELEMENTS */
DATA_QUALITY_ID = 1
DATA_QUALITY_DESC = "Data calculated based on original SPICE kernels"
/* TIME DATA ELEMENTS */
SPACECRAFT_CLOCK_START_COUNT = "1/0066043768.57980"
SPACECRAFT_CLOCK_STOP_COUNT = "1/0066045182.54162"
IMAGE_TIME = 2005-06-05T09:51:19.032Z
START_TIME = 2005-06-05T09:51:19.030Z
STOP_TIME = 2005-06-05T09:51:19.035Z
/* ORBITAL DATA ELEMENTS */
ASCENDING_NODE_LONGITUDE = 191.1
MAXIMUM_RESOLUTION = 45.933
FOOTPRINT_POINT_LATITUDE = (-68.7782,-68.7279,-68.6776,-68.6273, -68.5897,-68.5393,-68.5141,-68.4889, -68.4637,-68.4385,-68.4133,-68.3881, -68.3628,-68.3376,-68.3123,-68.2871, -68.2535,-68.2282,-68.2029,-68.1777, -68.1524,-68.1145,-68.0892,-68.0639, -68.0386,-68.0133,-67.9874,-67.9826, -67.9778,-67.9729,-67.968,-67.963, -67.958,-67.953,-67.948,-67.9429, -67.9377,-67.9325,-67.9251,-67.9198, -67.9141,-67.9084,-67.9029,-67.8973, -67.8917,-67.8858,-67.8801,-67.8744, -67.8686,-67.8628,-67.8871,-67.9123, -67.9523,-67.9775,-68.0027,-68.0278, -68.053,-68.0781,-68.1033,-68.1284, -68.1536,-68.1787,-68.2038,-68.2289, -68.254,-68.2959,-68.321,-68.3461, -68.3711,-68.3962,-68.4463,-68.4964, -68.5465,-68.5923,-68.6271,-68.6545, -68.6605,-68.6664,-68.6723,-68.6781, -68.6854,-68.6911,-68.6968,-68.7005, -68.706,-68.7116,-68.7171,-68.7231, -68.7285,-68.7338,-68.7391,-68.745, -68.7502,-68.7553,-68.7604,-68.7653, -68.7703,-68.7752,-68.7802,-68.7782)
FOOTPRINT_POINT_LONGITUDE = (87.3177,87.2974,87.2771,87.257,87.2419 ,87.222,87.212,87.2021,87.1922,87.1823, 87.1724,87.1626,87.1527,87.1429,87.1332 ,87.1234,87.1102,87.1005,87.0908, 87.0812,87.0715,87.0571,87.0475,87.0379 ,87.0283,87.0188,87.0743,87.1567,87.239 ,87.3213,87.4036,87.4858,87.568,87.6502 ,87.7323,87.8144,87.8964,87.9785, 88.1013,88.1833,88.3253,88.4272,88.509, 88.5907,88.6725,88.7542,88.8359,88.9175 ,88.9991,89.0807,89.1045,89.1161, 89.1354,89.1471,89.1588,89.1705,89.1823 ,89.1941,89.2059,89.2177,89.2296, 89.2415,89.2534,89.2653,89.2773,89.297, 89.309,89.3211,89.3332,89.3453,89.3696, 89.394,89.4185,89.4413,89.4581,89.4259, 89.3417,89.2574,89.1732,89.0889,88.9834 ,88.899,88.8146,88.731,88.6465,88.562, 88.4774,88.3513,88.2666,88.1819,88.0971 ,87.9914,87.9065,87.8216,87.7367, 87.6518,87.5668,87.4818,87.3968, 87.3177)
ORBIT_NUMBER = 1781
ORBITAL_ECCENTRICITY = 0.568
ORBITAL_INCLINATION = 86.62
ORBITAL_SEMIMAJOR_AXIS = 8580.16
PERIAPSIS_ALTITUDE = 322.24
PERIAPSIS_ARGUMENT_ANGLE = 46.28
PERIAPSIS_TIME = 2005-06-05T10:52:40.000Z
SPACECRAFT_ORIENTATION = (0.0,1.0,0.0)
^MEX_ORIENTATION_DESC = "MEX_ORIENTATION_DESC.TXT"
SPACECRAFT_POINTING_MODE = INERT
^MEX_POINTING_DESC = "MEX_POINTING_DESC.TXT"
RIGHT_ASCENSION = 88.331
DECLINATION = -28.013
OFFSET_ANGLE = -1e+32
SPACECRAFT_SOLAR_DISTANCE = 2.08529e+08
TARGET_NAME = MARS
/* CAMERA DATA ELEMENTS */
BUFFER_MODE_ID = DIRECT
EXPOSURE_DURATION = 5.04
INST_CMPRS_NAME = NONE
INST_CMPRS_RATIO = 1.0
INST_CMPRS_QUALITY = -2147483648
INST_CMPRS_QUANTZ_TBL_ID = -2147483648
INSTRUMENT_TEMPERATURE = 25.4545
MISSING_FRAMES = 0
START_BIT = 0
/* RADIOMETRIC DATA ELEMENTS */
BANDWIDTH = 250.0
CENTER_FILTER_WAVELENGTH = 600.0
RADIANCE_OFFSET = -9.99e+31
RADIANCE_SCALING_FACTOR = -9.99e+31
REFLECTANCE_SCALING_FACTOR = -9.99e+31
MEX:REFLECTANCE_OFFSET = -9.99e+31
/* IMAGE OBJECT DEFINITIONS */
OBJECT = IMAGE
  INTERCHANGE_FORMAT = BINARY
  LINES = 1420
  LINE_SAMPLES = 1389
  SAMPLE_TYPE = UNSIGNED_INTEGER
  SAMPLE_BITS = 8
  BANDS = 1
  BAND_STORAGE_TYPE = BAND_SEQUENTIAL
  MAXIMUM = 5084
  MEAN = 3421.65
  MINIMUM = 0
  STANDARD_DEVIATION = 356.162
END_OBJECT = IMAGE
/* MAP OBJECT DEFINITIONS */
OBJECT = IMAGE_MAP_PROJECTION
  ^DATA_SET_MAP_PROJECTION_CATALOG= "DSMAP.CAT"
  A_AXIS_RADIUS = 3396.19
  B_AXIS_RADIUS = 3396.19
  C_AXIS_RADIUS = 3396.19
  CENTER_LATITUDE = 0.0
  CENTER_LONGITUDE = 88.0
  COORDINATE_SYSTEM_NAME = PLANETOGRAPHIC
  COORDINATE_SYSTEM_TYPE = "BODY-FIXED ROTATING"
  EASTERNMOST_LONGITUDE = 89.4581
  FIRST_STANDARD_PARALLEL = "N/A"
  LINE_FIRST_PIXEL = 1
  LINE_LAST_PIXEL = 1420
  LINE_PROJECTION_OFFSET = -100234.0
  MAP_PROJECTION_ROTATION = 0.0
  MAP_PROJECTION_TYPE = SINUSOIDAL
  MAP_RESOLUTION = 1481.86741280472
  MAP_SCALE = 0.04
  MAXIMUM_LATITUDE = -67.86279999999999
  MINIMUM_LATITUDE = -68.78019999999999
  POSITIVE_LONGITUDE_DIRECTION = EAST
  REFERENCE_LATITUDE = "N/A"
  REFERENCE_LONGITUDE = "N/A"
  SAMPLE_FIRST_PIXEL = 1
  SAMPLE_LAST_PIXEL = 1389
  SAMPLE_PROJECTION_OFFSET = 560.0
  SECOND_STANDARD_PARALLEL = "N/A"
  WESTERNMOST_LONGITUDE = 87.0188
END_OBJECT = IMAGE_MAP_PROJECTION
/* The JPEG2000 image data file associated with this label. */
OBJECT = COMPRESSED_FILE
  FILE_NAME = "H1781_0045_SR3.JP2"
  RECORD_TYPE = UNDEFINED
  FILE_RECORDS = UNK
  ENCODING_TYPE = "JP2"
  INTERCHANGE_FORMAT = BINARY
  UNCOMPRESSED_FILE_NAME = "H1781_0045_SR3.IMG"
  REQUIRED_STORAGE_BYTES = "1991826"
  ^DESCRIPTION = "JP2INFO.TXT"
END_OBJECT = COMPRESSED_FILE
END
