PDS_VERSION_ID = PDS3
/* FILE DATA ELEMENTS */
RECORD_TYPE = STREAM
/* POINTERS TO DATA OBJECTS */
^COMPRESSED_FILE = "H1781_0047_SR3.JP2"
/* IDENTIFICATION DATA ELEMENTS */
DATA_SET_ID = "MEX-M-HRSC-5-REFDR-MAPPROJECTED-V3.0"
DATA_SET_NAME = "MARS EXPRESS HRSC MAP PROJECTED REFDR V3.0"
DETECTOR_ID = MEX_HRSC_SRC
EVENT_TYPE = "MARS-TERMINATOR-VARIABLE-Gl-At"
INSTRUMENT_HOST_ID = MEX
INSTRUMENT_HOST_NAME = "MARS EXPRESS"
INSTRUMENT_ID = HRSC
INSTRUMENT_NAME = "HIGH RESOLUTION STEREO CAMERA"
MISSION_NAME = "MARS EXPRESS"
MISSION_PHASE_NAME = MR_Phase_6
PROCESSING_LEVEL_ID = 3
PRODUCT_CREATION_TIME = 2016-03-09T12:57:05.000Z
PRODUCT_ID = "H1781_0047_SR3.JP2"
RELEASE_ID = 0022
REVISION_ID = 0000
/* QUALITY DATA ELEMENTS */
DATA_QUALITY_ID = 1
DATA_QUALITY_DESC = "Data calculated based on original SPICE kernels"
/* TIME DATA ELEMENTS */
SPACECRAFT_CLOCK_START_COUNT = "1/0066043768.57980"
SPACECRAFT_CLOCK_STOP_COUNT = "1/0066045182.54162"
IMAGE_TIME = 2005-06-05T09:52:09.175Z
START_TIME = 2005-06-05T09:52:09.172Z
STOP_TIME = 2005-06-05T09:52:09.177Z
/* ORBITAL DATA ELEMENTS */
ASCENDING_NODE_LONGITUDE = 191.1
MAXIMUM_RESOLUTION = 45.426
FOOTPRINT_POINT_LATITUDE = (-67.2411,-67.1912,-67.1413,-67.0913, -67.0413,-66.9912,-66.9662,-66.9412, -66.8997,-66.8746,-66.8496,-66.8245, -66.7994,-66.7743,-66.7493,-66.7242, -66.6991,-66.674,-66.6488,-66.6237, -66.5986,-66.5672,-66.5421,-66.5169, -66.4861,-66.481,-66.4758,-66.4714, -66.4662,-66.4609,-66.4512,-66.4457, -66.4403,-66.4348,-66.4279,-66.4224, -66.4167,-66.411,-66.4025,-66.3967, -66.3909,-66.385,-66.376,-66.37,-66.364 ,-66.358,-66.3519,-66.3457,-66.366, -66.391,-66.4161,-66.4411,-66.4661, -66.4912,-66.5162,-66.5412,-66.5662, -66.6128,-66.6378,-66.6628,-66.6877, -66.7127,-66.7376,-66.7626,-66.7875, -66.8125,-66.8374,-66.8623,-66.8872, -66.9173,-66.9422,-66.9671,-67.0168, -67.0666,-67.1162,-67.1328,-67.1393, -67.1455,-67.1517,-67.1578,-67.1639, -67.1713,-67.1773,-67.1832,-67.1891, -67.1963,-67.2021,-67.2079,-67.2136, -67.2205,-67.2262,-67.2317,-67.2401, -67.2473,-67.2527,-67.2581,-67.2635, -67.2699,-67.2752,-67.2411)
FOOTPRINT_POINT_LONGITUDE = (87.8683,87.848,87.8279,87.8077,87.7877 ,87.7677,87.7578,87.7479,87.7315, 87.7216,87.7118,87.7019,87.6921,87.6823 ,87.6725,87.6628,87.653,87.6433,87.6336 ,87.6239,87.6143,87.6022,87.5926,87.583 ,87.5732,87.6496,87.7259,87.8021, 87.8784,87.9547,88.0882,88.1644,88.2405 ,88.3167,88.4118,88.4879,88.5639, 88.6399,88.7539,88.8299,88.9058,88.9817 ,89.0955,89.1713,89.2471,89.3228, 89.3986,89.4743,89.5148,89.5261,89.5375 ,89.5489,89.5603,89.5718,89.5832, 89.5947,89.6062,89.6279,89.6395,89.6511 ,89.6627,89.6744,89.686,89.6977,89.7094 ,89.7212,89.7329,89.7447,89.7565,89.771 ,89.7829,89.7947,89.8186,89.8425, 89.8665,89.8118,89.7338,89.6559,89.5779 ,89.4999,89.4218,89.3243,89.2462, 89.1681,89.0899,88.9922,88.9139,88.8356 ,88.7573,88.6594,88.5811,88.5026, 88.3849,88.3059,88.2274,88.1488,88.0703 ,87.9721,87.8934,87.8683)
ORBIT_NUMBER = 1781
ORBITAL_ECCENTRICITY = 0.568
ORBITAL_INCLINATION = 86.62
ORBITAL_SEMIMAJOR_AXIS = 8580.16
PERIAPSIS_ALTITUDE = 322.24
PERIAPSIS_ARGUMENT_ANGLE = 46.28
PERIAPSIS_TIME = 2005-06-05T10:52:40.000Z
SPACECRAFT_ORIENTATION = (0.0,1.0,0.0)
^MEX_ORIENTATION_DESC = "MEX_ORIENTATION_DESC.TXT"
SPACECRAFT_POINTING_MODE = INERT
^MEX_POINTING_DESC = "MEX_POINTING_DESC.TXT"
RIGHT_ASCENSION = 88.331
DECLINATION = -28.013
OFFSET_ANGLE = -1e+32
SPACECRAFT_SOLAR_DISTANCE = 2.08529e+08
TARGET_NAME = MARS
/* CAMERA DATA ELEMENTS */
BUFFER_MODE_ID = DIRECT
EXPOSURE_DURATION = 5.04
INST_CMPRS_NAME = NONE
INST_CMPRS_RATIO = 1.0
INST_CMPRS_QUALITY = -2147483648
INST_CMPRS_QUANTZ_TBL_ID = -2147483648
INSTRUMENT_TEMPERATURE = 25.4545
MISSING_FRAMES = 0
START_BIT = 0
/* RADIOMETRIC DATA ELEMENTS */
BANDWIDTH = 250.0
CENTER_FILTER_WAVELENGTH = 600.0
RADIANCE_OFFSET = -9.99e+31
RADIANCE_SCALING_FACTOR = -9.99e+31
REFLECTANCE_SCALING_FACTOR = -9.99e+31
MEX:REFLECTANCE_OFFSET = -9.99e+31
/* IMAGE OBJECT DEFINITIONS */
OBJECT = IMAGE
  INTERCHANGE_FORMAT = BINARY
  LINES = 1426
  LINE_SAMPLES = 1393
  SAMPLE_TYPE = UNSIGNED_INTEGER
  SAMPLE_BITS = 8
  BANDS = 1
  BAND_STORAGE_TYPE = BAND_SEQUENTIAL
  MAXIMUM = 4132
  MEAN = 2680.81
  MINIMUM = 0
  STANDARD_DEVIATION = 218.576
END_OBJECT = IMAGE
/* MAP OBJECT DEFINITIONS */
OBJECT = IMAGE_MAP_PROJECTION
  ^DATA_SET_MAP_PROJECTION_CATALOG= "DSMAP.CAT"
  A_AXIS_RADIUS = 3396.19
  B_AXIS_RADIUS = 3396.19
  C_AXIS_RADIUS = 3396.19
  CENTER_LATITUDE = 0.0
  CENTER_LONGITUDE = 89.0
  COORDINATE_SYSTEM_NAME = PLANETOGRAPHIC
  COORDINATE_SYSTEM_TYPE = "BODY-FIXED ROTATING"
  EASTERNMOST_LONGITUDE = 89.8665
  FIRST_STANDARD_PARALLEL = "N/A"
  LINE_FIRST_PIXEL = 1
  LINE_LAST_PIXEL = 1426
  LINE_PROJECTION_OFFSET = -97985.0
  MAP_PROJECTION_ROTATION = 0.0
  MAP_PROJECTION_TYPE = SINUSOIDAL
  MAP_RESOLUTION = 1481.86741280472
  MAP_SCALE = 0.04
  MAXIMUM_LATITUDE = -66.34569999999999
  MINIMUM_LATITUDE = -67.2752
  POSITIVE_LONGITUDE_DIRECTION = EAST
  REFERENCE_LATITUDE = "N/A"
  REFERENCE_LONGITUDE = "N/A"
  SAMPLE_FIRST_PIXEL = 1
  SAMPLE_LAST_PIXEL = 1393
  SAMPLE_PROJECTION_OFFSET = 853.0
  SECOND_STANDARD_PARALLEL = "N/A"
  WESTERNMOST_LONGITUDE = 87.5732
END_OBJECT = IMAGE_MAP_PROJECTION
/* The JPEG2000 image data file associated with this label. */
OBJECT = COMPRESSED_FILE
  FILE_NAME = "H1781_0047_SR3.JP2"
  RECORD_TYPE = UNDEFINED
  FILE_RECORDS = UNK
  ENCODING_TYPE = "JP2"
  INTERCHANGE_FORMAT = BINARY
  UNCOMPRESSED_FILE_NAME = "H1781_0047_SR3.IMG"
  REQUIRED_STORAGE_BYTES = "2005920"
  ^DESCRIPTION = "JP2INFO.TXT"
END_OBJECT = COMPRESSED_FILE
END
