PDS_VERSION_ID = PDS3
/* FILE DATA ELEMENTS */
RECORD_TYPE = STREAM
/* POINTERS TO DATA OBJECTS */
^COMPRESSED_FILE = "H1786_0007_SR3.JP2"
/* IDENTIFICATION DATA ELEMENTS */
DATA_SET_ID = "MEX-M-HRSC-5-REFDR-MAPPROJECTED-V3.0"
DATA_SET_NAME = "MARS EXPRESS HRSC MAP PROJECTED REFDR V3.0"
DETECTOR_ID = MEX_HRSC_SRC
EVENT_TYPE = "MARS-TERMINATOR-VARIABLE-Gl-At"
INSTRUMENT_HOST_ID = MEX
INSTRUMENT_HOST_NAME = "MARS EXPRESS"
INSTRUMENT_ID = HRSC
INSTRUMENT_NAME = "HIGH RESOLUTION STEREO CAMERA"
MISSION_NAME = "MARS EXPRESS"
MISSION_PHASE_NAME = MR_Phase_6
PROCESSING_LEVEL_ID = 3
PRODUCT_CREATION_TIME = 2016-03-09T12:57:05.000Z
PRODUCT_ID = "H1786_0007_SR3.JP2"
RELEASE_ID = 0022
REVISION_ID = 0000
/* QUALITY DATA ELEMENTS */
DATA_QUALITY_ID = 1
DATA_QUALITY_DESC = "Data calculated based on original SPICE kernels"
/* TIME DATA ELEMENTS */
SPACECRAFT_CLOCK_START_COUNT = "1/0066164603.56201"
SPACECRAFT_CLOCK_STOP_COUNT = "1/0066166403.56040"
IMAGE_TIME = 2005-06-06T19:07:01.271Z
START_TIME = 2005-06-06T19:07:01.269Z
STOP_TIME = 2005-06-06T19:07:01.274Z
/* ORBITAL DATA ELEMENTS */
ASCENDING_NODE_LONGITUDE = 190.99
MAXIMUM_RESOLUTION = 60.721
FOOTPRINT_POINT_LATITUDE = (-70.6344,-70.6668,-70.699,-70.7313, -70.7635,-70.8259,-70.858,-70.89, -70.922,-70.954,-71.0045,-71.0364, -71.0683,-71.1001,-71.1318,-71.1636, -71.1953,-71.2269,-71.2585,-71.321, -71.3626,-71.3941,-71.4255,-71.4569, -71.5195,-71.5819,-71.6061,-71.63, -71.6532,-71.6772,-71.7015,-71.7253, -71.7491,-71.7726,-71.7962,-71.8197, -71.8486,-71.8719,-71.8951,-71.918, -71.9411,-71.9641,-71.9883,-72.0111, -72.0338,-72.0741,-72.0965,-72.1245, -72.1468,-72.1684,-72.1158,-72.0518, -71.9662,-71.934,-71.9019,-71.8696, -71.8374,-71.7945,-71.7622,-71.7298, -71.6974,-71.6649,-71.6291,-71.5919, -71.5594,-71.5268,-71.4941,-71.4615, -71.4288,-71.3837,-71.3509,-71.2915, -71.2586,-71.2257,-71.1927,-71.1402, -71.1188,-71.0973,-71.0761,-71.0544, -71.0326,-71.0096,-70.9877,-70.9657, -70.9329,-70.9107,-70.8712,-70.8487, -70.8262,-70.8032,-70.7804,-70.7577, -70.7291,-70.7061,-70.6831,-70.6599, -70.6367,-70.6146,-70.5912,-70.6344)
FOOTPRINT_POINT_LONGITUDE = (163.435,163.489,163.544,163.598, 163.653,163.759,163.815,163.87,163.925, 163.981,164.07,164.126,164.182,164.238, 164.295,164.351,164.408,164.465,164.522 ,164.637,164.712,164.77,164.828,164.887 ,165.003,165.116,165.008,164.899,164.79 ,164.68,164.571,164.461,164.351,164.24, 164.13,164.019,163.88,163.768,163.656, 163.544,163.432,163.319,163.207,163.094 ,162.98,162.781,162.667,162.524,162.409 ,162.294,162.178,162.067,161.919, 161.864,161.809,161.755,161.7,161.626, 161.572,161.518,161.464,161.411,161.352 ,161.29,161.237,161.184,161.131,161.079 ,161.026,160.954,160.902,160.808, 160.756,160.705,160.653,160.648,160.759 ,160.87,160.981,161.091,161.202,161.311 ,161.421,161.53,161.695,161.804,161.993 ,162.102,162.21,162.317,162.425,162.532 ,162.666,162.773,162.88,162.986,163.092 ,163.198,163.304,163.435)
ORBIT_NUMBER = 1786
ORBITAL_ECCENTRICITY = 0.567
ORBITAL_INCLINATION = 86.62
ORBITAL_SEMIMAJOR_AXIS = 8572.96
PERIAPSIS_ALTITUDE = 321.85
PERIAPSIS_ARGUMENT_ANGLE = 45.42
PERIAPSIS_TIME = 2005-06-06T20:28:24.000Z
SPACECRAFT_ORIENTATION = (0.0,1.0,0.0)
^MEX_ORIENTATION_DESC = "MEX_ORIENTATION_DESC.TXT"
SPACECRAFT_POINTING_MODE = INERT
^MEX_POINTING_DESC = "MEX_POINTING_DESC.TXT"
RIGHT_ASCENSION = 87.525
DECLINATION = -27.465
OFFSET_ANGLE = -1e+32
SPACECRAFT_SOLAR_DISTANCE = 2.08408e+08
TARGET_NAME = MARS
/* CAMERA DATA ELEMENTS */
BUFFER_MODE_ID = DIRECT
EXPOSURE_DURATION = 5.04
INST_CMPRS_NAME = NONE
INST_CMPRS_RATIO = 1.0
INST_CMPRS_QUALITY = -2147483648
INST_CMPRS_QUANTZ_TBL_ID = -2147483648
INSTRUMENT_TEMPERATURE = 11.2121
MISSING_FRAMES = 0
START_BIT = 0
/* RADIOMETRIC DATA ELEMENTS */
BANDWIDTH = 250.0
CENTER_FILTER_WAVELENGTH = 600.0
RADIANCE_OFFSET = -9.99e+31
RADIANCE_SCALING_FACTOR = -9.99e+31
REFLECTANCE_SCALING_FACTOR = -9.99e+31
MEX:REFLECTANCE_OFFSET = -9.99e+31
/* IMAGE OBJECT DEFINITIONS */
OBJECT = IMAGE
  INTERCHANGE_FORMAT = BINARY
  LINES = 1223
  LINE_SAMPLES = 1118
  SAMPLE_TYPE = UNSIGNED_INTEGER
  SAMPLE_BITS = 8
  BANDS = 1
  BAND_STORAGE_TYPE = BAND_SEQUENTIAL
  MAXIMUM = 8920
  MEAN = 7700.47
  MINIMUM = 0
  STANDARD_DEVIATION = 553.701
END_OBJECT = IMAGE
/* MAP OBJECT DEFINITIONS */
OBJECT = IMAGE_MAP_PROJECTION
  ^DATA_SET_MAP_PROJECTION_CATALOG= "DSMAP.CAT"
  A_AXIS_RADIUS = 3396.19
  B_AXIS_RADIUS = 3396.19
  C_AXIS_RADIUS = 3396.19
  CENTER_LATITUDE = 0.0
  CENTER_LONGITUDE = 163.0
  COORDINATE_SYSTEM_NAME = PLANETOGRAPHIC
  COORDINATE_SYSTEM_TYPE = "BODY-FIXED ROTATING"
  EASTERNMOST_LONGITUDE = 165.116
  FIRST_STANDARD_PARALLEL = "N/A"
  LINE_FIRST_PIXEL = 1
  LINE_LAST_PIXEL = 1223
  LINE_PROJECTION_OFFSET = -52045.0
  MAP_PROJECTION_ROTATION = 0.0
  MAP_PROJECTION_TYPE = SINUSOIDAL
  MAP_RESOLUTION = 740.9337064023611
  MAP_SCALE = 0.08
  MAXIMUM_LATITUDE = -70.5912
  MINIMUM_LATITUDE = -72.16840000000001
  POSITIVE_LONGITUDE_DIRECTION = EAST
  REFERENCE_LATITUDE = "N/A"
  REFERENCE_LONGITUDE = "N/A"
  SAMPLE_FIRST_PIXEL = 1
  SAMPLE_LAST_PIXEL = 1118
  SAMPLE_PROJECTION_OFFSET = 620.0
  SECOND_STANDARD_PARALLEL = "N/A"
  WESTERNMOST_LONGITUDE = 160.648
END_OBJECT = IMAGE_MAP_PROJECTION
/* The JPEG2000 image data file associated with this label. */
OBJECT = COMPRESSED_FILE
  FILE_NAME = "H1786_0007_SR3.JP2"
  RECORD_TYPE = UNDEFINED
  FILE_RECORDS = UNK
  ENCODING_TYPE = "JP2"
  INTERCHANGE_FORMAT = BINARY
  UNCOMPRESSED_FILE_NAME = "H1786_0007_SR3.IMG"
  REQUIRED_STORAGE_BYTES = "1386320"
  ^DESCRIPTION = "JP2INFO.TXT"
END_OBJECT = COMPRESSED_FILE
END
