PDS_VERSION_ID = PDS3
/* FILE DATA ELEMENTS */
RECORD_TYPE = STREAM
/* POINTERS TO DATA OBJECTS */
^COMPRESSED_FILE = "H1786_0027_SR3.JP2"
/* IDENTIFICATION DATA ELEMENTS */
DATA_SET_ID = "MEX-M-HRSC-5-REFDR-MAPPROJECTED-V3.0"
DATA_SET_NAME = "MARS EXPRESS HRSC MAP PROJECTED REFDR V3.0"
DETECTOR_ID = MEX_HRSC_SRC
EVENT_TYPE = "MARS-TERMINATOR-VARIABLE-Gl-At"
INSTRUMENT_HOST_ID = MEX
INSTRUMENT_HOST_NAME = "MARS EXPRESS"
INSTRUMENT_ID = HRSC
INSTRUMENT_NAME = "HIGH RESOLUTION STEREO CAMERA"
MISSION_NAME = "MARS EXPRESS"
MISSION_PHASE_NAME = MR_Phase_6
PROCESSING_LEVEL_ID = 3
PRODUCT_CREATION_TIME = 2016-03-09T12:57:05.000Z
PRODUCT_ID = "H1786_0027_SR3.JP2"
RELEASE_ID = 0022
REVISION_ID = 0000
/* QUALITY DATA ELEMENTS */
DATA_QUALITY_ID = 1
DATA_QUALITY_DESC = "Data calculated based on original SPICE kernels"
/* TIME DATA ELEMENTS */
SPACECRAFT_CLOCK_START_COUNT = "1/0066164603.56201"
SPACECRAFT_CLOCK_STOP_COUNT = "1/0066166403.56040"
IMAGE_TIME = 2005-06-06T19:17:19.327Z
START_TIME = 2005-06-06T19:17:19.325Z
STOP_TIME = 2005-06-06T19:17:19.330Z
/* ORBITAL DATA ELEMENTS */
ASCENDING_NODE_LONGITUDE = 190.99
MAXIMUM_RESOLUTION = 52.338
FOOTPRINT_POINT_LATITUDE = (-85.845,-85.8312,-85.8168,-85.8031, -85.7879,-85.7731,-85.7581,-85.742, -85.7263,-85.7099,-85.6939,-85.6772, -85.6604,-85.6434,-85.6258,-85.608, -85.5901,-85.571,-85.5523,-85.5334, -85.5144,-85.4834,-85.4547,-85.4345, -85.4136,-85.3921,-85.3703,-85.3514, -85.3856,-85.4061,-85.4332,-85.4806, -85.5141,-85.5408,-85.5674,-85.6004, -85.6267,-85.6529,-85.6854,-85.7112, -85.7369,-85.7625,-85.7879,-85.8129, -85.8567,-85.8815,-85.9062,-85.9307, -85.9611,-85.9852,-86.0219,-86.0422, -86.0669,-86.0908,-86.1146,-86.1395, -86.1611,-86.1839,-86.2059,-86.2278, -86.2477,-86.2674,-86.2871,-86.3115, -86.3315,-86.3508,-86.3706,-86.3896, -86.4079,-86.4261,-86.4442,-86.4766, -86.4966,-86.5136,-86.5462,-86.5936, -86.5922,-86.5423,-86.5136,-86.4848, -86.456,-86.427,-86.3978,-86.3612, -86.3318,-86.3023,-86.2653,-86.2356, -86.1983,-86.1683,-86.1384,-86.1158, -86.078,-86.04,-86.002,-85.9791, -85.9408,-85.9023,-85.8715,-85.845)
FOOTPRINT_POINT_LONGITUDE = (250.033,250.365,250.707,251.025, 251.379,251.712,252.042,252.391,252.726 ,253.069,253.4,253.74,254.077,254.409, 254.749,255.085,255.419,255.769,256.107 ,256.443,256.776,257.308,257.791, 258.121,258.455,258.796,259.133,259.44, 259.791,260.004,260.291,260.798,261.169 ,261.469,261.773,262.159,262.471, 262.787,263.188,263.513,263.843,264.176 ,264.513,264.866,265.473,265.826, 266.183,266.545,267.002,267.373,267.51, 267.238,266.9,266.567,266.23,265.871, 265.554,265.214,264.88,264.542,264.229, 263.912,263.593,263.188,262.851,262.519 ,262.174,261.836,261.505,261.171, 260.832,260.211,259.818,259.477,258.81, 257.796,257.059,256.439,256.092,255.751 ,255.413,255.082,254.756,254.356, 254.042,253.732,253.352,253.053,252.686 ,252.397,252.098,251.888,251.543, 251.205,250.872,250.674,250.351,250.034 ,249.786,250.033)
ORBIT_NUMBER = 1786
ORBITAL_ECCENTRICITY = 0.567
ORBITAL_INCLINATION = 86.62
ORBITAL_SEMIMAJOR_AXIS = 8572.96
PERIAPSIS_ALTITUDE = 321.85
PERIAPSIS_ARGUMENT_ANGLE = 45.42
PERIAPSIS_TIME = 2005-06-06T20:28:24.000Z
SPACECRAFT_ORIENTATION = (0.0,1.0,0.0)
^MEX_ORIENTATION_DESC = "MEX_ORIENTATION_DESC.TXT"
SPACECRAFT_POINTING_MODE = INERT
^MEX_POINTING_DESC = "MEX_POINTING_DESC.TXT"
RIGHT_ASCENSION = 87.525
DECLINATION = -27.465
OFFSET_ANGLE = -1e+32
SPACECRAFT_SOLAR_DISTANCE = 2.08408e+08
TARGET_NAME = MARS
/* CAMERA DATA ELEMENTS */
BUFFER_MODE_ID = DIRECT
EXPOSURE_DURATION = 5.04
INST_CMPRS_NAME = NONE
INST_CMPRS_RATIO = 1.0
INST_CMPRS_QUALITY = -2147483648
INST_CMPRS_QUANTZ_TBL_ID = -2147483648
INSTRUMENT_TEMPERATURE = 21.6408
MISSING_FRAMES = 0
START_BIT = 0
/* RADIOMETRIC DATA ELEMENTS */
BANDWIDTH = 250.0
CENTER_FILTER_WAVELENGTH = 600.0
RADIANCE_OFFSET = -9.99e+31
RADIANCE_SCALING_FACTOR = -9.99e+31
REFLECTANCE_SCALING_FACTOR = -9.99e+31
MEX:REFLECTANCE_OFFSET = -9.99e+31
/* IMAGE OBJECT DEFINITIONS */
OBJECT = IMAGE
  INTERCHANGE_FORMAT = BINARY
  LINES = 1951
  LINE_SAMPLES = 1939
  SAMPLE_TYPE = UNSIGNED_INTEGER
  SAMPLE_BITS = 8
  BANDS = 1
  BAND_STORAGE_TYPE = BAND_SEQUENTIAL
  MAXIMUM = 11524
  MEAN = 9330.25
  MINIMUM = 0
  STANDARD_DEVIATION = 487.33
END_OBJECT = IMAGE
/* MAP OBJECT DEFINITIONS */
OBJECT = IMAGE_MAP_PROJECTION
  ^DATA_SET_MAP_PROJECTION_CATALOG= "DSMAP.CAT"
  A_AXIS_RADIUS = 3396.19
  B_AXIS_RADIUS = 3396.19
  C_AXIS_RADIUS = 3396.19
  CENTER_LATITUDE = -90.0
  CENTER_LONGITUDE = 0.0
  COORDINATE_SYSTEM_NAME = PLANETOGRAPHIC
  COORDINATE_SYSTEM_TYPE = "BODY-FIXED ROTATING"
  EASTERNMOST_LONGITUDE = 267.51
  FIRST_STANDARD_PARALLEL = "N/A"
  LINE_FIRST_PIXEL = 1
  LINE_LAST_PIXEL = 1951
  LINE_PROJECTION_OFFSET = -267.0
  MAP_PROJECTION_ROTATION = 0.0
  MAP_PROJECTION_TYPE = STEREOGRAPHIC
  MAP_RESOLUTION = 1481.86741280472
  MAP_SCALE = 0.04
  MAXIMUM_LATITUDE = -85.3514
  MINIMUM_LATITUDE = -86.5936
  POSITIVE_LONGITUDE_DIRECTION = EAST
  REFERENCE_LATITUDE = "N/A"
  REFERENCE_LONGITUDE = "N/A"
  SAMPLE_FIRST_PIXEL = 1
  SAMPLE_LAST_PIXEL = 1939
  SAMPLE_PROJECTION_OFFSET = 6776.0
  SECOND_STANDARD_PARALLEL = "N/A"
  WESTERNMOST_LONGITUDE = 249.786
END_OBJECT = IMAGE_MAP_PROJECTION
/* The JPEG2000 image data file associated with this label. */
OBJECT = COMPRESSED_FILE
  FILE_NAME = "H1786_0027_SR3.JP2"
  RECORD_TYPE = UNDEFINED
  FILE_RECORDS = UNK
  ENCODING_TYPE = "JP2"
  INTERCHANGE_FORMAT = BINARY
  UNCOMPRESSED_FILE_NAME = "H1786_0027_SR3.IMG"
  REQUIRED_STORAGE_BYTES = "3804318"
  ^DESCRIPTION = "JP2INFO.TXT"
END_OBJECT = COMPRESSED_FILE
END
