PDS_VERSION_ID = PDS3
/* FILE DATA ELEMENTS */
RECORD_TYPE = STREAM
/* POINTERS TO DATA OBJECTS */
^COMPRESSED_FILE = "H1786_0032_SR3.JP2"
/* IDENTIFICATION DATA ELEMENTS */
DATA_SET_ID = "MEX-M-HRSC-5-REFDR-MAPPROJECTED-V3.0"
DATA_SET_NAME = "MARS EXPRESS HRSC MAP PROJECTED REFDR V3.0"
DETECTOR_ID = MEX_HRSC_SRC
EVENT_TYPE = "MARS-TERMINATOR-VARIABLE-Gl-At"
INSTRUMENT_HOST_ID = MEX
INSTRUMENT_HOST_NAME = "MARS EXPRESS"
INSTRUMENT_ID = HRSC
INSTRUMENT_NAME = "HIGH RESOLUTION STEREO CAMERA"
MISSION_NAME = "MARS EXPRESS"
MISSION_PHASE_NAME = MR_Phase_6
PROCESSING_LEVEL_ID = 3
PRODUCT_CREATION_TIME = 2016-03-09T12:57:05.000Z
PRODUCT_ID = "H1786_0032_SR3.JP2"
RELEASE_ID = 0022
REVISION_ID = 0000
/* QUALITY DATA ELEMENTS */
DATA_QUALITY_ID = 1
DATA_QUALITY_DESC = "Data calculated based on original SPICE kernels"
/* TIME DATA ELEMENTS */
SPACECRAFT_CLOCK_START_COUNT = "1/0066164603.56201"
SPACECRAFT_CLOCK_STOP_COUNT = "1/0066166403.56040"
IMAGE_TIME = 2005-06-06T19:19:39.944Z
START_TIME = 2005-06-06T19:19:39.941Z
STOP_TIME = 2005-06-06T19:19:39.946Z
/* ORBITAL DATA ELEMENTS */
ASCENDING_NODE_LONGITUDE = 190.99
MAXIMUM_RESOLUTION = 50.686
FOOTPRINT_POINT_LATITUDE = (-83.4947,-83.4655,-83.4396,-83.4071, -83.3811,-83.3487,-83.3227,-83.2967, -83.2707,-83.2349,-83.2089,-83.1829, -83.1568,-83.1291,-83.1031,-83.0599, -83.0338,-82.9897,-82.9636,-82.9375, -82.9113,-82.8852,-82.859,-82.8328, -82.8067,-82.7805,-82.751,-82.7248, -82.6986,-82.6819,-82.6921,-82.7021, -82.7144,-82.7264,-82.7336,-82.7452, -82.7567,-82.768,-82.779,-82.7919, -82.8003,-82.8146,-82.8286,-82.8363, -82.8457,-82.8548,-82.8673,-82.8759, -82.8843,-82.9088,-82.9358,-82.9628, -82.9898,-83.0168,-83.0606,-83.0876, -83.1272,-83.1542,-83.1812,-83.2082, -83.2352,-83.2613,-83.2882,-83.3152, -83.3422,-83.3692,-83.3961,-83.4231, -83.4548,-83.4818,-83.5087,-83.5357, -83.5626,-83.5896,-83.6266,-83.6535, -83.6805,-83.7074,-83.7348,-83.7273, -83.7137,-83.7057,-83.6955,-83.6851, -83.6699,-83.6611,-83.6497,-83.6405, -83.6286,-83.6166,-83.6067,-83.5942, -83.584,-83.571,-83.5604,-83.547, -83.5333,-83.5221,-83.5079,-83.4947)
FOOTPRINT_POINT_LONGITUDE = (289.834,289.927,290.009,290.11,290.19, 290.29,290.369,290.447,290.524,290.63, 290.706,290.782,290.857,290.936,291.01, 291.13,291.203,291.324,291.395,291.465, 291.535,291.604,291.673,291.741,291.809 ,291.876,291.952,292.018,292.084, 292.344,292.603,292.861,293.186,293.512 ,293.708,294.035,294.363,294.692, 295.021,295.419,295.684,296.151,296.619 ,296.887,297.223,297.561,298.034, 298.373,298.713,298.859,298.816,298.774 ,298.731,298.688,298.617,298.573, 298.508,298.463,298.418,298.372,298.326 ,298.281,298.234,298.187,298.139, 298.091,298.043,297.994,297.937,297.887 ,297.837,297.787,297.736,297.685, 297.613,297.561,297.508,297.455,297.311 ,297.004,296.469,296.164,295.783, 295.404,294.875,294.574,294.199,293.9, 293.527,293.156,292.86,292.491,292.197, 291.83,291.538,291.174,290.812,290.523, 290.164,289.834)
ORBIT_NUMBER = 1786
ORBITAL_ECCENTRICITY = 0.567
ORBITAL_INCLINATION = 86.62
ORBITAL_SEMIMAJOR_AXIS = 8572.96
PERIAPSIS_ALTITUDE = 321.85
PERIAPSIS_ARGUMENT_ANGLE = 45.42
PERIAPSIS_TIME = 2005-06-06T20:28:24.000Z
SPACECRAFT_ORIENTATION = (0.0,1.0,0.0)
^MEX_ORIENTATION_DESC = "MEX_ORIENTATION_DESC.TXT"
SPACECRAFT_POINTING_MODE = INERT
^MEX_POINTING_DESC = "MEX_POINTING_DESC.TXT"
RIGHT_ASCENSION = 87.525
DECLINATION = -27.465
OFFSET_ANGLE = -1e+32
SPACECRAFT_SOLAR_DISTANCE = 2.08408e+08
TARGET_NAME = MARS
/* CAMERA DATA ELEMENTS */
BUFFER_MODE_ID = DIRECT
EXPOSURE_DURATION = 5.04
INST_CMPRS_NAME = NONE
INST_CMPRS_RATIO = 1.0
INST_CMPRS_QUALITY = -2147483648
INST_CMPRS_QUANTZ_TBL_ID = -2147483648
INSTRUMENT_TEMPERATURE = 22.8571
MISSING_FRAMES = 0
START_BIT = 0
/* RADIOMETRIC DATA ELEMENTS */
BANDWIDTH = 250.0
CENTER_FILTER_WAVELENGTH = 600.0
RADIANCE_OFFSET = -9.99e+31
RADIANCE_SCALING_FACTOR = -9.99e+31
REFLECTANCE_SCALING_FACTOR = -9.99e+31
MEX:REFLECTANCE_OFFSET = -9.99e+31
/* IMAGE OBJECT DEFINITIONS */
OBJECT = IMAGE
  INTERCHANGE_FORMAT = BINARY
  LINES = 1623
  LINE_SAMPLES = 1629
  SAMPLE_TYPE = UNSIGNED_INTEGER
  SAMPLE_BITS = 8
  BANDS = 1
  BAND_STORAGE_TYPE = BAND_SEQUENTIAL
  MAXIMUM = 10333
  MEAN = 8499.46
  MINIMUM = 0
  STANDARD_DEVIATION = 434.276
END_OBJECT = IMAGE
/* MAP OBJECT DEFINITIONS */
OBJECT = IMAGE_MAP_PROJECTION
  ^DATA_SET_MAP_PROJECTION_CATALOG= "DSMAP.CAT"
  A_AXIS_RADIUS = 3396.19
  B_AXIS_RADIUS = 3396.19
  C_AXIS_RADIUS = 3396.19
  CENTER_LATITUDE = 0.0
  CENTER_LONGITUDE = 295.0
  COORDINATE_SYSTEM_NAME = PLANETOGRAPHIC
  COORDINATE_SYSTEM_TYPE = "BODY-FIXED ROTATING"
  EASTERNMOST_LONGITUDE = 298.859
  FIRST_STANDARD_PARALLEL = "N/A"
  LINE_FIRST_PIXEL = 1
  LINE_LAST_PIXEL = 1623
  LINE_PROJECTION_OFFSET = -122176.0
  MAP_PROJECTION_ROTATION = 0.0
  MAP_PROJECTION_TYPE = SINUSOIDAL
  MAP_RESOLUTION = 1481.86741280472
  MAP_SCALE = 0.04
  MAXIMUM_LATITUDE = -82.6819
  MINIMUM_LATITUDE = -83.73480000000001
  POSITIVE_LONGITUDE_DIRECTION = EAST
  REFERENCE_LATITUDE = "N/A"
  REFERENCE_LONGITUDE = "N/A"
  SAMPLE_FIRST_PIXEL = 1
  SAMPLE_LAST_PIXEL = 1629
  SAMPLE_PROJECTION_OFFSET = 910.0
  SECOND_STANDARD_PARALLEL = "N/A"
  WESTERNMOST_LONGITUDE = 289.834
END_OBJECT = IMAGE_MAP_PROJECTION
/* The JPEG2000 image data file associated with this label. */
OBJECT = COMPRESSED_FILE
  FILE_NAME = "H1786_0032_SR3.JP2"
  RECORD_TYPE = UNDEFINED
  FILE_RECORDS = UNK
  ENCODING_TYPE = "JP2"
  INTERCHANGE_FORMAT = BINARY
  UNCOMPRESSED_FILE_NAME = "H1786_0032_SR3.IMG"
  REQUIRED_STORAGE_BYTES = "2663415"
  ^DESCRIPTION = "JP2INFO.TXT"
END_OBJECT = COMPRESSED_FILE
END
