PDS_VERSION_ID = PDS3
/* FILE DATA ELEMENTS */
RECORD_TYPE = STREAM
/* POINTERS TO DATA OBJECTS */
^COMPRESSED_FILE = "H1786_0045_SR3.JP2"
/* IDENTIFICATION DATA ELEMENTS */
DATA_SET_ID = "MEX-M-HRSC-5-REFDR-MAPPROJECTED-V3.0"
DATA_SET_NAME = "MARS EXPRESS HRSC MAP PROJECTED REFDR V3.0"
DETECTOR_ID = MEX_HRSC_SRC
EVENT_TYPE = "MARS-TERMINATOR-VARIABLE-Gl-At"
INSTRUMENT_HOST_ID = MEX
INSTRUMENT_HOST_NAME = "MARS EXPRESS"
INSTRUMENT_ID = HRSC
INSTRUMENT_NAME = "HIGH RESOLUTION STEREO CAMERA"
MISSION_NAME = "MARS EXPRESS"
MISSION_PHASE_NAME = MR_Phase_6
PROCESSING_LEVEL_ID = 3
PRODUCT_CREATION_TIME = 2016-03-09T12:57:05.000Z
PRODUCT_ID = "H1786_0045_SR3.JP2"
RELEASE_ID = 0022
REVISION_ID = 0000
/* QUALITY DATA ELEMENTS */
DATA_QUALITY_ID = 1
DATA_QUALITY_DESC = "Data calculated based on original SPICE kernels"
/* TIME DATA ELEMENTS */
SPACECRAFT_CLOCK_START_COUNT = "1/0066164603.56201"
SPACECRAFT_CLOCK_STOP_COUNT = "1/0066166403.56040"
IMAGE_TIME = 2005-06-06T19:25:22.765Z
START_TIME = 2005-06-06T19:25:22.762Z
STOP_TIME = 2005-06-06T19:25:22.767Z
/* ORBITAL DATA ELEMENTS */
ASCENDING_NODE_LONGITUDE = 190.99
MAXIMUM_RESOLUTION = 46.861
FOOTPRINT_POINT_LATITUDE = (-73.8848,-73.8337,-73.7827,-73.7316, -73.6805,-73.6433,-73.5922,-73.5666, -73.5411,-73.5155,-73.49,-73.4644, -73.4388,-73.4133,-73.3877,-73.3621, -73.3365,-73.3057,-73.2801,-73.2545, -73.2289,-73.2033,-73.1777,-73.1521, -73.1256,-73.1234,-73.1211,-73.1185, -73.116,-73.1135,-73.1102,-73.1075, -73.1048,-73.1021,-73.0993,-73.0964, -73.0934,-73.0904,-73.0874,-73.0834, -73.0803,-73.077,-73.0736,-73.0703, -73.0668,-73.0633,-73.0598,-73.0561, -73.0515,-73.0842,-73.1097,-73.1352, -73.1607,-73.1862,-73.2117,-73.2372, -73.2627,-73.2882,-73.3137,-73.347, -73.3725,-73.398,-73.4234,-73.4489, -73.4743,-73.4998,-73.5252,-73.5507, -73.5761,-73.627,-73.6722,-73.7239, -73.7747,-73.8255,-73.8522,-73.856, -73.8598,-73.8635,-73.8672,-73.8708, -73.8744,-73.8779,-73.8813,-73.8846, -73.8903,-73.8935,-73.8966,-73.8996, -73.9026,-73.9055,-73.9084,-73.9112, -73.9139,-73.9166,-73.9192,-73.9218, -73.9243,-73.9267,-73.9291,-73.8848)
FOOTPRINT_POINT_LONGITUDE = (312.663,312.65,312.637,312.624,312.611 ,312.602,312.589,312.583,312.577,312.57 ,312.564,312.558,312.552,312.546,312.54 ,312.533,312.527,312.52,312.514,312.508 ,312.502,312.496,312.49,312.484,312.48, 312.589,312.699,312.808,312.917,313.026 ,313.163,313.272,313.381,313.49,313.599 ,313.708,313.817,313.926,314.035, 314.171,314.28,314.389,314.497,314.606, 314.715,314.823,314.932,315.041,315.176 ,315.26,315.27,315.28,315.29,315.3, 315.31,315.32,315.331,315.341,315.351, 315.364,315.375,315.385,315.395,315.406 ,315.416,315.426,315.437,315.447, 315.458,315.479,315.498,315.519,315.541 ,315.563,315.513,315.4,315.286,315.173, 315.059,314.945,314.832,314.718,314.604 ,314.49,314.291,314.177,314.063,313.949 ,313.834,313.72,313.606,313.492,313.378 ,313.263,313.149,313.035,312.92,312.806 ,312.691,312.663)
ORBIT_NUMBER = 1786
ORBITAL_ECCENTRICITY = 0.567
ORBITAL_INCLINATION = 86.62
ORBITAL_SEMIMAJOR_AXIS = 8572.96
PERIAPSIS_ALTITUDE = 321.85
PERIAPSIS_ARGUMENT_ANGLE = 45.42
PERIAPSIS_TIME = 2005-06-06T20:28:24.000Z
SPACECRAFT_ORIENTATION = (0.0,1.0,0.0)
^MEX_ORIENTATION_DESC = "MEX_ORIENTATION_DESC.TXT"
SPACECRAFT_POINTING_MODE = INERT
^MEX_POINTING_DESC = "MEX_POINTING_DESC.TXT"
RIGHT_ASCENSION = 87.525
DECLINATION = -27.465
OFFSET_ANGLE = -1e+32
SPACECRAFT_SOLAR_DISTANCE = 2.08408e+08
TARGET_NAME = MARS
/* CAMERA DATA ELEMENTS */
BUFFER_MODE_ID = DIRECT
EXPOSURE_DURATION = 5.04
INST_CMPRS_NAME = NONE
INST_CMPRS_RATIO = 1.0
INST_CMPRS_QUALITY = -2147483648
INST_CMPRS_QUANTZ_TBL_ID = -2147483648
INSTRUMENT_TEMPERATURE = 25.4545
MISSING_FRAMES = 0
START_BIT = 0
/* RADIOMETRIC DATA ELEMENTS */
BANDWIDTH = 250.0
CENTER_FILTER_WAVELENGTH = 600.0
RADIANCE_OFFSET = -9.99e+31
RADIANCE_SCALING_FACTOR = -9.99e+31
REFLECTANCE_SCALING_FACTOR = -9.99e+31
MEX:REFLECTANCE_OFFSET = -9.99e+31
/* IMAGE OBJECT DEFINITIONS */
OBJECT = IMAGE
  INTERCHANGE_FORMAT = BINARY
  LINES = 1350
  LINE_SAMPLES = 1349
  SAMPLE_TYPE = UNSIGNED_INTEGER
  SAMPLE_BITS = 8
  BANDS = 1
  BAND_STORAGE_TYPE = BAND_SEQUENTIAL
  MAXIMUM = 7096
  MEAN = 6111.65
  MINIMUM = 0
  STANDARD_DEVIATION = 351.31
END_OBJECT = IMAGE
/* MAP OBJECT DEFINITIONS */
OBJECT = IMAGE_MAP_PROJECTION
  ^DATA_SET_MAP_PROJECTION_CATALOG= "DSMAP.CAT"
  A_AXIS_RADIUS = 3396.19
  B_AXIS_RADIUS = 3396.19
  C_AXIS_RADIUS = 3396.19
  CENTER_LATITUDE = 0.0
  CENTER_LONGITUDE = 314.0
  COORDINATE_SYSTEM_NAME = PLANETOGRAPHIC
  COORDINATE_SYSTEM_TYPE = "BODY-FIXED ROTATING"
  EASTERNMOST_LONGITUDE = 315.563
  FIRST_STANDARD_PARALLEL = "N/A"
  LINE_FIRST_PIXEL = 1
  LINE_LAST_PIXEL = 1350
  LINE_PROJECTION_OFFSET = -107918.0
  MAP_PROJECTION_ROTATION = 0.0
  MAP_PROJECTION_TYPE = SINUSOIDAL
  MAP_RESOLUTION = 1481.86741280472
  MAP_SCALE = 0.04
  MAXIMUM_LATITUDE = -73.0515
  MINIMUM_LATITUDE = -73.92910000000001
  POSITIVE_LONGITUDE_DIRECTION = EAST
  REFERENCE_LATITUDE = "N/A"
  REFERENCE_LONGITUDE = "N/A"
  SAMPLE_FIRST_PIXEL = 1
  SAMPLE_LAST_PIXEL = 1349
  SAMPLE_PROJECTION_OFFSET = 668.0
  SECOND_STANDARD_PARALLEL = "N/A"
  WESTERNMOST_LONGITUDE = 312.48
END_OBJECT = IMAGE_MAP_PROJECTION
/* The JPEG2000 image data file associated with this label. */
OBJECT = COMPRESSED_FILE
  FILE_NAME = "H1786_0045_SR3.JP2"
  RECORD_TYPE = UNDEFINED
  FILE_RECORDS = UNK
  ENCODING_TYPE = "JP2"
  INTERCHANGE_FORMAT = BINARY
  UNCOMPRESSED_FILE_NAME = "H1786_0045_SR3.IMG"
  REQUIRED_STORAGE_BYTES = "1840036"
  ^DESCRIPTION = "JP2INFO.TXT"
END_OBJECT = COMPRESSED_FILE
END
