PDS_VERSION_ID = PDS3
/* FILE DATA ELEMENTS */
RECORD_TYPE = STREAM
/* POINTERS TO DATA OBJECTS */
^COMPRESSED_FILE = "H1786_0055_SR3.JP2"
/* IDENTIFICATION DATA ELEMENTS */
DATA_SET_ID = "MEX-M-HRSC-5-REFDR-MAPPROJECTED-V3.0"
DATA_SET_NAME = "MARS EXPRESS HRSC MAP PROJECTED REFDR V3.0"
DETECTOR_ID = MEX_HRSC_SRC
EVENT_TYPE = "MARS-TERMINATOR-VARIABLE-Gl-At"
INSTRUMENT_HOST_ID = MEX
INSTRUMENT_HOST_NAME = "MARS EXPRESS"
INSTRUMENT_ID = HRSC
INSTRUMENT_NAME = "HIGH RESOLUTION STEREO CAMERA"
MISSION_NAME = "MARS EXPRESS"
MISSION_PHASE_NAME = MR_Phase_6
PROCESSING_LEVEL_ID = 3
PRODUCT_CREATION_TIME = 2016-03-09T12:57:05.000Z
PRODUCT_ID = "H1786_0055_SR3.JP2"
RELEASE_ID = 0022
REVISION_ID = 0000
/* QUALITY DATA ELEMENTS */
DATA_QUALITY_ID = 1
DATA_QUALITY_DESC = "Data calculated based on original SPICE kernels"
/* TIME DATA ELEMENTS */
SPACECRAFT_CLOCK_START_COUNT = "1/0066164603.56201"
SPACECRAFT_CLOCK_STOP_COUNT = "1/0066166403.56040"
IMAGE_TIME = 2005-06-06T19:29:30.207Z
START_TIME = 2005-06-06T19:29:30.205Z
STOP_TIME = 2005-06-06T19:29:30.210Z
/* ORBITAL DATA ELEMENTS */
ASCENDING_NODE_LONGITUDE = 190.99
MAXIMUM_RESOLUTION = 44.335
FOOTPRINT_POINT_LATITUDE = (-66.4105,-66.3615,-66.3124,-66.2879, -66.2634,-66.2236,-66.1991,-66.1745, -66.1499,-66.1254,-66.1008,-66.0762, -66.0516,-66.027,-66.0024,-65.9778, -65.9532,-65.9286,-65.8894,-65.8648, -65.8401,-65.8155,-65.7908,-65.7662, -65.7415,-65.7168,-65.6835,-65.6788, -65.674,-65.6692,-65.6629,-65.658, -65.653,-65.648,-65.6431,-65.638, -65.6329,-65.6278,-65.6199,-65.6147, -65.6094,-65.6041,-65.5987,-65.5963, -65.5908,-65.5853,-65.5798,-65.5744, -65.5688,-65.5632,-65.5865,-65.6111, -65.6357,-65.6602,-65.6848,-65.7093, -65.7339,-65.7584,-65.7829,-65.8074, -65.832,-65.8799,-65.9072,-65.9316, -65.9561,-65.9806,-66.0051,-66.0295, -66.054,-66.0784,-66.1028,-66.1273, -66.1761,-66.2249,-66.2637,-66.3125, -66.3313,-66.337,-66.3417,-66.3474, -66.353,-66.3586,-66.363,-66.3685, -66.374,-66.3794,-66.3848,-66.3935, -66.3988,-66.404,-66.4092,-66.4167, -66.4218,-66.4269,-66.4342,-66.4391, -66.444,-66.4489,-66.4538,-66.4105)
FOOTPRINT_POINT_LONGITUDE = (316.502,316.484,316.466,316.457, 316.448,316.433,316.424,316.415,316.406 ,316.398,316.389,316.38,316.371,316.363 ,316.354,316.345,316.337,316.328, 316.312,316.304,316.295,316.287,316.278 ,316.27,316.261,316.253,316.243,316.315 ,316.388,316.46,316.568,316.641,316.713 ,316.785,316.875,316.947,317.019, 317.091,317.217,317.289,317.361,317.433 ,317.505,317.576,317.648,317.72,317.792 ,317.864,317.935,318.007,318.083, 318.093,318.104,318.114,318.124,318.134 ,318.144,318.154,318.164,318.175, 318.185,318.206,318.217,318.228,318.238 ,318.248,318.259,318.269,318.279,318.29 ,318.3,318.311,318.332,318.353,318.372, 318.393,318.304,318.231,318.139,318.065 ,317.992,317.918,317.844,317.77,317.696 ,317.622,317.548,317.419,317.345,317.27 ,317.196,317.103,317.029,316.955, 316.825,316.751,316.676,316.602,316.528 ,316.502)
ORBIT_NUMBER = 1786
ORBITAL_ECCENTRICITY = 0.567
ORBITAL_INCLINATION = 86.62
ORBITAL_SEMIMAJOR_AXIS = 8572.96
PERIAPSIS_ALTITUDE = 321.85
PERIAPSIS_ARGUMENT_ANGLE = 45.42
PERIAPSIS_TIME = 2005-06-06T20:28:24.000Z
SPACECRAFT_ORIENTATION = (0.0,1.0,0.0)
^MEX_ORIENTATION_DESC = "MEX_ORIENTATION_DESC.TXT"
SPACECRAFT_POINTING_MODE = INERT
^MEX_POINTING_DESC = "MEX_POINTING_DESC.TXT"
RIGHT_ASCENSION = 87.525
DECLINATION = -27.465
OFFSET_ANGLE = -1e+32
SPACECRAFT_SOLAR_DISTANCE = 2.08408e+08
TARGET_NAME = MARS
/* CAMERA DATA ELEMENTS */
BUFFER_MODE_ID = DIRECT
EXPOSURE_DURATION = 5.04
INST_CMPRS_NAME = NONE
INST_CMPRS_RATIO = 1.0
INST_CMPRS_QUALITY = -2147483648
INST_CMPRS_QUANTZ_TBL_ID = -2147483648
INSTRUMENT_TEMPERATURE = 28.0519
MISSING_FRAMES = 0
START_BIT = 0
/* RADIOMETRIC DATA ELEMENTS */
BANDWIDTH = 250.0
CENTER_FILTER_WAVELENGTH = 600.0
RADIANCE_OFFSET = -9.99e+31
RADIANCE_SCALING_FACTOR = -9.99e+31
REFLECTANCE_SCALING_FACTOR = -9.99e+31
MEX:REFLECTANCE_OFFSET = -9.99e+31
/* IMAGE OBJECT DEFINITIONS */
OBJECT = IMAGE
  INTERCHANGE_FORMAT = BINARY
  LINES = 1386
  LINE_SAMPLES = 1341
  SAMPLE_TYPE = UNSIGNED_INTEGER
  SAMPLE_BITS = 8
  BANDS = 1
  BAND_STORAGE_TYPE = BAND_SEQUENTIAL
  MAXIMUM = 5604
  MEAN = 4126.59
  MINIMUM = 0
  STANDARD_DEVIATION = 311.456
END_OBJECT = IMAGE
/* MAP OBJECT DEFINITIONS */
OBJECT = IMAGE_MAP_PROJECTION
  ^DATA_SET_MAP_PROJECTION_CATALOG= "DSMAP.CAT"
  A_AXIS_RADIUS = 3396.19
  B_AXIS_RADIUS = 3396.19
  C_AXIS_RADIUS = 3396.19
  CENTER_LATITUDE = 0.0
  CENTER_LONGITUDE = 317.0
  COORDINATE_SYSTEM_NAME = PLANETOGRAPHIC
  COORDINATE_SYSTEM_TYPE = "BODY-FIXED ROTATING"
  EASTERNMOST_LONGITUDE = 318.393
  FIRST_STANDARD_PARALLEL = "N/A"
  LINE_FIRST_PIXEL = 1
  LINE_LAST_PIXEL = 1386
  LINE_PROJECTION_OFFSET = -96823.0
  MAP_PROJECTION_ROTATION = 0.0
  MAP_PROJECTION_TYPE = SINUSOIDAL
  MAP_RESOLUTION = 1481.86741280472
  MAP_SCALE = 0.04
  MAXIMUM_LATITUDE = -65.56319999999999
  MINIMUM_LATITUDE = -66.4538
  POSITIVE_LONGITUDE_DIRECTION = EAST
  REFERENCE_LATITUDE = "N/A"
  REFERENCE_LONGITUDE = "N/A"
  SAMPLE_FIRST_PIXEL = 1
  SAMPLE_LAST_PIXEL = 1341
  SAMPLE_PROJECTION_OFFSET = 473.0
  SECOND_STANDARD_PARALLEL = "N/A"
  WESTERNMOST_LONGITUDE = 316.243
END_OBJECT = IMAGE_MAP_PROJECTION
/* The JPEG2000 image data file associated with this label. */
OBJECT = COMPRESSED_FILE
  FILE_NAME = "H1786_0055_SR3.JP2"
  RECORD_TYPE = UNDEFINED
  FILE_RECORDS = UNK
  ENCODING_TYPE = "JP2"
  INTERCHANGE_FORMAT = BINARY
  UNCOMPRESSED_FILE_NAME = "H1786_0055_SR3.IMG"
  REQUIRED_STORAGE_BYTES = "1877400"
  ^DESCRIPTION = "JP2INFO.TXT"
END_OBJECT = COMPRESSED_FILE
END
