PDS_VERSION_ID = PDS3
/* FILE DATA ELEMENTS */
RECORD_TYPE = STREAM
/* POINTERS TO DATA OBJECTS */
^COMPRESSED_FILE = "H1786_0057_SR3.JP2"
/* IDENTIFICATION DATA ELEMENTS */
DATA_SET_ID = "MEX-M-HRSC-5-REFDR-MAPPROJECTED-V3.0"
DATA_SET_NAME = "MARS EXPRESS HRSC MAP PROJECTED REFDR V3.0"
DETECTOR_ID = MEX_HRSC_SRC
EVENT_TYPE = "MARS-TERMINATOR-VARIABLE-Gl-At"
INSTRUMENT_HOST_ID = MEX
INSTRUMENT_HOST_NAME = "MARS EXPRESS"
INSTRUMENT_ID = HRSC
INSTRUMENT_NAME = "HIGH RESOLUTION STEREO CAMERA"
MISSION_NAME = "MARS EXPRESS"
MISSION_PHASE_NAME = MR_Phase_6
PROCESSING_LEVEL_ID = 3
PRODUCT_CREATION_TIME = 2016-03-09T12:57:05.000Z
PRODUCT_ID = "H1786_0057_SR3.JP2"
RELEASE_ID = 0022
REVISION_ID = 0000
/* QUALITY DATA ELEMENTS */
DATA_QUALITY_ID = 1
DATA_QUALITY_DESC = "Data calculated based on original SPICE kernels"
/* TIME DATA ELEMENTS */
SPACECRAFT_CLOCK_START_COUNT = "1/0066164603.56201"
SPACECRAFT_CLOCK_STOP_COUNT = "1/0066166403.56040"
IMAGE_TIME = 2005-06-06T19:30:18.169Z
START_TIME = 2005-06-06T19:30:18.167Z
STOP_TIME = 2005-06-06T19:30:18.172Z
/* ORBITAL DATA ELEMENTS */
ASCENDING_NODE_LONGITUDE = 190.99
MAXIMUM_RESOLUTION = 43.852
FOOTPRINT_POINT_LATITUDE = (-64.9413,-64.8797,-64.831,-64.7822, -64.7578,-64.7285,-64.7041,-64.6797, -64.6553,-64.6309,-64.6064,-64.582, -64.5431,-64.5186,-64.4942,-64.4697, -64.4452,-64.4207,-64.3962,-64.3717, -64.3472,-64.3226,-64.2981,-64.2736, -64.249,-64.2144,-64.2093,-64.2038, -64.1988,-64.1936,-64.1884,-64.1832, -64.175,-64.1697,-64.1644,-64.159, -64.1535,-64.148,-64.1425,-64.137, -64.1314,-64.1258,-64.1199,-64.1142, -64.1085,-64.1027,-64.0969,-64.0915, -64.0857,-64.0798,-64.1057,-64.1302, -64.1547,-64.1791,-64.2036,-64.2354, -64.2598,-64.2843,-64.3087,-64.3331, -64.3575,-64.3819,-64.4063,-64.4307, -64.455,-64.4909,-64.5153,-64.5396, -64.5868,-64.6112,-64.6355,-64.6598, -64.6841,-64.7327,-64.7812,-64.8297, -64.8488,-64.8547,-64.8653,-64.8712, -64.8771,-64.8824,-64.8884,-64.8941, -64.8998,-64.9054,-64.9111,-64.9209, -64.9264,-64.9319,-64.9373,-64.9429, -64.9483,-64.9537,-64.959,-64.9642, -64.9728,-64.978,-64.9831,-64.9413)
FOOTPRINT_POINT_LONGITUDE = (316.924,316.902,316.884,316.867, 316.858,316.847,316.838,316.83,316.821, 316.812,316.803,316.795,316.781,316.772 ,316.764,316.755,316.747,316.738, 316.729,316.721,316.712,316.704,316.695 ,316.687,316.678,316.668,316.736,316.82 ,316.888,316.955,317.023,317.091, 317.192,317.259,317.327,317.394,317.462 ,317.529,317.597,317.664,317.731, 317.799,317.866,317.933,318.001,318.068 ,318.135,318.202,318.269,318.337, 318.392,318.402,318.412,318.422,318.431 ,318.445,318.455,318.465,318.475, 318.485,318.495,318.505,318.515,318.525 ,318.535,318.549,318.56,318.57,318.59, 318.6,318.61,318.62,318.631,318.651, 318.671,318.692,318.609,318.54,318.42, 318.351,318.282,318.213,318.144,318.075 ,318.006,317.937,317.868,317.747, 317.678,317.608,317.539,317.47,317.401, 317.331,317.262,317.193,317.089,317.019 ,316.95,316.924)
ORBIT_NUMBER = 1786
ORBITAL_ECCENTRICITY = 0.567
ORBITAL_INCLINATION = 86.62
ORBITAL_SEMIMAJOR_AXIS = 8572.96
PERIAPSIS_ALTITUDE = 321.85
PERIAPSIS_ARGUMENT_ANGLE = 45.42
PERIAPSIS_TIME = 2005-06-06T20:28:24.000Z
SPACECRAFT_ORIENTATION = (0.0,1.0,0.0)
^MEX_ORIENTATION_DESC = "MEX_ORIENTATION_DESC.TXT"
SPACECRAFT_POINTING_MODE = INERT
^MEX_POINTING_DESC = "MEX_POINTING_DESC.TXT"
RIGHT_ASCENSION = 87.525
DECLINATION = -27.465
OFFSET_ANGLE = -1e+32
SPACECRAFT_SOLAR_DISTANCE = 2.08408e+08
TARGET_NAME = MARS
/* CAMERA DATA ELEMENTS */
BUFFER_MODE_ID = DIRECT
EXPOSURE_DURATION = 5.04
INST_CMPRS_NAME = NONE
INST_CMPRS_RATIO = 1.0
INST_CMPRS_QUALITY = -2147483648
INST_CMPRS_QUANTZ_TBL_ID = -2147483648
INSTRUMENT_TEMPERATURE = 28.0519
MISSING_FRAMES = 0
START_BIT = 0
/* RADIOMETRIC DATA ELEMENTS */
BANDWIDTH = 250.0
CENTER_FILTER_WAVELENGTH = 600.0
RADIANCE_OFFSET = -9.99e+31
RADIANCE_SCALING_FACTOR = -9.99e+31
REFLECTANCE_SCALING_FACTOR = -9.99e+31
MEX:REFLECTANCE_OFFSET = -9.99e+31
/* IMAGE OBJECT DEFINITIONS */
OBJECT = IMAGE
  INTERCHANGE_FORMAT = BINARY
  LINES = 1391
  LINE_SAMPLES = 1344
  SAMPLE_TYPE = UNSIGNED_INTEGER
  SAMPLE_BITS = 8
  BANDS = 1
  BAND_STORAGE_TYPE = BAND_SEQUENTIAL
  MAXIMUM = 5069
  MEAN = 2749.49
  MINIMUM = 0
  STANDARD_DEVIATION = 214.942
END_OBJECT = IMAGE
/* MAP OBJECT DEFINITIONS */
OBJECT = IMAGE_MAP_PROJECTION
  ^DATA_SET_MAP_PROJECTION_CATALOG= "DSMAP.CAT"
  A_AXIS_RADIUS = 3396.19
  B_AXIS_RADIUS = 3396.19
  C_AXIS_RADIUS = 3396.19
  CENTER_LATITUDE = 0.0
  CENTER_LONGITUDE = 318.0
  COORDINATE_SYSTEM_NAME = PLANETOGRAPHIC
  COORDINATE_SYSTEM_TYPE = "BODY-FIXED ROTATING"
  EASTERNMOST_LONGITUDE = 318.692
  FIRST_STANDARD_PARALLEL = "N/A"
  LINE_FIRST_PIXEL = 1
  LINE_LAST_PIXEL = 1391
  LINE_PROJECTION_OFFSET = -94629.0
  MAP_PROJECTION_ROTATION = 0.0
  MAP_PROJECTION_TYPE = SINUSOIDAL
  MAP_RESOLUTION = 1481.86741280472
  MAP_SCALE = 0.04
  MAXIMUM_LATITUDE = -64.07980000000001
  MINIMUM_LATITUDE = -64.98309999999999
  POSITIVE_LONGITUDE_DIRECTION = EAST
  REFERENCE_LATITUDE = "N/A"
  REFERENCE_LONGITUDE = "N/A"
  SAMPLE_FIRST_PIXEL = 1
  SAMPLE_LAST_PIXEL = 1344
  SAMPLE_PROJECTION_OFFSET = 867.0
  SECOND_STANDARD_PARALLEL = "N/A"
  WESTERNMOST_LONGITUDE = 316.668
END_OBJECT = IMAGE_MAP_PROJECTION
/* The JPEG2000 image data file associated with this label. */
OBJECT = COMPRESSED_FILE
  FILE_NAME = "H1786_0057_SR3.JP2"
  RECORD_TYPE = UNDEFINED
  FILE_RECORDS = UNK
  ENCODING_TYPE = "JP2"
  INTERCHANGE_FORMAT = BINARY
  UNCOMPRESSED_FILE_NAME = "H1786_0057_SR3.IMG"
  REQUIRED_STORAGE_BYTES = "1888320"
  ^DESCRIPTION = "JP2INFO.TXT"
END_OBJECT = COMPRESSED_FILE
END
