PDS_VERSION_ID = PDS3
/* FILE DATA ELEMENTS */
RECORD_TYPE = STREAM
/* POINTERS TO DATA OBJECTS */
^COMPRESSED_FILE = "H1786_0061_SR3.JP2"
/* IDENTIFICATION DATA ELEMENTS */
DATA_SET_ID = "MEX-M-HRSC-5-REFDR-MAPPROJECTED-V3.0"
DATA_SET_NAME = "MARS EXPRESS HRSC MAP PROJECTED REFDR V3.0"
DETECTOR_ID = MEX_HRSC_SRC
EVENT_TYPE = "MARS-TERMINATOR-VARIABLE-Gl-At"
INSTRUMENT_HOST_ID = MEX
INSTRUMENT_HOST_NAME = "MARS EXPRESS"
INSTRUMENT_ID = HRSC
INSTRUMENT_NAME = "HIGH RESOLUTION STEREO CAMERA"
MISSION_NAME = "MARS EXPRESS"
MISSION_PHASE_NAME = MR_Phase_6
PROCESSING_LEVEL_ID = 3
PRODUCT_CREATION_TIME = 2016-03-09T12:57:05.000Z
PRODUCT_ID = "H1786_0061_SR3.JP2"
RELEASE_ID = 0022
REVISION_ID = 0000
/* QUALITY DATA ELEMENTS */
DATA_QUALITY_ID = 1
DATA_QUALITY_DESC = "Data calculated based on original SPICE kernels"
/* TIME DATA ELEMENTS */
SPACECRAFT_CLOCK_START_COUNT = "1/0066164603.56201"
SPACECRAFT_CLOCK_STOP_COUNT = "1/0066166403.56040"
IMAGE_TIME = 2005-06-06T19:31:53.004Z
START_TIME = 2005-06-06T19:31:53.002Z
STOP_TIME = 2005-06-06T19:31:53.007Z
/* ORBITAL DATA ELEMENTS */
ASCENDING_NODE_LONGITUDE = 190.99
MAXIMUM_RESOLUTION = 42.959
FOOTPRINT_POINT_LATITUDE = (-61.9861,-61.9377,-61.8894,-61.8422, -61.798,-61.7738,-61.7495,-61.7253, -61.701,-61.6768,-61.6525,-61.6282, -61.604,-61.5797,-61.5554,-61.531, -61.5059,-61.4815,-61.4572,-61.4328, -61.4085,-61.3841,-61.3597,-61.3354, -61.311,-61.2635,-61.2579,-61.2523, -61.245,-61.2394,-61.2336,-61.2279, -61.2221,-61.2134,-61.2075,-61.2016, -61.1957,-61.1897,-61.1797,-61.1736, -61.1677,-61.1615,-61.1554,-61.1458, -61.1396,-61.1333,-61.127,-61.1207, -61.1309,-61.1552,-61.1891,-61.2134, -61.2378,-61.2621,-61.2864,-61.3107, -61.335,-61.3592,-61.3835,-61.4077, -61.432,-61.4562,-61.4804,-61.5047, -61.5295,-61.5537,-61.5779,-61.6021, -61.6263,-61.6504,-61.6746,-61.6987, -61.747,-61.7952,-61.8434,-61.8767, -61.8831,-61.8895,-61.8959,-61.9022, -61.9118,-61.918,-61.9243,-61.9304, -61.9366,-61.9457,-61.9518,-61.9579, -61.9639,-61.9698,-61.9788,-61.9847, -61.9906,-61.9964,-62.0022,-62.0104, -62.0161,-62.0218,-62.0275,-61.9861)
FOOTPRINT_POINT_LONGITUDE = (317.588,317.571,317.554,317.538, 317.522,317.514,317.505,317.497,317.488 ,317.48,317.471,317.463,317.454,317.446 ,317.437,317.429,317.42,317.412,317.404 ,317.395,317.387,317.379,317.37,317.362 ,317.354,317.339,317.399,317.459, 317.534,317.594,317.654,317.713,317.773 ,317.863,317.922,317.982,318.042, 318.101,318.206,318.265,318.34,318.399, 318.459,318.548,318.608,318.667,318.727 ,318.786,318.861,318.87,318.884,318.894 ,318.903,318.912,318.922,318.931,318.94 ,318.95,318.959,318.968,318.978,318.987 ,318.997,319.006,319.016,319.026, 319.035,319.045,319.054,319.064,319.074 ,319.083,319.102,319.122,319.141, 319.121,319.06,318.999,318.938,318.878, 318.786,318.726,318.665,318.604,318.543 ,318.452,318.391,318.33,318.269,318.208 ,318.117,318.056,317.995,317.934, 317.872,317.796,317.735,317.674,317.613 ,317.588)
ORBIT_NUMBER = 1786
ORBITAL_ECCENTRICITY = 0.567
ORBITAL_INCLINATION = 86.62
ORBITAL_SEMIMAJOR_AXIS = 8572.96
PERIAPSIS_ALTITUDE = 321.85
PERIAPSIS_ARGUMENT_ANGLE = 45.42
PERIAPSIS_TIME = 2005-06-06T20:28:24.000Z
SPACECRAFT_ORIENTATION = (0.0,1.0,0.0)
^MEX_ORIENTATION_DESC = "MEX_ORIENTATION_DESC.TXT"
SPACECRAFT_POINTING_MODE = INERT
^MEX_POINTING_DESC = "MEX_POINTING_DESC.TXT"
RIGHT_ASCENSION = 87.525
DECLINATION = -27.465
OFFSET_ANGLE = -1e+32
SPACECRAFT_SOLAR_DISTANCE = 2.08408e+08
TARGET_NAME = MARS
/* CAMERA DATA ELEMENTS */
BUFFER_MODE_ID = DIRECT
EXPOSURE_DURATION = 5.04
INST_CMPRS_NAME = NONE
INST_CMPRS_RATIO = 1.0
INST_CMPRS_QUALITY = -2147483648
INST_CMPRS_QUANTZ_TBL_ID = -2147483648
INSTRUMENT_TEMPERATURE = 28.0519
MISSING_FRAMES = 0
START_BIT = 0
/* RADIOMETRIC DATA ELEMENTS */
BANDWIDTH = 250.0
CENTER_FILTER_WAVELENGTH = 600.0
RADIANCE_OFFSET = -9.99e+31
RADIANCE_SCALING_FACTOR = -9.99e+31
REFLECTANCE_SCALING_FACTOR = -9.99e+31
MEX:REFLECTANCE_OFFSET = -9.99e+31
/* IMAGE OBJECT DEFINITIONS */
OBJECT = IMAGE
  INTERCHANGE_FORMAT = BINARY
  LINES = 1402
  LINE_SAMPLES = 1322
  SAMPLE_TYPE = UNSIGNED_INTEGER
  SAMPLE_BITS = 8
  BANDS = 1
  BAND_STORAGE_TYPE = BAND_SEQUENTIAL
  MAXIMUM = 2607
  MEAN = 2292.38
  MINIMUM = 0
  STANDARD_DEVIATION = 102.981
END_OBJECT = IMAGE
/* MAP OBJECT DEFINITIONS */
OBJECT = IMAGE_MAP_PROJECTION
  ^DATA_SET_MAP_PROJECTION_CATALOG= "DSMAP.CAT"
  A_AXIS_RADIUS = 3396.19
  B_AXIS_RADIUS = 3396.19
  C_AXIS_RADIUS = 3396.19
  CENTER_LATITUDE = 0.0
  CENTER_LONGITUDE = 318.0
  COORDINATE_SYSTEM_NAME = PLANETOGRAPHIC
  COORDINATE_SYSTEM_TYPE = "BODY-FIXED ROTATING"
  EASTERNMOST_LONGITUDE = 319.141
  FIRST_STANDARD_PARALLEL = "N/A"
  LINE_FIRST_PIXEL = 1
  LINE_LAST_PIXEL = 1402
  LINE_PROJECTION_OFFSET = -90243.0
  MAP_PROJECTION_ROTATION = 0.0
  MAP_PROJECTION_TYPE = SINUSOIDAL
  MAP_RESOLUTION = 1481.86741280472
  MAP_SCALE = 0.04
  MAXIMUM_LATITUDE = -61.1207
  MINIMUM_LATITUDE = -62.0275
  POSITIVE_LONGITUDE_DIRECTION = EAST
  REFERENCE_LATITUDE = "N/A"
  REFERENCE_LONGITUDE = "N/A"
  SAMPLE_FIRST_PIXEL = 1
  SAMPLE_LAST_PIXEL = 1322
  SAMPLE_PROJECTION_OFFSET = 480.0
  SECOND_STANDARD_PARALLEL = "N/A"
  WESTERNMOST_LONGITUDE = 317.339
END_OBJECT = IMAGE_MAP_PROJECTION
/* The JPEG2000 image data file associated with this label. */
OBJECT = COMPRESSED_FILE
  FILE_NAME = "H1786_0061_SR3.JP2"
  RECORD_TYPE = UNDEFINED
  FILE_RECORDS = UNK
  ENCODING_TYPE = "JP2"
  INTERCHANGE_FORMAT = BINARY
  UNCOMPRESSED_FILE_NAME = "H1786_0061_SR3.IMG"
  REQUIRED_STORAGE_BYTES = "1873274"
  ^DESCRIPTION = "JP2INFO.TXT"
END_OBJECT = COMPRESSED_FILE
END
