PDS_VERSION_ID = PDS3
/* FILE DATA ELEMENTS */
RECORD_TYPE = STREAM
/* POINTERS TO DATA OBJECTS */
^COMPRESSED_FILE = "H1786_0063_SR3.JP2"
/* IDENTIFICATION DATA ELEMENTS */
DATA_SET_ID = "MEX-M-HRSC-5-REFDR-MAPPROJECTED-V3.0"
DATA_SET_NAME = "MARS EXPRESS HRSC MAP PROJECTED REFDR V3.0"
DETECTOR_ID = MEX_HRSC_SRC
EVENT_TYPE = "MARS-TERMINATOR-VARIABLE-Gl-At"
INSTRUMENT_HOST_ID = MEX
INSTRUMENT_HOST_NAME = "MARS EXPRESS"
INSTRUMENT_ID = HRSC
INSTRUMENT_NAME = "HIGH RESOLUTION STEREO CAMERA"
MISSION_NAME = "MARS EXPRESS"
MISSION_PHASE_NAME = MR_Phase_6
PROCESSING_LEVEL_ID = 3
PRODUCT_CREATION_TIME = 2016-03-09T12:57:05.000Z
PRODUCT_ID = "H1786_0063_SR3.JP2"
RELEASE_ID = 0022
REVISION_ID = 0000
/* QUALITY DATA ELEMENTS */
DATA_QUALITY_ID = 1
DATA_QUALITY_DESC = "Data calculated based on original SPICE kernels"
/* TIME DATA ELEMENTS */
SPACECRAFT_CLOCK_START_COUNT = "1/0066164603.56201"
SPACECRAFT_CLOCK_STOP_COUNT = "1/0066166403.56040"
IMAGE_TIME = 2005-06-06T19:32:39.877Z
START_TIME = 2005-06-06T19:32:39.874Z
STOP_TIME = 2005-06-06T19:32:39.879Z
/* ORBITAL DATA ELEMENTS */
ASCENDING_NODE_LONGITUDE = 190.99
MAXIMUM_RESOLUTION = 42.527
FOOTPRINT_POINT_LATITUDE = (-60.5306,-60.4938,-60.4456,-60.3973, -60.349,-60.3007,-60.2765,-60.2524, -60.2282,-60.204,-60.1797,-60.1546, -60.1304,-60.1061,-60.0819,-60.0576, -60.0333,-60.0091,-59.9848,-59.9605, -59.9362,-59.9118,-59.8875,-59.8632, -59.8388,-59.8067,-59.7864,-59.7805, -59.7746,-59.7676,-59.7616,-59.7556, -59.7496,-59.7435,-59.7374,-59.7287, -59.7225,-59.7164,-59.7101,-59.7039, -59.6976,-59.6919,-59.6855,-59.6792, -59.6728,-59.6664,-59.6599,-59.657, -59.6505,-59.6439,-59.6855,-59.7098, -59.734,-59.7583,-59.7826,-59.8068, -59.8387,-59.8629,-59.8872,-59.9114, -59.9356,-59.9598,-59.984,-60.0081, -60.0323,-60.0565,-60.0806,-60.1047, -60.1318,-60.1664,-60.1905,-60.2146, -60.2387,-60.2869,-60.335,-60.383, -60.3994,-60.406,-60.4127,-60.4192, -60.4257,-60.4322,-60.4387,-60.4451, -60.4561,-60.4625,-60.4688,-60.475, -60.4813,-60.4917,-60.4992,-60.5053, -60.5114,-60.5175,-60.5224,-60.5284, -60.5344,-60.5403,-60.5462,-60.5306)
FOOTPRINT_POINT_LONGITUDE = (317.853,317.84,317.824,317.807,317.79, 317.773,317.765,317.757,317.749,317.74, 317.732,317.723,317.715,317.707,317.698 ,317.69,317.682,317.674,317.665,317.657 ,317.649,317.641,317.633,317.625, 317.617,317.604,317.686,317.743,317.8, 317.87,317.927,317.983,318.04,318.096, 318.152,318.209,318.266,318.322,318.379 ,318.435,318.491,318.547,318.604,318.66 ,318.716,318.773,318.829,318.912, 318.968,319.024,319.048,319.057,319.066 ,319.075,319.084,319.093,319.109, 319.118,319.127,319.136,319.146,319.155 ,319.164,319.173,319.182,319.191,319.2, 319.21,319.22,319.235,319.244,319.253, 319.262,319.281,319.3,319.318,319.278, 319.221,319.164,319.106,319.049,318.992 ,318.934,318.877,318.776,318.719, 318.662,318.604,318.547,318.446,318.388 ,318.331,318.273,318.216,318.158, 318.101,318.043,317.985,317.928, 317.853)
ORBIT_NUMBER = 1786
ORBITAL_ECCENTRICITY = 0.567
ORBITAL_INCLINATION = 86.62
ORBITAL_SEMIMAJOR_AXIS = 8572.96
PERIAPSIS_ALTITUDE = 321.85
PERIAPSIS_ARGUMENT_ANGLE = 45.42
PERIAPSIS_TIME = 2005-06-06T20:28:24.000Z
SPACECRAFT_ORIENTATION = (0.0,1.0,0.0)
^MEX_ORIENTATION_DESC = "MEX_ORIENTATION_DESC.TXT"
SPACECRAFT_POINTING_MODE = INERT
^MEX_POINTING_DESC = "MEX_POINTING_DESC.TXT"
RIGHT_ASCENSION = 87.525
DECLINATION = -27.465
OFFSET_ANGLE = -1e+32
SPACECRAFT_SOLAR_DISTANCE = 2.08408e+08
TARGET_NAME = MARS
/* CAMERA DATA ELEMENTS */
BUFFER_MODE_ID = DIRECT
EXPOSURE_DURATION = 5.04
INST_CMPRS_NAME = NONE
INST_CMPRS_RATIO = 1.0
INST_CMPRS_QUALITY = -2147483648
INST_CMPRS_QUANTZ_TBL_ID = -2147483648
INSTRUMENT_TEMPERATURE = 28.0519
MISSING_FRAMES = 0
START_BIT = 0
/* RADIOMETRIC DATA ELEMENTS */
BANDWIDTH = 250.0
CENTER_FILTER_WAVELENGTH = 600.0
RADIANCE_OFFSET = -9.99e+31
RADIANCE_SCALING_FACTOR = -9.99e+31
REFLECTANCE_SCALING_FACTOR = -9.99e+31
MEX:REFLECTANCE_OFFSET = -9.99e+31
/* IMAGE OBJECT DEFINITIONS */
OBJECT = IMAGE
  INTERCHANGE_FORMAT = BINARY
  LINES = 1406
  LINE_SAMPLES = 1310
  SAMPLE_TYPE = UNSIGNED_INTEGER
  SAMPLE_BITS = 8
  BANDS = 1
  BAND_STORAGE_TYPE = BAND_SEQUENTIAL
  MAXIMUM = 2502
  MEAN = 2117.95
  MINIMUM = 0
  STANDARD_DEVIATION = 107.508
END_OBJECT = IMAGE
/* MAP OBJECT DEFINITIONS */
OBJECT = IMAGE_MAP_PROJECTION
  ^DATA_SET_MAP_PROJECTION_CATALOG= "DSMAP.CAT"
  A_AXIS_RADIUS = 3396.19
  B_AXIS_RADIUS = 3396.19
  C_AXIS_RADIUS = 3396.19
  CENTER_LATITUDE = 0.0
  CENTER_LONGITUDE = 318.0
  COORDINATE_SYSTEM_NAME = PLANETOGRAPHIC
  COORDINATE_SYSTEM_TYPE = "BODY-FIXED ROTATING"
  EASTERNMOST_LONGITUDE = 319.318
  FIRST_STANDARD_PARALLEL = "N/A"
  LINE_FIRST_PIXEL = 1
  LINE_LAST_PIXEL = 1406
  LINE_PROJECTION_OFFSET = -88067.0
  MAP_PROJECTION_ROTATION = 0.0
  MAP_PROJECTION_TYPE = SINUSOIDAL
  MAP_RESOLUTION = 1481.86741280472
  MAP_SCALE = 0.04
  MAXIMUM_LATITUDE = -59.6439
  MINIMUM_LATITUDE = -60.5462
  POSITIVE_LONGITUDE_DIRECTION = EAST
  REFERENCE_LATITUDE = "N/A"
  REFERENCE_LONGITUDE = "N/A"
  SAMPLE_FIRST_PIXEL = 1
  SAMPLE_LAST_PIXEL = 1310
  SAMPLE_PROJECTION_OFFSET = 306.0
  SECOND_STANDARD_PARALLEL = "N/A"
  WESTERNMOST_LONGITUDE = 317.604
END_OBJECT = IMAGE_MAP_PROJECTION
/* The JPEG2000 image data file associated with this label. */
OBJECT = COMPRESSED_FILE
  FILE_NAME = "H1786_0063_SR3.JP2"
  RECORD_TYPE = UNDEFINED
  FILE_RECORDS = UNK
  ENCODING_TYPE = "JP2"
  INTERCHANGE_FORMAT = BINARY
  UNCOMPRESSED_FILE_NAME = "H1786_0063_SR3.IMG"
  REQUIRED_STORAGE_BYTES = "1861510"
  ^DESCRIPTION = "JP2INFO.TXT"
END_OBJECT = COMPRESSED_FILE
END
