PDS_VERSION_ID = PDS3
/* FILE DATA ELEMENTS */
RECORD_TYPE = STREAM
/* POINTERS TO DATA OBJECTS */
^COMPRESSED_FILE = "H1803_0000_IR3.JP2"
/* IDENTIFICATION DATA ELEMENTS */
DATA_SET_ID = "MEX-M-HRSC-5-REFDR-MAPPROJECTED-V3.0"
DATA_SET_NAME = "MARS EXPRESS HRSC MAP PROJECTED REFDR V3.0"
DETECTOR_ID = MEX_HRSC_IR
EVENT_TYPE = "MARS-TERMINATOR-VARIABLE-Fl-Gl-At"
INSTRUMENT_HOST_ID = MEX
INSTRUMENT_HOST_NAME = "MARS EXPRESS"
INSTRUMENT_ID = HRSC
INSTRUMENT_NAME = "HIGH RESOLUTION STEREO CAMERA"
MISSION_NAME = "MARS EXPRESS"
MISSION_PHASE_NAME = MR_Phase_6
PROCESSING_LEVEL_ID = 3
PRODUCT_CREATION_TIME = 2016-03-09T13:18:56.000Z
PRODUCT_ID = "H1803_0000_IR3.JP2"
RELEASE_ID = 0023
REVISION_ID = 0000
/* QUALITY DATA ELEMENTS */
DATA_QUALITY_ID = 1
DATA_QUALITY_DESC = "Data calculated based on original SPICE kernels"
/* TIME DATA ELEMENTS */
SPACECRAFT_CLOCK_START_COUNT = "1/0066577819.56195"
SPACECRAFT_CLOCK_STOP_COUNT = "1/0066579608.13250"
START_TIME = 2005-06-11T14:16:38.977Z
STOP_TIME = 2005-06-11T14:19:38.690Z
/* ORBITAL DATA ELEMENTS */
ASCENDING_NODE_LONGITUDE = 190.63
MAXIMUM_RESOLUTION = 262.1
FOOTPRINT_POINT_LATITUDE = (-44.3477,-44.361,-44.3737,-44.3859, -44.3975,-44.4086,-44.4191,-44.4291, -44.4385,-44.4474,-44.4558,-44.4637, -44.471,-44.4778,-44.4841,-44.4899, -44.4953,-44.5,-44.5042,-44.5079, -44.5111,-44.5137,-44.5159,-44.5175, -44.5185,-44.519,-44.4751,-44.0853, -43.7773,-43.3907,-43.0845,-42.7847, -42.4054,-42.1042,-41.8042,-41.431, -41.0631,-40.7685,-40.5475,-40.1843, -39.895,-39.6779,-39.463,-39.1722, -38.875,-38.573,-38.266,-37.9525, -37.4749,-37.1537,-36.9914,-36.8277, -36.6855,-36.679,-36.6686,-36.6659, -36.6616,-36.6585,-36.6471,-36.6407, -36.6308,-36.6231,-36.6127,-36.6033, -36.5898,-36.5765,-36.5681,-36.5464, -36.5345,-36.5245,-36.515,-36.5052, -36.7529,-36.9988,-37.321,-37.5614, -37.8789,-38.1902,-38.5677,-38.8658, -39.1587,-39.4463,-39.6619,-39.8786, -40.1671,-40.385,-40.6765,-40.8967, -41.192,-41.5651,-42.009,-42.3118, -42.6122,-42.9155,-43.2203,-43.5304, -43.7622,-44.0724,-44.3833,-44.3477)
FOOTPRINT_POINT_LONGITUDE = (89.1533,88.8167,88.4804,88.1445, 87.8088,87.4733,87.1379,86.8025,86.4671 ,86.1317,85.7964,85.4611,85.1259, 84.7907,84.4554,84.1201,83.7846,83.4491 ,83.1133,82.7771,82.4405,82.1034, 81.7659,81.4279,81.0896,80.7507,80.5192 ,80.5734,80.6144,80.6661,80.7057, 80.7419,80.7892,80.8258,80.8616,80.9055 ,80.9465,80.9794,81.0041,81.0429, 81.0732,81.0961,81.1178,81.1468,81.1754 ,81.2035,81.2311,81.2589,81.2993, 81.3246,81.3372,81.3499,81.5486,81.8073 ,82.1306,82.3867,82.643,83.0895,83.4098 ,83.7286,84.1747,84.4932,84.8753, 85.2574,85.7031,86.1489,86.5964,87.04, 87.3582,87.6129,87.8681,88.1236,88.2479 ,88.2869,88.3379,88.3768,88.4292, 88.4806,88.5422,88.5921,88.6421,88.6919 ,88.7294,88.7675,88.8182,88.857,88.9092 ,88.9492,89.0036,89.074,89.1562,89.215, 89.2726,89.3319,89.3923,89.456,89.5034, 89.5673,89.6318,89.1533)
ORBIT_NUMBER = 1803
ORBITAL_ECCENTRICITY = 0.568
ORBITAL_INCLINATION = 86.61
ORBITAL_SEMIMAJOR_AXIS = 8586.43
PERIAPSIS_ALTITUDE = 319.13
PERIAPSIS_ARGUMENT_ANGLE = 42.36
PERIAPSIS_TIME = 2005-06-11T14:41:55.000Z
SPACECRAFT_ORIENTATION = (0.0,1.0,0.0)
^MEX_ORIENTATION_DESC = "MEX_ORIENTATION_DESC.TXT"
SPACECRAFT_POINTING_MODE = NADIR
^MEX_POINTING_DESC = "MEX_POINTING_DESC.TXT"
RIGHT_ASCENSION = -1e+32
DECLINATION = -1e+32
OFFSET_ANGLE = -1e+32
SPACECRAFT_SOLAR_DISTANCE = 2.08026e+08
TARGET_NAME = MARS
/* CAMERA DATA ELEMENTS */
DETECTOR_TEMPERATURE = 17.7588
FOCAL_PLANE_TEMPERATURE = 8.9911
INST_CMPRS_NAME = "DISCRETE COSINE TRANSFORMATION (DCT)"
INST_CMPRS_RATIO = 23.5976
INST_CMPRS_QUALITY = 0
INST_CMPRS_QUANTZ_TBL_ID = 0
INSTRUMENT_TEMPERATURE = 11.234
LENS_TEMPERATURE = 9.3989
MACROPIXEL_SIZE = 4
MISSING_FRAMES = 0
PIXEL_SUBSAMPLING_FLAG = N
SIGNAL_CHAIN_ID = 2
/* RADIOMETRIC DATA ELEMENTS */
BANDWIDTH = 81.0
CENTER_FILTER_WAVELENGTH = 955.5
RADIANCE_OFFSET = 0.147554
RADIANCE_SCALING_FACTOR = 0.00273249
REFLECTANCE_SCALING_FACTOR = 0.000255112
MEX:REFLECTANCE_OFFSET = 0.013776
/* IMAGE OBJECT DEFINITIONS */
OBJECT = IMAGE
  INTERCHANGE_FORMAT = BINARY
  LINES = 2329
  LINE_SAMPLES = 2352
  SAMPLE_TYPE = UNSIGNED_INTEGER
  SAMPLE_BITS = 8
  BANDS = 1
  BAND_STORAGE_TYPE = BAND_SEQUENTIAL
  MAXIMUM = 207
  MEAN = 113.255
  MINIMUM = 35
  STANDARD_DEVIATION = 38.2501
END_OBJECT = IMAGE
/* MAP OBJECT DEFINITIONS */
OBJECT = IMAGE_MAP_PROJECTION
  ^DATA_SET_MAP_PROJECTION_CATALOG= "DSMAP.CAT"
  A_AXIS_RADIUS = 3396.0
  B_AXIS_RADIUS = 3396.0
  C_AXIS_RADIUS = 3396.0
  CENTER_LATITUDE = 0.0
  CENTER_LONGITUDE = 85.0
  COORDINATE_SYSTEM_NAME = PLANETOGRAPHIC
  COORDINATE_SYSTEM_TYPE = "BODY-FIXED ROTATING"
  EASTERNMOST_LONGITUDE = 89.6318
  FIRST_STANDARD_PARALLEL = "N/A"
  LINE_FIRST_PIXEL = 1
  LINE_LAST_PIXEL = 2329
  LINE_PROJECTION_OFFSET = -10862.875
  MAP_PROJECTION_ROTATION = 0.0
  MAP_PROJECTION_TYPE = SINUSOIDAL
  MAP_RESOLUTION = 296.356901933333
  MAP_SCALE = 0.2
  MAXIMUM_LATITUDE = -36.5052
  MINIMUM_LATITUDE = -44.519
  POSITIVE_LONGITUDE_DIRECTION = EAST
  REFERENCE_LATITUDE = "N/A"
  REFERENCE_LONGITUDE = "N/A"
  SAMPLE_FIRST_PIXEL = 1
  SAMPLE_LAST_PIXEL = 2352
  SAMPLE_PROJECTION_OFFSET = 1174.625
  SECOND_STANDARD_PARALLEL = "N/A"
  WESTERNMOST_LONGITUDE = 80.5192
END_OBJECT = IMAGE_MAP_PROJECTION
/* The JPEG2000 image data file associated with this label. */
OBJECT = COMPRESSED_FILE
  FILE_NAME = "H1803_0000_IR3.JP2"
  RECORD_TYPE = UNDEFINED
  FILE_RECORDS = UNK
  ENCODING_TYPE = "JP2"
  INTERCHANGE_FORMAT = BINARY
  UNCOMPRESSED_FILE_NAME = "H1803_0000_IR3.IMG"
  REQUIRED_STORAGE_BYTES = "5501328"
  ^DESCRIPTION = "JP2INFO.TXT"
END_OBJECT = COMPRESSED_FILE
END
