PDS_VERSION_ID = PDS3
/* FILE DATA ELEMENTS */
RECORD_TYPE = STREAM
/* POINTERS TO DATA OBJECTS */
^COMPRESSED_FILE = "H1876_0000_BL3.JP2"
/* IDENTIFICATION DATA ELEMENTS */
DATA_SET_ID = "MEX-M-HRSC-5-REFDR-MAPPROJECTED-V3.0"
DATA_SET_NAME = "MARS EXPRESS HRSC MAP PROJECTED REFDR V3.0"
DETECTOR_ID = MEX_HRSC_BLUE
EVENT_TYPE = "MARS-REGIONAL-MAPPING-Vo-Eo-Mw"
INSTRUMENT_HOST_ID = MEX
INSTRUMENT_HOST_NAME = "MARS EXPRESS"
INSTRUMENT_ID = HRSC
INSTRUMENT_NAME = "HIGH RESOLUTION STEREO CAMERA"
MISSION_NAME = "MARS EXPRESS"
MISSION_PHASE_NAME = MR_Phase_6
PROCESSING_LEVEL_ID = 3
PRODUCT_CREATION_TIME = 2016-03-09T13:44:56.000Z
PRODUCT_ID = "H1876_0000_BL3.JP2"
RELEASE_ID = 0024
REVISION_ID = 0000
/* QUALITY DATA ELEMENTS */
DATA_QUALITY_ID = 1
DATA_QUALITY_DESC = "Data calculated based on original SPICE kernels"
/* TIME DATA ELEMENTS */
SPACECRAFT_CLOCK_START_COUNT = "1/0068345091.56201"
SPACECRAFT_CLOCK_STOP_COUNT = "1/0068346068.20840"
START_TIME = 2005-07-02T00:49:18.962Z
STOP_TIME = 2005-07-02T01:00:08.721Z
/* ORBITAL DATA ELEMENTS */
ASCENDING_NODE_LONGITUDE = 189.02
MAXIMUM_RESOLUTION = 95.8
FOOTPRINT_POINT_LATITUDE = (-37.1924,-37.2194,-37.2381,-37.2437, -37.2437,-37.2273,-36.7865,-35.971, -35.1674,-34.3757,-33.5954,-32.8266, -32.0695,-31.3197,-30.5862,-29.8601, -29.1443,-28.4388,-27.7433,-27.0573, -26.3812,-25.7141,-25.0561,-24.4068, -23.7667,-23.1349,-22.5113,-21.8959, -21.2884,-20.6889,-20.0967,-19.5128, -18.936,-18.3662,-17.8037,-17.2481, -16.6995,-16.1573,-15.6216,-15.092, -14.5696,-14.0531,-13.5422,-13.0368, -12.5378,-12.0429,-11.5567,-11.074, -10.1247,-9.19546,-8.28395,-7.39494, -7.06611,-7.05381,-7.71403,-8.61239, -9.52799,-10.4643,-11.4205,-11.9069, -12.3984,-12.8954,-13.398,-13.9075, -14.4223,-14.943,-15.4698,-16.0039, -16.5436,-17.0906,-17.6437,-18.2046, -18.7715,-19.3465,-19.9286,-20.5183, -21.1156,-21.7208,-22.3338,-22.9554, -23.5852,-24.2233,-24.8701,-25.5267, -26.1913,-26.8659,-27.5496,-28.2436, -28.9476,-29.6612,-30.3855,-31.1202, -31.8657,-32.6222,-33.3901,-34.1695, -34.961,-35.7642,-36.5799,-37.1924)
FOOTPRINT_POINT_LONGITUDE = (113.863,112.839,111.704,110.966, 110.059,108.582,107.803,107.894,107.981 ,108.061,108.137,108.209,108.276, 108.335,108.399,108.455,108.508,108.558 ,108.606,108.651,108.694,108.734, 108.773,108.81,108.844,108.878,108.909, 108.939,108.967,108.994,109.02,109.045, 109.068,109.091,109.113,109.133,109.153 ,109.172,109.19,109.207,109.224,109.24, 109.256,109.271,109.285,109.296,109.312 ,109.325,109.349,109.371,109.39,109.411 ,110.35,111.4,111.532,111.571,111.614, 111.657,111.705,111.729,111.755,111.781 ,111.808,111.836,111.865,111.895, 111.925,111.957,111.99,112.023,112.058, 112.094,112.132,112.17,112.21,112.251, 112.293,112.337,112.384,112.43,112.48, 112.531,112.584,112.638,112.696,112.755 ,112.817,112.881,112.947,113.017,113.09 ,113.165,113.245,113.328,113.414, 113.504,113.599,113.698,113.802, 113.863)
ORBIT_NUMBER = 1876
ORBITAL_ECCENTRICITY = 0.57
ORBITAL_INCLINATION = 86.57
ORBITAL_SEMIMAJOR_AXIS = 8608.1
PERIAPSIS_ALTITUDE = 309.93
PERIAPSIS_ARGUMENT_ANGLE = 29.31
PERIAPSIS_TIME = 2005-07-02T01:09:59.000Z
SPACECRAFT_ORIENTATION = (0.0,1.0,0.0)
^MEX_ORIENTATION_DESC = "MEX_ORIENTATION_DESC.TXT"
SPACECRAFT_POINTING_MODE = NADIR
^MEX_POINTING_DESC = "MEX_POINTING_DESC.TXT"
RIGHT_ASCENSION = -1e+32
DECLINATION = -1e+32
OFFSET_ANGLE = -1e+32
SPACECRAFT_SOLAR_DISTANCE = 2.06902e+08
TARGET_NAME = MARS
/* CAMERA DATA ELEMENTS */
DETECTOR_TEMPERATURE = 18.3705
FOCAL_PLANE_TEMPERATURE = 8.7872
INST_CMPRS_NAME = "DISCRETE COSINE TRANSFORMATION (DCT)"
INST_CMPRS_RATIO = 9.27706
INST_CMPRS_QUALITY = 0
INST_CMPRS_QUANTZ_TBL_ID = 0
INSTRUMENT_TEMPERATURE = 11.4379
LENS_TEMPERATURE = 10.8262
MACROPIXEL_SIZE = 4
MISSING_FRAMES = 0
PIXEL_SUBSAMPLING_FLAG = N
SIGNAL_CHAIN_ID = 2
/* RADIOMETRIC DATA ELEMENTS */
BANDWIDTH = 76.0
CENTER_FILTER_WAVELENGTH = 444.0
RADIANCE_OFFSET = 0.265642
RADIANCE_SCALING_FACTOR = 0.00212432
REFLECTANCE_SCALING_FACTOR = 9.34344e-05
MEX:REFLECTANCE_OFFSET = 0.0116838
/* IMAGE OBJECT DEFINITIONS */
OBJECT = IMAGE
  INTERCHANGE_FORMAT = BINARY
  LINES = 17883
  LINE_SAMPLES = 2833
  SAMPLE_TYPE = UNSIGNED_INTEGER
  SAMPLE_BITS = 8
  BANDS = 1
  BAND_STORAGE_TYPE = BAND_SEQUENTIAL
  MAXIMUM = 317
  MEAN = 182.485
  MINIMUM = 98
  STANDARD_DEVIATION = 52.1897
END_OBJECT = IMAGE
/* MAP OBJECT DEFINITIONS */
OBJECT = IMAGE_MAP_PROJECTION
  ^DATA_SET_MAP_PROJECTION_CATALOG= "DSMAP.CAT"
  A_AXIS_RADIUS = 3396.0
  B_AXIS_RADIUS = 3396.0
  C_AXIS_RADIUS = 3396.0
  CENTER_LATITUDE = 0.0
  CENTER_LONGITUDE = 111.0
  COORDINATE_SYSTEM_NAME = PLANETOGRAPHIC
  COORDINATE_SYSTEM_TYPE = "BODY-FIXED ROTATING"
  EASTERNMOST_LONGITUDE = 113.863
  FIRST_STANDARD_PARALLEL = "N/A"
  LINE_FIRST_PIXEL = 1
  LINE_LAST_PIXEL = 17883
  LINE_PROJECTION_OFFSET = -4185.125
  MAP_PROJECTION_ROTATION = 0.0
  MAP_PROJECTION_TYPE = SINUSOIDAL
  MAP_RESOLUTION = 592.713803866667
  MAP_SCALE = 0.1
  MAXIMUM_LATITUDE = -7.05381
  MINIMUM_LATITUDE = -37.2437
  POSITIVE_LONGITUDE_DIRECTION = EAST
  REFERENCE_LATITUDE = "N/A"
  REFERENCE_LONGITUDE = "N/A"
  SAMPLE_FIRST_PIXEL = 1
  SAMPLE_LAST_PIXEL = 2833
  SAMPLE_PROJECTION_OFFSET = 1512.375
  SECOND_STANDARD_PARALLEL = "N/A"
  WESTERNMOST_LONGITUDE = 107.803
END_OBJECT = IMAGE_MAP_PROJECTION
/* The JPEG2000 image data file associated with this label. */
OBJECT = COMPRESSED_FILE
  FILE_NAME = "H1876_0000_BL3.JP2"
  RECORD_TYPE = UNDEFINED
  FILE_RECORDS = UNK
  ENCODING_TYPE = "JP2"
  INTERCHANGE_FORMAT = BINARY
  UNCOMPRESSED_FILE_NAME = "H1876_0000_BL3.IMG"
  REQUIRED_STORAGE_BYTES = "50685203"
  ^DESCRIPTION = "JP2INFO.TXT"
END_OBJECT = COMPRESSED_FILE
END
