PDS_VERSION_ID = PDS3
/* FILE DATA ELEMENTS */
RECORD_TYPE = STREAM
/* POINTERS TO DATA OBJECTS */
^COMPRESSED_FILE = "H1876_0007_SR3.JP2"
/* IDENTIFICATION DATA ELEMENTS */
DATA_SET_ID = "MEX-M-HRSC-5-REFDR-MAPPROJECTED-V3.0"
DATA_SET_NAME = "MARS EXPRESS HRSC MAP PROJECTED REFDR V3.0"
DETECTOR_ID = MEX_HRSC_SRC
EVENT_TYPE = "MARS-REGIONAL-MAPPING-Vo-Eo-Mw"
INSTRUMENT_HOST_ID = MEX
INSTRUMENT_HOST_NAME = "MARS EXPRESS"
INSTRUMENT_ID = HRSC
INSTRUMENT_NAME = "HIGH RESOLUTION STEREO CAMERA"
MISSION_NAME = "MARS EXPRESS"
MISSION_PHASE_NAME = MR_Phase_6
PROCESSING_LEVEL_ID = 3
PRODUCT_CREATION_TIME = 2016-03-09T13:44:56.000Z
PRODUCT_ID = "H1876_0007_SR3.JP2"
RELEASE_ID = 0024
REVISION_ID = 0000
/* QUALITY DATA ELEMENTS */
DATA_QUALITY_ID = 1
DATA_QUALITY_DESC = "Data calculated based on original SPICE kernels"
/* TIME DATA ELEMENTS */
SPACECRAFT_CLOCK_START_COUNT = "1/0068345091.56201"
SPACECRAFT_CLOCK_STOP_COUNT = "1/0068346068.20840"
IMAGE_TIME = 2005-07-02T00:55:05.456Z
START_TIME = 2005-07-02T00:55:05.453Z
STOP_TIME = 2005-07-02T00:55:05.458Z
/* ORBITAL DATA ELEMENTS */
ASCENDING_NODE_LONGITUDE = 189.02
MAXIMUM_RESOLUTION = 8.49
FOOTPRINT_POINT_LATITUDE = (-23.6749,-23.6649,-23.6603,-23.6546, -23.65,-23.6425,-23.6318,-23.6243, -23.6192,-23.6127,-23.608,-23.6011, -23.5961,-23.5917,-23.5851,-23.5802, -23.5762,-23.5713,-23.566,-23.5587, -23.5501,-23.5419,-23.5379,-23.5318, -23.5317,-23.5316,-23.5316,-23.5315, -23.5315,-23.5314,-23.5313,-23.5313, -23.5312,-23.5311,-23.5311,-23.531, -23.5309,-23.5308,-23.5307,-23.5307, -23.5306,-23.5305,-23.5305,-23.5304, -23.5303,-23.5302,-23.5302,-23.5301, -23.53,-23.5338,-23.5417,-23.548, -23.5529,-23.5572,-23.5642,-23.5692, -23.5748,-23.5814,-23.5863,-23.5943, -23.6003,-23.6046,-23.6085,-23.6135, -23.6199,-23.6241,-23.6297,-23.6336, -23.6387,-23.6449,-23.6495,-23.6552, -23.6591,-23.6634,-23.6697,-23.6743, -23.6744,-23.6745,-23.6745,-23.6746, -23.6747,-23.6747,-23.6748,-23.6749, -23.675,-23.675,-23.6751,-23.6752, -23.6753,-23.6753,-23.6754,-23.6755, -23.6755,-23.6756,-23.6757,-23.6757, -23.6758,-23.6759,-23.6759,-23.6749)
FOOTPRINT_POINT_LONGITUDE = (110.587,110.587,110.587,110.587, 110.587,110.587,110.587,110.586,110.586 ,110.586,110.586,110.586,110.586, 110.586,110.586,110.586,110.586,110.586 ,110.586,110.586,110.585,110.585, 110.585,110.585,110.59,110.596,110.601, 110.607,110.614,110.618,110.624,110.631 ,110.637,110.643,110.649,110.656, 110.662,110.668,110.678,110.684,110.69, 110.696,110.703,110.709,110.715,110.721 ,110.728,110.734,110.74,110.744,110.744 ,110.744,110.744,110.744,110.744, 110.744,110.744,110.745,110.745,110.745 ,110.745,110.745,110.745,110.745, 110.745,110.745,110.745,110.745,110.745 ,110.745,110.746,110.746,110.746, 110.746,110.746,110.741,110.735,110.729 ,110.722,110.716,110.71,110.703,110.697 ,110.691,110.685,110.678,110.669, 110.663,110.657,110.65,110.646,110.638, 110.633,110.627,110.621,110.614,110.608 ,110.602,110.596,110.587)
ORBIT_NUMBER = 1876
ORBITAL_ECCENTRICITY = 0.57
ORBITAL_INCLINATION = 86.57
ORBITAL_SEMIMAJOR_AXIS = 8608.1
PERIAPSIS_ALTITUDE = 309.93
PERIAPSIS_ARGUMENT_ANGLE = 29.31
PERIAPSIS_TIME = 2005-07-02T01:09:59.000Z
SPACECRAFT_ORIENTATION = (0.0,1.0,0.0)
^MEX_ORIENTATION_DESC = "MEX_ORIENTATION_DESC.TXT"
SPACECRAFT_POINTING_MODE = NADIR
^MEX_POINTING_DESC = "MEX_POINTING_DESC.TXT"
RIGHT_ASCENSION = -1e+32
DECLINATION = -1e+32
OFFSET_ANGLE = -1e+32
SPACECRAFT_SOLAR_DISTANCE = 2.06902e+08
TARGET_NAME = MARS
/* CAMERA DATA ELEMENTS */
BUFFER_MODE_ID = BUFFER_8
EXPOSURE_DURATION = 5.04
INST_CMPRS_NAME = NONE
INST_CMPRS_RATIO = 1.0
INST_CMPRS_QUALITY = -2147483648
INST_CMPRS_QUANTZ_TBL_ID = -2147483648
INSTRUMENT_TEMPERATURE = 19.8107
MISSING_FRAMES = 0
START_BIT = 0
/* RADIOMETRIC DATA ELEMENTS */
BANDWIDTH = 250.0
CENTER_FILTER_WAVELENGTH = 600.0
RADIANCE_OFFSET = -9.99e+31
RADIANCE_SCALING_FACTOR = -9.99e+31
REFLECTANCE_SCALING_FACTOR = -9.99e+31
MEX:REFLECTANCE_OFFSET = -9.99e+31
/* IMAGE OBJECT DEFINITIONS */
OBJECT = IMAGE
  INTERCHANGE_FORMAT = BINARY
  LINES = 910
  LINE_SAMPLES = 918
  SAMPLE_TYPE = UNSIGNED_INTEGER
  SAMPLE_BITS = 8
  BANDS = 1
  BAND_STORAGE_TYPE = BAND_SEQUENTIAL
  MAXIMUM = 2865
  MEAN = 2575.93
  MINIMUM = 2185
  STANDARD_DEVIATION = 61.7962
END_OBJECT = IMAGE
/* MAP OBJECT DEFINITIONS */
OBJECT = IMAGE_MAP_PROJECTION
  ^DATA_SET_MAP_PROJECTION_CATALOG= "DSMAP.CAT"
  A_AXIS_RADIUS = 3396.19
  B_AXIS_RADIUS = 3396.19
  C_AXIS_RADIUS = 3396.19
  CENTER_LATITUDE = 0.0
  CENTER_LONGITUDE = 111.0
  COORDINATE_SYSTEM_NAME = PLANETOGRAPHIC
  COORDINATE_SYSTEM_TYPE = "BODY-FIXED ROTATING"
  EASTERNMOST_LONGITUDE = 110.746
  FIRST_STANDARD_PARALLEL = "N/A"
  LINE_FIRST_PIXEL = 1
  LINE_LAST_PIXEL = 910
  LINE_PROJECTION_OFFSET = -139408.0
  MAP_PROJECTION_ROTATION = 0.0
  MAP_PROJECTION_TYPE = SINUSOIDAL
  MAP_RESOLUTION = 5927.46965121889
  MAP_SCALE = 0.01
  MAXIMUM_LATITUDE = -23.53
  MINIMUM_LATITUDE = -23.6759
  POSITIVE_LONGITUDE_DIRECTION = EAST
  REFERENCE_LATITUDE = "N/A"
  REFERENCE_LONGITUDE = "N/A"
  SAMPLE_FIRST_PIXEL = 1
  SAMPLE_LAST_PIXEL = 918
  SAMPLE_PROJECTION_OFFSET = 2273.0
  SECOND_STANDARD_PARALLEL = "N/A"
  WESTERNMOST_LONGITUDE = 110.585
END_OBJECT = IMAGE_MAP_PROJECTION
/* The JPEG2000 image data file associated with this label. */
OBJECT = COMPRESSED_FILE
  FILE_NAME = "H1876_0007_SR3.JP2"
  RECORD_TYPE = UNDEFINED
  FILE_RECORDS = UNK
  ENCODING_TYPE = "JP2"
  INTERCHANGE_FORMAT = BINARY
  UNCOMPRESSED_FILE_NAME = "H1876_0007_SR3.IMG"
  REQUIRED_STORAGE_BYTES = "854658"
  ^DESCRIPTION = "JP2INFO.TXT"
END_OBJECT = COMPRESSED_FILE
END
