PDS_VERSION_ID = PDS3
/* FILE DATA ELEMENTS */
RECORD_TYPE = STREAM
/* POINTERS TO DATA OBJECTS */
^COMPRESSED_FILE = "H1887_0000_ND3.JP2"
/* IDENTIFICATION DATA ELEMENTS */
DATA_SET_ID = "MEX-M-HRSC-5-REFDR-MAPPROJECTED-V3.0"
DATA_SET_NAME = "MARS EXPRESS HRSC MAP PROJECTED REFDR V3.0"
DETECTOR_ID = MEX_HRSC_NADIR
EVENT_TYPE = "MARS-GLOBAL-MAPPING-Fl-Gl-Mw"
INSTRUMENT_HOST_ID = MEX
INSTRUMENT_HOST_NAME = "MARS EXPRESS"
INSTRUMENT_ID = HRSC
INSTRUMENT_NAME = "HIGH RESOLUTION STEREO CAMERA"
MISSION_NAME = "MARS EXPRESS"
MISSION_PHASE_NAME = MR_Phase_6
PROCESSING_LEVEL_ID = 3
PRODUCT_CREATION_TIME = 2016-03-09T13:44:56.000Z
PRODUCT_ID = "H1887_0000_ND3.JP2"
RELEASE_ID = 0024
REVISION_ID = 0000
/* QUALITY DATA ELEMENTS */
DATA_QUALITY_ID = 1
DATA_QUALITY_DESC = "Data calculated based on original SPICE kernels"
/* TIME DATA ELEMENTS */
SPACECRAFT_CLOCK_START_COUNT = "1/0068610617.57307"
SPACECRAFT_CLOCK_STOP_COUNT = "1/0068611719.36365"
START_TIME = 2005-07-05T02:40:17.130Z
STOP_TIME = 2005-07-05T02:46:21.106Z
/* ORBITAL DATA ELEMENTS */
ASCENDING_NODE_LONGITUDE = 188.78
MAXIMUM_RESOLUTION = 50
FOOTPRINT_POINT_LATITUDE = (-49.9846,-49.9925,-49.9953,-49.9937, -49.9873,-49.9757,-49.9568,-49.9347, -49.9074,-49.875,-49.8373,-49.7945, -49.1712,-48.6866,-48.1975,-47.7049, -47.2056,-46.7025,-46.1946,-45.6819, -45.1646,-44.6421,-44.1145,-43.5822, -43.3141,-43.0447,-42.7741,-42.5022, -42.2289,-41.9547,-41.679,-41.4021, -41.124,-40.8444,-40.5632,-40.2809, -39.9973,-39.7125,-39.4264,-39.1391, -38.8502,-38.5601,-38.2684,-37.9758, -37.6814,-37.3857,-37.0887,-36.7904, -36.4907,-36.3273,-36.3404,-36.3481, -36.3534,-36.3576,-36.3611,-36.3626, -36.3623,-36.3586,-36.3528,-36.3437, -36.6461,-36.947,-37.2467,-37.545, -37.8421,-38.1378,-38.4322,-38.7254, -39.0172,-39.3079,-39.5972,-39.8852, -40.172,-40.4576,-40.7418,-41.0249, -41.3066,-41.5872,-41.8665,-42.1446, -42.4214,-42.6971,-42.9715,-43.2448, -43.5168,-43.7877,-44.0574,-44.3259, -44.8595,-45.3884,-45.9127,-46.4325, -46.9478,-47.4585,-47.9649,-48.467, -48.9649,-49.4584,-49.9477,-49.9846)
FOOTPRINT_POINT_LONGITUDE = (112.297,111.538,110.874,110.113, 109.353,108.592,107.736,106.975,106.212 ,105.449,104.682,103.915,103.699, 103.822,103.943,104.075,104.18,104.294, 104.405,104.514,104.624,104.727,104.826 ,104.925,104.974,105.022,105.069, 105.116,105.16,105.207,105.254,105.299, 105.347,105.391,105.428,105.469,105.511 ,105.552,105.594,105.638,105.677, 105.717,105.754,105.796,105.831,105.866 ,105.902,105.938,105.973,106.374, 106.971,107.404,107.781,108.158,108.641 ,109.016,109.605,110.299,110.833, 111.446,111.477,111.509,111.54,111.571, 111.603,111.634,111.667,111.699,111.732 ,111.764,111.796,111.83,111.863,111.896 ,111.931,111.964,111.999,112.033, 112.067,112.103,112.139,112.175,112.21, 112.247,112.283,112.319,112.356,112.393 ,112.468,112.543,112.62,112.697,112.775 ,112.857,112.939,113.021,113.102, 113.187,113.273,112.297)
ORBIT_NUMBER = 1887
ORBITAL_ECCENTRICITY = 0.57
ORBITAL_INCLINATION = 86.57
ORBITAL_SEMIMAJOR_AXIS = 8610.82
PERIAPSIS_ALTITUDE = 308.65
PERIAPSIS_ARGUMENT_ANGLE = 27.33
PERIAPSIS_TIME = 2005-07-05T03:05:17.000Z
SPACECRAFT_ORIENTATION = (0.0,1.0,0.0)
^MEX_ORIENTATION_DESC = "MEX_ORIENTATION_DESC.TXT"
SPACECRAFT_POINTING_MODE = ACROSSTRACK
^MEX_POINTING_DESC = "MEX_POINTING_DESC.TXT"
RIGHT_ASCENSION = -1e+32
DECLINATION = -1e+32
OFFSET_ANGLE = 0.68
SPACECRAFT_SOLAR_DISTANCE = 2.06809e+08
TARGET_NAME = MARS
/* CAMERA DATA ELEMENTS */
DETECTOR_TEMPERATURE = 18.5744
FOCAL_PLANE_TEMPERATURE = 11.0301
INST_CMPRS_NAME = "DISCRETE COSINE TRANSFORMATION (DCT)"
INST_CMPRS_RATIO = 7.41536
INST_CMPRS_QUALITY = 0
INST_CMPRS_QUANTZ_TBL_ID = 0
INSTRUMENT_TEMPERATURE = 11.6418
LENS_TEMPERATURE = 10.0106
MACROPIXEL_SIZE = 1
MISSING_FRAMES = 0
PIXEL_SUBSAMPLING_FLAG = N
SIGNAL_CHAIN_ID = 0
/* RADIOMETRIC DATA ELEMENTS */
BANDWIDTH = 177.0
CENTER_FILTER_WAVELENGTH = 677.5
RADIANCE_OFFSET = 4.13721
RADIANCE_SCALING_FACTOR = 0.0165141
REFLECTANCE_SCALING_FACTOR = 0.000375215
MEX:REFLECTANCE_OFFSET = 0.0940012
/* IMAGE OBJECT DEFINITIONS */
OBJECT = IMAGE
  INTERCHANGE_FORMAT = BINARY
  LINES = 16211
  LINE_SAMPLES = 7450
  SAMPLE_TYPE = UNSIGNED_INTEGER
  SAMPLE_BITS = 8
  BANDS = 1
  BAND_STORAGE_TYPE = BAND_SEQUENTIAL
  MAXIMUM = 233
  MEAN = 149.306
  MINIMUM = 108
  STANDARD_DEVIATION = 14.9481
END_OBJECT = IMAGE
/* MAP OBJECT DEFINITIONS */
OBJECT = IMAGE_MAP_PROJECTION
  ^DATA_SET_MAP_PROJECTION_CATALOG= "DSMAP.CAT"
  A_AXIS_RADIUS = 3396.0
  B_AXIS_RADIUS = 3396.0
  C_AXIS_RADIUS = 3396.0
  CENTER_LATITUDE = 0.0
  CENTER_LONGITUDE = 109.0
  COORDINATE_SYSTEM_NAME = PLANETOGRAPHIC
  COORDINATE_SYSTEM_TYPE = "BODY-FIXED ROTATING"
  EASTERNMOST_LONGITUDE = 113.273
  FIRST_STANDARD_PARALLEL = "N/A"
  LINE_FIRST_PIXEL = 1
  LINE_LAST_PIXEL = 16211
  LINE_PROJECTION_OFFSET = -43054.0
  MAP_PROJECTION_ROTATION = 0.0
  MAP_PROJECTION_TYPE = SINUSOIDAL
  MAP_RESOLUTION = 1185.42760773333
  MAP_SCALE = 0.05
  MAXIMUM_LATITUDE = -36.3273
  MINIMUM_LATITUDE = -49.9953
  POSITIVE_LONGITUDE_DIRECTION = EAST
  REFERENCE_LATITUDE = "N/A"
  REFERENCE_LONGITUDE = "N/A"
  SAMPLE_FIRST_PIXEL = 1
  SAMPLE_LAST_PIXEL = 7450
  SAMPLE_PROJECTION_OFFSET = 4190.0
  SECOND_STANDARD_PARALLEL = "N/A"
  WESTERNMOST_LONGITUDE = 103.699
END_OBJECT = IMAGE_MAP_PROJECTION
/* The JPEG2000 image data file associated with this label. */
OBJECT = COMPRESSED_FILE
  FILE_NAME = "H1887_0000_ND3.JP2"
  RECORD_TYPE = UNDEFINED
  FILE_RECORDS = UNK
  ENCODING_TYPE = "JP2"
  INTERCHANGE_FORMAT = BINARY
  UNCOMPRESSED_FILE_NAME = "H1887_0000_ND3.IMG"
  REQUIRED_STORAGE_BYTES = "120801750"
  ^DESCRIPTION = "JP2INFO.TXT"
END_OBJECT = COMPRESSED_FILE
END
