PDS_VERSION_ID = PDS3
/* FILE DATA ELEMENTS */
RECORD_TYPE = STREAM
/* POINTERS TO DATA OBJECTS */
^COMPRESSED_FILE = "H1887_0009_RE3.JP2"
/* IDENTIFICATION DATA ELEMENTS */
DATA_SET_ID = "MEX-M-HRSC-5-REFDR-MAPPROJECTED-V3.0"
DATA_SET_NAME = "MARS EXPRESS HRSC MAP PROJECTED REFDR V3.0"
DETECTOR_ID = MEX_HRSC_RED
EVENT_TYPE = "MARS-REGIONAL-MAPPING-Vo-Te-Im"
INSTRUMENT_HOST_ID = MEX
INSTRUMENT_HOST_NAME = "MARS EXPRESS"
INSTRUMENT_ID = HRSC
INSTRUMENT_NAME = "HIGH RESOLUTION STEREO CAMERA"
MISSION_NAME = "MARS EXPRESS"
MISSION_PHASE_NAME = MR_Phase_6
PROCESSING_LEVEL_ID = 3
PRODUCT_CREATION_TIME = 2016-03-09T13:44:56.000Z
PRODUCT_ID = "H1887_0009_RE3.JP2"
RELEASE_ID = 0024
REVISION_ID = 0000
/* QUALITY DATA ELEMENTS */
DATA_QUALITY_ID = 1
DATA_QUALITY_DESC = "Data calculated based on original SPICE kernels"
/* TIME DATA ELEMENTS */
SPACECRAFT_CLOCK_START_COUNT = "1/0068611848.57972"
SPACECRAFT_CLOCK_STOP_COUNT = "1/0068612314.08487"
START_TIME = 2005-07-05T02:51:17.612Z
STOP_TIME = 2005-07-05T02:57:16.489Z
/* ORBITAL DATA ELEMENTS */
ASCENDING_NODE_LONGITUDE = 188.78
MAXIMUM_RESOLUTION = 168.5
FOOTPRINT_POINT_LATITUDE = (-18.6508,-18.6513,-18.6493,-18.6447, -18.6374,-18.6275,-18.6151,-17.9595, -17.5336,-17.1118,-16.6935,-16.2788, -15.8678,-15.4609,-15.0569,-14.6567, -14.2598,-13.6691,-13.2802,-12.8945, -12.5119,-12.1322,-11.7561,-11.383, -11.0128,-10.6458,-10.2811,-9.91952, -9.56105,-9.20481,-8.85236,-8.50325, -7.98214,-7.46762,-7.12741,-6.79023, -6.45668,-5.96011,-5.4673,-4.98009, -4.64822,-4.33774,-4.01797,-3.70162, -3.23245,-2.92187,-2.61464,-2.30959, -1.70748,-1.40481,-0.808247,-0.786879, -0.79339,-0.80158,-0.813813,-1.2588, -1.85612,-2.16199,-2.46844,-2.92834, -3.23901,-3.70378,-4.17464,-4.65416, -4.97627,-5.30232,-5.79331,-6.12371, -6.45506,-6.79026,-7.12755,-7.63853, -7.9804,-8.32836,-8.67658,-9.028, -9.38177,-9.73809,-10.0982,-10.4604, -10.8259,-11.1943,-11.5662,-11.9404, -12.3176,-12.6985,-13.0827,-13.4698, -13.8605,-14.2547,-14.6513,-15.0522, -15.4556,-15.8629,-16.274,-16.6898, -17.1089,-17.5303,-17.9569,-18.6508)
FOOTPRINT_POINT_LONGITUDE = (110.147,109.642,109.166,108.688, 108.208,107.726,107.241,107.136,107.158 ,107.179,107.199,107.219,107.238, 107.257,107.274,107.292,107.308,107.332 ,107.347,107.362,107.376,107.39,107.403 ,107.416,107.429,107.441,107.453, 107.464,107.475,107.486,107.497,107.507 ,107.522,107.536,107.545,107.554, 107.563,107.576,107.587,107.599,107.6, 107.612,107.618,107.624,107.633,107.64, 107.646,107.653,107.667,107.669,107.678 ,108.097,108.397,108.81,109.441,109.455 ,109.475,109.485,109.496,109.512, 109.523,109.54,109.557,109.575,109.588, 109.6,109.619,109.632,109.646,109.66, 109.674,109.695,109.711,109.725,109.741 ,109.757,109.773,109.79,109.807,109.825 ,109.842,109.861,109.879,109.898, 109.918,109.938,109.959,109.98,110.001, 110.023,110.046,110.069,110.093,110.117 ,110.142,110.168,110.194,110.221, 110.249,110.147)
ORBIT_NUMBER = 1887
ORBITAL_ECCENTRICITY = 0.57
ORBITAL_INCLINATION = 86.57
ORBITAL_SEMIMAJOR_AXIS = 8610.82
PERIAPSIS_ALTITUDE = 308.65
PERIAPSIS_ARGUMENT_ANGLE = 27.33
PERIAPSIS_TIME = 2005-07-05T03:05:17.000Z
SPACECRAFT_ORIENTATION = (0.0,1.0,0.0)
^MEX_ORIENTATION_DESC = "MEX_ORIENTATION_DESC.TXT"
SPACECRAFT_POINTING_MODE = ACROSSTRACK
^MEX_POINTING_DESC = "MEX_POINTING_DESC.TXT"
RIGHT_ASCENSION = -1e+32
DECLINATION = -1e+32
OFFSET_ANGLE = 0.68
SPACECRAFT_SOLAR_DISTANCE = 2.06809e+08
TARGET_NAME = MARS
/* CAMERA DATA ELEMENTS */
DETECTOR_TEMPERATURE = 22.8563
FOCAL_PLANE_TEMPERATURE = 10.2145
INST_CMPRS_NAME = "DISCRETE COSINE TRANSFORMATION (DCT)"
INST_CMPRS_RATIO = 20.3224
INST_CMPRS_QUALITY = 0
INST_CMPRS_QUANTZ_TBL_ID = 0
INSTRUMENT_TEMPERATURE = 15.312
LENS_TEMPERATURE = 10.6223
MACROPIXEL_SIZE = 8
MISSING_FRAMES = 0
PIXEL_SUBSAMPLING_FLAG = N
SIGNAL_CHAIN_ID = 2
/* RADIOMETRIC DATA ELEMENTS */
BANDWIDTH = 48.0
CENTER_FILTER_WAVELENGTH = 748.0
RADIANCE_OFFSET = 0.405191
RADIANCE_SCALING_FACTOR = 0.00212374
REFLECTANCE_SCALING_FACTOR = 0.000207284
MEX:REFLECTANCE_OFFSET = 0.0395481
/* IMAGE OBJECT DEFINITIONS */
OBJECT = IMAGE
  INTERCHANGE_FORMAT = BINARY
  LINES = 5290
  LINE_SAMPLES = 820
  SAMPLE_TYPE = UNSIGNED_INTEGER
  SAMPLE_BITS = 8
  BANDS = 1
  BAND_STORAGE_TYPE = BAND_SEQUENTIAL
  MAXIMUM = 249
  MEAN = 173.23
  MINIMUM = 104
  STANDARD_DEVIATION = 28.2035
END_OBJECT = IMAGE
/* MAP OBJECT DEFINITIONS */
OBJECT = IMAGE_MAP_PROJECTION
  ^DATA_SET_MAP_PROJECTION_CATALOG= "DSMAP.CAT"
  A_AXIS_RADIUS = 3396.0
  B_AXIS_RADIUS = 3396.0
  C_AXIS_RADIUS = 3396.0
  CENTER_LATITUDE = 0.0
  CENTER_LONGITUDE = 109.0
  COORDINATE_SYSTEM_NAME = PLANETOGRAPHIC
  COORDINATE_SYSTEM_TYPE = "BODY-FIXED ROTATING"
  EASTERNMOST_LONGITUDE = 110.249
  FIRST_STANDARD_PARALLEL = "N/A"
  LINE_FIRST_PIXEL = 1
  LINE_LAST_PIXEL = 5290
  LINE_PROJECTION_OFFSET = -238.9375
  MAP_PROJECTION_ROTATION = 0.0
  MAP_PROJECTION_TYPE = SINUSOIDAL
  MAP_RESOLUTION = 296.356901933333
  MAP_SCALE = 0.2
  MAXIMUM_LATITUDE = -0.786879
  MINIMUM_LATITUDE = -18.6513
  POSITIVE_LONGITUDE_DIRECTION = EAST
  REFERENCE_LATITUDE = "N/A"
  REFERENCE_LONGITUDE = "N/A"
  SAMPLE_FIRST_PIXEL = 1
  SAMPLE_LAST_PIXEL = 820
  SAMPLE_PROJECTION_OFFSET = 501.0625
  SECOND_STANDARD_PARALLEL = "N/A"
  WESTERNMOST_LONGITUDE = 107.136
END_OBJECT = IMAGE_MAP_PROJECTION
/* The JPEG2000 image data file associated with this label. */
OBJECT = COMPRESSED_FILE
  FILE_NAME = "H1887_0009_RE3.JP2"
  RECORD_TYPE = UNDEFINED
  FILE_RECORDS = UNK
  ENCODING_TYPE = "JP2"
  INTERCHANGE_FORMAT = BINARY
  UNCOMPRESSED_FILE_NAME = "H1887_0009_RE3.IMG"
  REQUIRED_STORAGE_BYTES = "4355840"
  ^DESCRIPTION = "JP2INFO.TXT"
END_OBJECT = COMPRESSED_FILE
END
