PDS_VERSION_ID = PDS3
/* FILE DATA ELEMENTS */
RECORD_TYPE = STREAM
/* POINTERS TO DATA OBJECTS */
^COMPRESSED_FILE = "H1889_0000_ND3.JP2"
/* IDENTIFICATION DATA ELEMENTS */
DATA_SET_ID = "MEX-M-HRSC-5-REFDR-MAPPROJECTED-V3.0"
DATA_SET_NAME = "MARS EXPRESS HRSC MAP PROJECTED REFDR V3.0"
DETECTOR_ID = MEX_HRSC_NADIR
EVENT_TYPE = "MARS-REGIONAL-MAPPING-Vo-Te-La"
INSTRUMENT_HOST_ID = MEX
INSTRUMENT_HOST_NAME = "MARS EXPRESS"
INSTRUMENT_ID = HRSC
INSTRUMENT_NAME = "HIGH RESOLUTION STEREO CAMERA"
MISSION_NAME = "MARS EXPRESS"
MISSION_PHASE_NAME = MR_Phase_6
PROCESSING_LEVEL_ID = 3
PRODUCT_CREATION_TIME = 2016-03-09T13:44:56.000Z
PRODUCT_ID = "H1889_0000_ND3.JP2"
RELEASE_ID = 0024
REVISION_ID = 0000
/* QUALITY DATA ELEMENTS */
DATA_QUALITY_ID = 1
DATA_QUALITY_DESC = "Data calculated based on original SPICE kernels"
/* TIME DATA ELEMENTS */
SPACECRAFT_CLOCK_START_COUNT = "1/0068660234.57143"
SPACECRAFT_CLOCK_STOP_COUNT = "1/0068660726.41240"
START_TIME = 2005-07-05T16:19:07.106Z
STOP_TIME = 2005-07-05T16:24:51.121Z
/* ORBITAL DATA ELEMENTS */
ASCENDING_NODE_LONGITUDE = 188.73
MAXIMUM_RESOLUTION = 18
FOOTPRINT_POINT_LATITUDE = (-19.1596,-19.1633,-19.166,-19.1675, -19.1679,-19.1664,-18.6801,-18.1988, -17.7226,-17.2514,-16.7852,-16.3242, -15.8681,-15.4164,-14.9693,-14.5265, -14.0882,-13.6547,-13.2257,-12.8005, -12.3794,-11.9621,-11.5486,-11.1393, -10.7346,-10.333,-9.93451,-9.54029, -9.14993,-8.76215,-8.37811,-7.99835, -7.62009,-7.24666,-6.69148,-6.32484, -5.96199,-5.42274,-5.06588,-4.71393, -4.36258,-4.01645,-3.67056,-3.32972, -2.98854,-2.65341,-2.15167,-1.32927, -0.680547,-0.0437116,0.287479,0.291652, 0.2946,-0.339682,-0.819903,-1.46803, -1.79829,-2.12784,-2.62912,-2.96416, -3.30495,-3.64569,-3.99119,-4.33711, -4.68831,-5.04024,-5.39688,-5.93546, -6.29816,-6.66441,-7.21909,-7.59254, -7.97054,-8.34999,-8.73397,-9.12146, -9.51151,-9.90572,-10.3039,-10.7052, -11.1097,-11.5191,-11.9324,-12.3493, -12.7703,-13.1953,-13.6241,-14.0577, -14.496,-14.9387,-15.3857,-15.8373, -16.2934,-16.7542,-17.2204,-17.6916, -18.1679,-18.6494,-19.1358,-19.1596)
FOOTPRINT_POINT_LONGITUDE = (272.878,272.431,271.981,271.529, 271.074,270.439,270.46,270.481,270.501, 270.521,270.539,270.557,270.574,270.591 ,270.607,270.622,270.637,270.651, 270.666,270.679,270.692,270.703,270.714 ,270.729,270.739,270.75,270.76,270.77, 270.779,270.789,270.799,270.808,270.817 ,270.825,270.815,270.838,270.847, 270.838,270.853,270.855,270.857,270.884 ,270.89,270.895,270.9,270.905,270.911, 270.921,270.93,270.938,271.248,271.928, 272.408,272.555,272.568,272.587,272.596 ,272.606,272.62,272.63,272.641,272.651, 272.662,272.673,272.684,272.696,272.707 ,272.725,272.738,272.751,272.77,272.783 ,272.797,272.81,272.825,272.839,272.854 ,272.869,272.885,272.901,272.917, 272.934,272.951,272.969,272.987,273.005 ,273.024,273.043,273.063,273.084, 273.105,273.126,273.148,273.17,273.194, 273.217,273.242,273.267,273.293, 272.878)
ORBIT_NUMBER = 1889
ORBITAL_ECCENTRICITY = 0.57
ORBITAL_INCLINATION = 86.58
ORBITAL_SEMIMAJOR_AXIS = 8613.24
PERIAPSIS_ALTITUDE = 307.91
PERIAPSIS_ARGUMENT_ANGLE = 27.0
PERIAPSIS_TIME = 2005-07-05T16:31:47.000Z
SPACECRAFT_ORIENTATION = (0.0,1.0,0.0)
^MEX_ORIENTATION_DESC = "MEX_ORIENTATION_DESC.TXT"
SPACECRAFT_POINTING_MODE = ACROSSTRACK
^MEX_POINTING_DESC = "MEX_POINTING_DESC.TXT"
RIGHT_ASCENSION = -1e+32
DECLINATION = -1e+32
OFFSET_ANGLE = 0.9
SPACECRAFT_SOLAR_DISTANCE = 2.06794e+08
TARGET_NAME = MARS
/* CAMERA DATA ELEMENTS */
DETECTOR_TEMPERATURE = 18.5744
FOCAL_PLANE_TEMPERATURE = 9.6028
INST_CMPRS_NAME = "DISCRETE COSINE TRANSFORMATION (DCT)"
INST_CMPRS_RATIO = 7.76022
INST_CMPRS_QUALITY = 0
INST_CMPRS_QUANTZ_TBL_ID = 0
INSTRUMENT_TEMPERATURE = 11.6418
LENS_TEMPERATURE = 9.8067
MACROPIXEL_SIZE = 1
MISSING_FRAMES = 0
PIXEL_SUBSAMPLING_FLAG = N
SIGNAL_CHAIN_ID = 0
/* RADIOMETRIC DATA ELEMENTS */
BANDWIDTH = 177.0
CENTER_FILTER_WAVELENGTH = 677.5
RADIANCE_OFFSET = 1.44841
RADIANCE_SCALING_FACTOR = 0.010239
REFLECTANCE_SCALING_FACTOR = 0.000232604
MEX:REFLECTANCE_OFFSET = 0.0329042
/* IMAGE OBJECT DEFINITIONS */
OBJECT = IMAGE
  INTERCHANGE_FORMAT = BINARY
  LINES = 92290
  LINE_SAMPLES = 13235
  SAMPLE_TYPE = UNSIGNED_INTEGER
  SAMPLE_BITS = 8
  BANDS = 1
  BAND_STORAGE_TYPE = BAND_SEQUENTIAL
  MAXIMUM = 251
  MEAN = 126.931
  MINIMUM = 0
  STANDARD_DEVIATION = 20.1904
END_OBJECT = IMAGE
/* MAP OBJECT DEFINITIONS */
OBJECT = IMAGE_MAP_PROJECTION
  ^DATA_SET_MAP_PROJECTION_CATALOG= "DSMAP.CAT"
  A_AXIS_RADIUS = 3396.0
  B_AXIS_RADIUS = 3396.0
  C_AXIS_RADIUS = 3396.0
  CENTER_LATITUDE = 0.0
  CENTER_LONGITUDE = 272.0
  COORDINATE_SYSTEM_NAME = PLANETOGRAPHIC
  COORDINATE_SYSTEM_TYPE = "BODY-FIXED ROTATING"
  EASTERNMOST_LONGITUDE = 273.293
  FIRST_STANDARD_PARALLEL = "N/A"
  LINE_FIRST_PIXEL = 1
  LINE_LAST_PIXEL = 92290
  LINE_PROJECTION_OFFSET = 1400.0
  MAP_PROJECTION_ROTATION = 0.0
  MAP_PROJECTION_TYPE = SINUSOIDAL
  MAP_RESOLUTION = 4741.71043093333
  MAP_SCALE = 0.0125
  MAXIMUM_LATITUDE = 0.2946
  MINIMUM_LATITUDE = -19.1679
  POSITIVE_LONGITUDE_DIRECTION = EAST
  REFERENCE_LATITUDE = "N/A"
  REFERENCE_LONGITUDE = "N/A"
  SAMPLE_FIRST_PIXEL = 1
  SAMPLE_LAST_PIXEL = 13235
  SAMPLE_PROJECTION_OFFSET = 7387.0
  SECOND_STANDARD_PARALLEL = "N/A"
  WESTERNMOST_LONGITUDE = 270.439
END_OBJECT = IMAGE_MAP_PROJECTION
/* The JPEG2000 image data file associated with this label. */
OBJECT = COMPRESSED_FILE
  FILE_NAME = "H1889_0000_ND3.JP2"
  RECORD_TYPE = UNDEFINED
  FILE_RECORDS = UNK
  ENCODING_TYPE = "JP2"
  INTERCHANGE_FORMAT = BINARY
  UNCOMPRESSED_FILE_NAME = "H1889_0000_ND3.IMG"
  REQUIRED_STORAGE_BYTES = "1221497855"
  ^DESCRIPTION = "JP2INFO.TXT"
END_OBJECT = COMPRESSED_FILE
END
