PDS_VERSION_ID = PDS3
/* FILE DATA ELEMENTS */
RECORD_TYPE = STREAM
/* POINTERS TO DATA OBJECTS */
^COMPRESSED_FILE = "H1892_0000_ND3.JP2"
/* IDENTIFICATION DATA ELEMENTS */
DATA_SET_ID = "MEX-M-HRSC-5-REFDR-MAPPROJECTED-V3.0"
DATA_SET_NAME = "MARS EXPRESS HRSC MAP PROJECTED REFDR V3.0"
DETECTOR_ID = MEX_HRSC_NADIR
EVENT_TYPE = "MARS-LOCAL-STEREO-Gl-Lc-La"
INSTRUMENT_HOST_ID = MEX
INSTRUMENT_HOST_NAME = "MARS EXPRESS"
INSTRUMENT_ID = HRSC
INSTRUMENT_NAME = "HIGH RESOLUTION STEREO CAMERA"
MISSION_NAME = "MARS EXPRESS"
MISSION_PHASE_NAME = MR_Phase_6
PROCESSING_LEVEL_ID = 3
PRODUCT_CREATION_TIME = 2016-03-09T13:44:56.000Z
PRODUCT_ID = "H1892_0000_ND3.JP2"
RELEASE_ID = 0024
REVISION_ID = 0000
/* QUALITY DATA ELEMENTS */
DATA_QUALITY_ID = 1
DATA_QUALITY_DESC = "Data calculated based on original SPICE kernels"
/* TIME DATA ELEMENTS */
SPACECRAFT_CLOCK_START_COUNT = "1/0068733126.57141"
SPACECRAFT_CLOCK_STOP_COUNT = "1/0068733411.00515"
START_TIME = 2005-07-06T12:33:09.622Z
STOP_TIME = 2005-07-06T12:36:22.610Z
/* ORBITAL DATA ELEMENTS */
ASCENDING_NODE_LONGITUDE = 188.67
MAXIMUM_RESOLUTION = 15.4
FOOTPRINT_POINT_LATITUDE = (-4.51842,-4.52139,-4.52424,-4.52695, -4.52953,-4.53199,-4.26561,-3.86906, -3.60468,-3.34489,-3.08464,-2.82563, -2.57018,-2.31428,-2.05952,-1.80853, -1.55714,-1.30593,-1.05949,-0.812682, -0.442831,-0.200898,0.04141,0.404872, 0.642297,0.880023,1.11806,1.35436, 1.58724,1.8204,2.05387,2.28574,2.51393, 2.74238,2.97112,3.31224,3.53575,3.75952 ,3.98352,4.31822,4.75586,5.19459, 5.41427,5.63413,5.85423,6.07458,6.29515 ,6.51594,6.73693,6.95816,7.30456,7.3063 ,7.30706,7.3075,6.97541,6.75439,6.5336, 6.31302,6.09268,5.87255,5.65265,5.21351 ,4.77539,4.33819,4.11619,3.89227, 3.66858,3.44515,3.22189,2.99314,2.76465 ,2.53641,2.30847,2.07721,1.84403, 1.61114,1.37848,1.14282,0.905063, 0.667656,0.430499,0.0675351,-0.174513, -0.416191,-0.78506,-1.03159,-1.27768, -1.52832,-1.7795,-2.03022,-2.28436, -2.53993,-2.79504,-3.05343,-3.31339, -3.57288,-3.8366,-4.10078,-4.36462, -4.51842)
FOOTPRINT_POINT_LONGITUDE = (339.13,338.845,338.562,338.281,338.001 ,337.722,337.595,337.601,337.605, 337.609,337.613,337.616,337.62,337.623, 337.627,337.631,337.634,337.638,337.641 ,337.644,337.648,337.652,337.655,337.66 ,337.663,337.666,337.669,337.672, 337.674,337.677,337.68,337.683,337.685, 337.688,337.691,337.695,337.697,337.7, 337.703,337.706,337.712,337.716,337.719 ,337.721,337.723,337.726,337.728,337.73 ,337.733,337.735,337.911,338.447, 338.774,339.048,339.113,339.115,339.117 ,339.12,339.123,339.126,339.129,339.136 ,339.147,339.158,339.161,339.166,339.17 ,339.174,339.179,339.184,339.189, 339.193,339.199,339.204,339.21,339.216, 339.219,339.225,339.232,339.24,339.245, 339.248,339.255,339.262,339.275,339.283 ,339.292,339.298,339.303,339.31,339.317 ,339.325,339.334,339.342,339.349, 339.357,339.366,339.374,339.383,339.13)
ORBIT_NUMBER = 1892
ORBITAL_ECCENTRICITY = 0.57
ORBITAL_INCLINATION = 86.58
ORBITAL_SEMIMAJOR_AXIS = 8602.98
PERIAPSIS_ALTITUDE = 308.5
PERIAPSIS_ARGUMENT_ANGLE = 26.44
PERIAPSIS_TIME = 2005-07-06T12:41:17.000Z
SPACECRAFT_ORIENTATION = (0.0,1.0,0.0)
^MEX_ORIENTATION_DESC = "MEX_ORIENTATION_DESC.TXT"
SPACECRAFT_POINTING_MODE = ACROSSTRACK
^MEX_POINTING_DESC = "MEX_POINTING_DESC.TXT"
RIGHT_ASCENSION = -1e+32
DECLINATION = -1e+32
OFFSET_ANGLE = -0.6
SPACECRAFT_SOLAR_DISTANCE = 2.06773e+08
TARGET_NAME = MARS
/* CAMERA DATA ELEMENTS */
DETECTOR_TEMPERATURE = 19.1861
FOCAL_PLANE_TEMPERATURE = 9.6028
INST_CMPRS_NAME = "DISCRETE COSINE TRANSFORMATION (DCT)"
INST_CMPRS_RATIO = 5.6455
INST_CMPRS_QUALITY = 0
INST_CMPRS_QUANTZ_TBL_ID = 0
INSTRUMENT_TEMPERATURE = 11.234
LENS_TEMPERATURE = 9.8067
MACROPIXEL_SIZE = 1
MISSING_FRAMES = 0
PIXEL_SUBSAMPLING_FLAG = N
SIGNAL_CHAIN_ID = 0
/* RADIOMETRIC DATA ELEMENTS */
BANDWIDTH = 177.0
CENTER_FILTER_WAVELENGTH = 677.5
RADIANCE_OFFSET = 0.538364
RADIANCE_SCALING_FACTOR = 0.00573898
REFLECTANCE_SCALING_FACTOR = 0.000130349
MEX:REFLECTANCE_OFFSET = 0.0122278
/* IMAGE OBJECT DEFINITIONS */
OBJECT = IMAGE
  INTERCHANGE_FORMAT = BINARY
  LINES = 56135
  LINE_SAMPLES = 8876
  SAMPLE_TYPE = UNSIGNED_INTEGER
  SAMPLE_BITS = 8
  BANDS = 1
  BAND_STORAGE_TYPE = BAND_SEQUENTIAL
  MAXIMUM = 358
  MEAN = 160.672
  MINIMUM = 0
  STANDARD_DEVIATION = 40.0234
END_OBJECT = IMAGE
/* MAP OBJECT DEFINITIONS */
OBJECT = IMAGE_MAP_PROJECTION
  ^DATA_SET_MAP_PROJECTION_CATALOG= "DSMAP.CAT"
  A_AXIS_RADIUS = 3396.0
  B_AXIS_RADIUS = 3396.0
  C_AXIS_RADIUS = 3396.0
  CENTER_LATITUDE = 0.0
  CENTER_LONGITUDE = 338.0
  COORDINATE_SYSTEM_NAME = PLANETOGRAPHIC
  COORDINATE_SYSTEM_TYPE = "BODY-FIXED ROTATING"
  EASTERNMOST_LONGITUDE = 339.383
  FIRST_STANDARD_PARALLEL = "N/A"
  LINE_FIRST_PIXEL = 1
  LINE_LAST_PIXEL = 56135
  LINE_PROJECTION_OFFSET = 34647.0
  MAP_PROJECTION_ROTATION = 0.0
  MAP_PROJECTION_TYPE = SINUSOIDAL
  MAP_RESOLUTION = 4741.71043093333
  MAP_SCALE = 0.0125
  MAXIMUM_LATITUDE = 7.3075
  MINIMUM_LATITUDE = -4.53199
  POSITIVE_LONGITUDE_DIRECTION = EAST
  REFERENCE_LATITUDE = "N/A"
  REFERENCE_LONGITUDE = "N/A"
  SAMPLE_FIRST_PIXEL = 1
  SAMPLE_LAST_PIXEL = 8876
  SAMPLE_PROJECTION_OFFSET = 1993.0
  SECOND_STANDARD_PARALLEL = "N/A"
  WESTERNMOST_LONGITUDE = 337.595
END_OBJECT = IMAGE_MAP_PROJECTION
/* The JPEG2000 image data file associated with this label. */
OBJECT = COMPRESSED_FILE
  FILE_NAME = "H1892_0000_ND3.JP2"
  RECORD_TYPE = UNDEFINED
  FILE_RECORDS = UNK
  ENCODING_TYPE = "JP2"
  INTERCHANGE_FORMAT = BINARY
  UNCOMPRESSED_FILE_NAME = "H1892_0000_ND3.IMG"
  REQUIRED_STORAGE_BYTES = "498289764"
  ^DESCRIPTION = "JP2INFO.TXT"
END_OBJECT = COMPRESSED_FILE
END
