PDS_VERSION_ID = PDS3
/* FILE DATA ELEMENTS */
RECORD_TYPE = STREAM
/* POINTERS TO DATA OBJECTS */
^COMPRESSED_FILE = "H1892_0001_SR3.JP2"
/* IDENTIFICATION DATA ELEMENTS */
DATA_SET_ID = "MEX-M-HRSC-5-REFDR-MAPPROJECTED-V3.0"
DATA_SET_NAME = "MARS EXPRESS HRSC MAP PROJECTED REFDR V3.0"
DETECTOR_ID = MEX_HRSC_SRC
EVENT_TYPE = "MARS-LOCAL-STEREO-Gl-Lc-La"
INSTRUMENT_HOST_ID = MEX
INSTRUMENT_HOST_NAME = "MARS EXPRESS"
INSTRUMENT_ID = HRSC
INSTRUMENT_NAME = "HIGH RESOLUTION STEREO CAMERA"
MISSION_NAME = "MARS EXPRESS"
MISSION_PHASE_NAME = MR_Phase_6
PROCESSING_LEVEL_ID = 3
PRODUCT_CREATION_TIME = 2016-03-09T13:44:56.000Z
PRODUCT_ID = "H1892_0001_SR3.JP2"
RELEASE_ID = 0024
REVISION_ID = 0000
/* QUALITY DATA ELEMENTS */
DATA_QUALITY_ID = 1
DATA_QUALITY_DESC = "Data calculated based on original SPICE kernels"
/* TIME DATA ELEMENTS */
SPACECRAFT_CLOCK_START_COUNT = "1/0068733126.57141"
SPACECRAFT_CLOCK_STOP_COUNT = "1/0068733411.00515"
IMAGE_TIME = 2005-07-06T12:35:07.155Z
START_TIME = 2005-07-06T12:35:06.897Z
STOP_TIME = 2005-07-06T12:35:07.413Z
/* ORBITAL DATA ELEMENTS */
ASCENDING_NODE_LONGITUDE = 188.67
MAXIMUM_RESOLUTION = 3.917
FOOTPRINT_POINT_LATITUDE = (2.52472,2.5279,2.53167,2.53399,2.53584 ,2.53822,2.54001,2.54186,2.54358, 2.54536,2.54748,2.55046,2.5531,2.55588, 2.55853,2.56058,2.56356,2.56567,2.56839 ,2.57169,2.57421,2.57599,2.5797,2.58215 ,2.58393,2.58625,2.58843,2.58976, 2.58978,2.5898,2.58982,2.58983,2.58985, 2.58987,2.58988,2.5899,2.58992,2.58994, 2.58995,2.58997,2.58999,2.59001,2.59001 ,2.59003,2.59005,2.59007,2.59008,2.5901 ,2.59012,2.59013,2.59015,2.58891, 2.58686,2.58408,2.58104,2.57925,2.57555 ,2.57144,2.5682,2.56536,2.56304,2.5594, 2.55503,2.55159,2.54894,2.54696,2.54451 ,2.5416,2.53981,2.53677,2.53359,2.5318, 2.52949,2.52644,2.52353,2.52351,2.5235, 2.52348,2.52347,2.52345,2.52344,2.52342 ,2.52341,2.52339,2.52335,2.52334, 2.52332,2.52331,2.52329,2.52328,2.52326 ,2.52325,2.52323,2.52322,2.5232,2.52319 ,2.52317,2.52316,2.52314,2.52472)
FOOTPRINT_POINT_LONGITUDE = (338.404,338.404,338.404,338.404, 338.404,338.404,338.404,338.404,338.404 ,338.404,338.404,338.404,338.404, 338.404,338.404,338.404,338.404,338.404 ,338.404,338.404,338.404,338.404, 338.404,338.404,338.404,338.404,338.404 ,338.405,338.408,338.41,338.413,338.416 ,338.418,338.421,338.424,338.426, 338.429,338.432,338.434,338.437,338.44, 338.442,338.447,338.449,338.452,338.455 ,338.457,338.46,338.463,338.465,338.468 ,338.471,338.471,338.471,338.471, 338.471,338.471,338.471,338.471,338.471 ,338.471,338.471,338.471,338.471, 338.471,338.471,338.471,338.471,338.471 ,338.471,338.471,338.471,338.471, 338.471,338.471,338.468,338.465,338.463 ,338.46,338.457,338.455,338.452,338.449 ,338.447,338.442,338.44,338.437,338.434 ,338.432,338.429,338.426,338.424, 338.421,338.418,338.416,338.413,338.41, 338.408,338.405,338.404)
ORBIT_NUMBER = 1892
ORBITAL_ECCENTRICITY = 0.57
ORBITAL_INCLINATION = 86.58
ORBITAL_SEMIMAJOR_AXIS = 8602.98
PERIAPSIS_ALTITUDE = 308.5
PERIAPSIS_ARGUMENT_ANGLE = 26.44
PERIAPSIS_TIME = 2005-07-06T12:41:17.000Z
SPACECRAFT_ORIENTATION = (0.0,1.0,0.0)
^MEX_ORIENTATION_DESC = "MEX_ORIENTATION_DESC.TXT"
SPACECRAFT_POINTING_MODE = ACROSSTRACK
^MEX_POINTING_DESC = "MEX_POINTING_DESC.TXT"
RIGHT_ASCENSION = -1e+32
DECLINATION = -1e+32
OFFSET_ANGLE = -0.6
SPACECRAFT_SOLAR_DISTANCE = 2.06773e+08
TARGET_NAME = MARS
/* CAMERA DATA ELEMENTS */
BUFFER_MODE_ID = BUFFER_8
EXPOSURE_DURATION = 516.096
INST_CMPRS_NAME = NONE
INST_CMPRS_RATIO = 1.0
INST_CMPRS_QUALITY = -2147483648
INST_CMPRS_QUANTZ_TBL_ID = -2147483648
INSTRUMENT_TEMPERATURE = 11.2121
MISSING_FRAMES = 0
START_BIT = 0
/* RADIOMETRIC DATA ELEMENTS */
BANDWIDTH = 250.0
CENTER_FILTER_WAVELENGTH = 600.0
RADIANCE_OFFSET = -9.99e+31
RADIANCE_SCALING_FACTOR = -9.99e+31
REFLECTANCE_SCALING_FACTOR = -9.99e+31
MEX:REFLECTANCE_OFFSET = -9.99e+31
/* IMAGE OBJECT DEFINITIONS */
OBJECT = IMAGE
  INTERCHANGE_FORMAT = BINARY
  LINES = 835
  LINE_SAMPLES = 847
  SAMPLE_TYPE = UNSIGNED_INTEGER
  SAMPLE_BITS = 8
  BANDS = 1
  BAND_STORAGE_TYPE = BAND_SEQUENTIAL
  MAXIMUM = 15338
  MEAN = 13208.6
  MINIMUM = 11657
  STANDARD_DEVIATION = 303.903
END_OBJECT = IMAGE
/* MAP OBJECT DEFINITIONS */
OBJECT = IMAGE_MAP_PROJECTION
  ^DATA_SET_MAP_PROJECTION_CATALOG= "DSMAP.CAT"
  A_AXIS_RADIUS = 3396.19
  B_AXIS_RADIUS = 3396.19
  C_AXIS_RADIUS = 3396.19
  CENTER_LATITUDE = 0.0
  CENTER_LONGITUDE = 338.0
  COORDINATE_SYSTEM_NAME = PLANETOGRAPHIC
  COORDINATE_SYSTEM_TYPE = "BODY-FIXED ROTATING"
  EASTERNMOST_LONGITUDE = 338.471
  FIRST_STANDARD_PARALLEL = "N/A"
  LINE_FIRST_PIXEL = 1
  LINE_LAST_PIXEL = 835
  LINE_PROJECTION_OFFSET = 30725.0
  MAP_PROJECTION_ROTATION = 0.0
  MAP_PROJECTION_TYPE = SINUSOIDAL
  MAP_RESOLUTION = 11854.9393024378
  MAP_SCALE = 0.005
  MAXIMUM_LATITUDE = 2.59015
  MINIMUM_LATITUDE = 2.52314
  POSITIVE_LONGITUDE_DIRECTION = EAST
  REFERENCE_LATITUDE = "N/A"
  REFERENCE_LONGITUDE = "N/A"
  SAMPLE_FIRST_PIXEL = 1
  SAMPLE_LAST_PIXEL = 847
  SAMPLE_PROJECTION_OFFSET = -4754.0
  SECOND_STANDARD_PARALLEL = "N/A"
  WESTERNMOST_LONGITUDE = 338.404
END_OBJECT = IMAGE_MAP_PROJECTION
/* The JPEG2000 image data file associated with this label. */
OBJECT = COMPRESSED_FILE
  FILE_NAME = "H1892_0001_SR3.JP2"
  RECORD_TYPE = UNDEFINED
  FILE_RECORDS = UNK
  ENCODING_TYPE = "JP2"
  INTERCHANGE_FORMAT = BINARY
  UNCOMPRESSED_FILE_NAME = "H1892_0001_SR3.IMG"
  REQUIRED_STORAGE_BYTES = "725032"
  ^DESCRIPTION = "JP2INFO.TXT"
END_OBJECT = COMPRESSED_FILE
END
