PDS_VERSION_ID = PDS3
/* FILE DATA ELEMENTS */
RECORD_TYPE = STREAM
/* POINTERS TO DATA OBJECTS */
^COMPRESSED_FILE = "H1892_0002_SR3.JP2"
/* IDENTIFICATION DATA ELEMENTS */
DATA_SET_ID = "MEX-M-HRSC-5-REFDR-MAPPROJECTED-V3.0"
DATA_SET_NAME = "MARS EXPRESS HRSC MAP PROJECTED REFDR V3.0"
DETECTOR_ID = MEX_HRSC_SRC
EVENT_TYPE = "MARS-LOCAL-STEREO-Gl-Lc-La"
INSTRUMENT_HOST_ID = MEX
INSTRUMENT_HOST_NAME = "MARS EXPRESS"
INSTRUMENT_ID = HRSC
INSTRUMENT_NAME = "HIGH RESOLUTION STEREO CAMERA"
MISSION_NAME = "MARS EXPRESS"
MISSION_PHASE_NAME = MR_Phase_6
PROCESSING_LEVEL_ID = 3
PRODUCT_CREATION_TIME = 2016-03-09T13:44:56.000Z
PRODUCT_ID = "H1892_0002_SR3.JP2"
RELEASE_ID = 0024
REVISION_ID = 0000
/* QUALITY DATA ELEMENTS */
DATA_QUALITY_ID = 1
DATA_QUALITY_DESC = "Data calculated based on original SPICE kernels"
/* TIME DATA ELEMENTS */
SPACECRAFT_CLOCK_START_COUNT = "1/0068733126.57141"
SPACECRAFT_CLOCK_STOP_COUNT = "1/0068733411.00515"
IMAGE_TIME = 2005-07-06T12:35:07.700Z
START_TIME = 2005-07-06T12:35:07.698Z
STOP_TIME = 2005-07-06T12:35:07.703Z
/* ORBITAL DATA ELEMENTS */
ASCENDING_NODE_LONGITUDE = 188.67
MAXIMUM_RESOLUTION = 3.913
FOOTPRINT_POINT_LATITUDE = (2.56018,2.56209,2.56487,2.56785, 2.57003,2.57353,2.57531,2.57717,2.58021 ,2.58378,2.58596,2.5888,2.59263,2.59667 ,2.60017,2.60268,2.6048,2.60757,2.60955 ,2.61352,2.61643,2.61828,2.62165, 2.62344,2.62345,2.62347,2.62349,2.6235, 2.62352,2.62354,2.62356,2.62357,2.62359 ,2.62361,2.62363,2.62364,2.62366, 2.62368,2.62369,2.62368,2.6237,2.62372, 2.62373,2.62375,2.62377,2.62379,2.6238, 2.62382,2.62384,2.62047,2.61644,2.61373 ,2.61095,2.60917,2.60699,2.60428, 2.60256,2.60071,2.59806,2.59549,2.5937, 2.59066,2.58755,2.58543,2.58266,2.58021 ,2.57823,2.5738,2.57062,2.56851,2.5658, 2.56328,2.56037,2.55839,2.55725,2.55724 ,2.55722,2.55721,2.55719,2.55718, 2.55716,2.55715,2.55713,2.55712,2.55708 ,2.55707,2.55705,2.55704,2.55702, 2.55701,2.55699,2.55698,2.55696,2.55695 ,2.55693,2.55692,2.5569,2.55689,2.55687 ,2.56018)
FOOTPRINT_POINT_LONGITUDE = (338.404,338.404,338.404,338.404, 338.404,338.404,338.404,338.404,338.404 ,338.404,338.404,338.404,338.404, 338.404,338.404,338.404,338.404,338.404 ,338.404,338.404,338.404,338.404, 338.404,338.404,338.406,338.409,338.412 ,338.414,338.417,338.419,338.422, 338.425,338.427,338.43,338.433,338.435, 338.438,338.441,338.443,338.446,338.448 ,338.451,338.454,338.456,338.459, 338.462,338.464,338.467,338.47,338.471, 338.471,338.471,338.471,338.471,338.471 ,338.471,338.471,338.471,338.471, 338.471,338.471,338.471,338.471,338.471 ,338.471,338.471,338.471,338.471, 338.471,338.471,338.471,338.471,338.471 ,338.471,338.468,338.466,338.463,338.46 ,338.458,338.455,338.452,338.45,338.447 ,338.445,338.442,338.439,338.436, 338.434,338.431,338.428,338.426,338.423 ,338.42,338.418,338.415,338.412,338.41, 338.407,338.404,338.404)
ORBIT_NUMBER = 1892
ORBITAL_ECCENTRICITY = 0.57
ORBITAL_INCLINATION = 86.58
ORBITAL_SEMIMAJOR_AXIS = 8602.98
PERIAPSIS_ALTITUDE = 308.5
PERIAPSIS_ARGUMENT_ANGLE = 26.44
PERIAPSIS_TIME = 2005-07-06T12:41:17.000Z
SPACECRAFT_ORIENTATION = (0.0,1.0,0.0)
^MEX_ORIENTATION_DESC = "MEX_ORIENTATION_DESC.TXT"
SPACECRAFT_POINTING_MODE = ACROSSTRACK
^MEX_POINTING_DESC = "MEX_POINTING_DESC.TXT"
RIGHT_ASCENSION = -1e+32
DECLINATION = -1e+32
OFFSET_ANGLE = -0.6
SPACECRAFT_SOLAR_DISTANCE = 2.06773e+08
TARGET_NAME = MARS
/* CAMERA DATA ELEMENTS */
BUFFER_MODE_ID = BUFFER_8
EXPOSURE_DURATION = 5.04
INST_CMPRS_NAME = NONE
INST_CMPRS_RATIO = 1.0
INST_CMPRS_QUALITY = -2147483648
INST_CMPRS_QUANTZ_TBL_ID = -2147483648
INSTRUMENT_TEMPERATURE = 11.2121
MISSING_FRAMES = 0
START_BIT = 0
/* RADIOMETRIC DATA ELEMENTS */
BANDWIDTH = 250.0
CENTER_FILTER_WAVELENGTH = 600.0
RADIANCE_OFFSET = -9.99e+31
RADIANCE_SCALING_FACTOR = -9.99e+31
REFLECTANCE_SCALING_FACTOR = -9.99e+31
MEX:REFLECTANCE_OFFSET = -9.99e+31
/* IMAGE OBJECT DEFINITIONS */
OBJECT = IMAGE
  INTERCHANGE_FORMAT = BINARY
  LINES = 834
  LINE_SAMPLES = 846
  SAMPLE_TYPE = UNSIGNED_INTEGER
  SAMPLE_BITS = 8
  BANDS = 1
  BAND_STORAGE_TYPE = BAND_SEQUENTIAL
  MAXIMUM = 1442
  MEAN = 1211.22
  MINIMUM = 959
  STANDARD_DEVIATION = 50.1913
END_OBJECT = IMAGE
/* MAP OBJECT DEFINITIONS */
OBJECT = IMAGE_MAP_PROJECTION
  ^DATA_SET_MAP_PROJECTION_CATALOG= "DSMAP.CAT"
  A_AXIS_RADIUS = 3396.19
  B_AXIS_RADIUS = 3396.19
  C_AXIS_RADIUS = 3396.19
  CENTER_LATITUDE = 0.0
  CENTER_LONGITUDE = 338.0
  COORDINATE_SYSTEM_NAME = PLANETOGRAPHIC
  COORDINATE_SYSTEM_TYPE = "BODY-FIXED ROTATING"
  EASTERNMOST_LONGITUDE = 338.471
  FIRST_STANDARD_PARALLEL = "N/A"
  LINE_FIRST_PIXEL = 1
  LINE_LAST_PIXEL = 834
  LINE_PROJECTION_OFFSET = 31124.0
  MAP_PROJECTION_ROTATION = 0.0
  MAP_PROJECTION_TYPE = SINUSOIDAL
  MAP_RESOLUTION = 11854.9393024378
  MAP_SCALE = 0.005
  MAXIMUM_LATITUDE = 2.62384
  MINIMUM_LATITUDE = 2.55687
  POSITIVE_LONGITUDE_DIRECTION = EAST
  REFERENCE_LATITUDE = "N/A"
  REFERENCE_LONGITUDE = "N/A"
  SAMPLE_FIRST_PIXEL = 1
  SAMPLE_LAST_PIXEL = 846
  SAMPLE_PROJECTION_OFFSET = -4751.0
  SECOND_STANDARD_PARALLEL = "N/A"
  WESTERNMOST_LONGITUDE = 338.404
END_OBJECT = IMAGE_MAP_PROJECTION
/* The JPEG2000 image data file associated with this label. */
OBJECT = COMPRESSED_FILE
  FILE_NAME = "H1892_0002_SR3.JP2"
  RECORD_TYPE = UNDEFINED
  FILE_RECORDS = UNK
  ENCODING_TYPE = "JP2"
  INTERCHANGE_FORMAT = BINARY
  UNCOMPRESSED_FILE_NAME = "H1892_0002_SR3.IMG"
  REQUIRED_STORAGE_BYTES = "723330"
  ^DESCRIPTION = "JP2INFO.TXT"
END_OBJECT = COMPRESSED_FILE
END
