PDS_VERSION_ID = PDS3
/* FILE DATA ELEMENTS */
RECORD_TYPE = STREAM
/* POINTERS TO DATA OBJECTS */
^COMPRESSED_FILE = "H1892_0007_SR3.JP2"
/* IDENTIFICATION DATA ELEMENTS */
DATA_SET_ID = "MEX-M-HRSC-5-REFDR-MAPPROJECTED-V3.0"
DATA_SET_NAME = "MARS EXPRESS HRSC MAP PROJECTED REFDR V3.0"
DETECTOR_ID = MEX_HRSC_SRC
EVENT_TYPE = "MARS-LOCAL-STEREO-Gl-Lc-La"
INSTRUMENT_HOST_ID = MEX
INSTRUMENT_HOST_NAME = "MARS EXPRESS"
INSTRUMENT_ID = HRSC
INSTRUMENT_NAME = "HIGH RESOLUTION STEREO CAMERA"
MISSION_NAME = "MARS EXPRESS"
MISSION_PHASE_NAME = MR_Phase_6
PROCESSING_LEVEL_ID = 3
PRODUCT_CREATION_TIME = 2016-03-09T13:44:56.000Z
PRODUCT_ID = "H1892_0007_SR3.JP2"
RELEASE_ID = 0024
REVISION_ID = 0000
/* QUALITY DATA ELEMENTS */
DATA_QUALITY_ID = 1
DATA_QUALITY_DESC = "Data calculated based on original SPICE kernels"
/* TIME DATA ELEMENTS */
SPACECRAFT_CLOCK_START_COUNT = "1/0068733126.57141"
SPACECRAFT_CLOCK_STOP_COUNT = "1/0068733411.00515"
IMAGE_TIME = 2005-07-06T12:35:10.425Z
START_TIME = 2005-07-06T12:35:10.423Z
STOP_TIME = 2005-07-06T12:35:10.428Z
/* ORBITAL DATA ELEMENTS */
ASCENDING_NODE_LONGITUDE = 188.67
MAXIMUM_RESOLUTION = 3.898
FOOTPRINT_POINT_LATITUDE = (2.72715,2.72959,2.73354,2.73769, 2.74039,2.74315,2.74579,2.74921,2.7531, 2.75639,2.75849,2.76172,2.76409,2.76587 ,2.7689,2.77087,2.77456,2.77844,2.7818, 2.78443,2.7874,2.79016,2.79194,2.79196, 2.79197,2.79199,2.79201,2.79202,2.79204 ,2.79206,2.79208,2.79209,2.79211, 2.79213,2.79214,2.79216,2.79218,2.79219 ,2.79219,2.79221,2.79223,2.79224, 2.79226,2.79228,2.7923,2.79231,2.79233, 2.79115,2.78911,2.78589,2.78411,2.7818, 2.77831,2.77515,2.77226,2.77048,2.76857 ,2.76567,2.76291,2.76053,2.75783, 2.75553,2.75388,2.75224,2.74974,2.74743 ,2.74434,2.74236,2.73986,2.73657, 2.73439,2.73149,2.72978,2.72754,2.72602 ,2.726,2.72599,2.72597,2.72596,2.72595, 2.72593,2.72592,2.7259,2.72589,2.72585, 2.72584,2.72582,2.72581,2.72579,2.72578 ,2.72576,2.72575,2.72573,2.72572,2.7257 ,2.72569,2.72568,2.72566,2.72565, 2.72715)
FOOTPRINT_POINT_LONGITUDE = (338.403,338.403,338.403,338.403, 338.403,338.403,338.403,338.403,338.403 ,338.403,338.403,338.403,338.403, 338.403,338.403,338.403,338.403,338.403 ,338.403,338.403,338.403,338.403, 338.403,338.405,338.408,338.411,338.413 ,338.416,338.419,338.421,338.424, 338.427,338.429,338.432,338.435,338.437 ,338.44,338.443,338.447,338.449,338.452 ,338.455,338.457,338.46,338.463,338.465 ,338.468,338.47,338.47,338.47,338.47, 338.47,338.47,338.47,338.47,338.47, 338.47,338.47,338.47,338.47,338.47, 338.47,338.47,338.47,338.47,338.47, 338.47,338.47,338.47,338.47,338.47, 338.47,338.47,338.47,338.468,338.465, 338.463,338.46,338.457,338.455,338.452, 338.449,338.447,338.444,338.441,338.439 ,338.436,338.433,338.431,338.428, 338.425,338.423,338.42,338.417,338.415, 338.412,338.409,338.407,338.404, 338.403)
ORBIT_NUMBER = 1892
ORBITAL_ECCENTRICITY = 0.57
ORBITAL_INCLINATION = 86.58
ORBITAL_SEMIMAJOR_AXIS = 8602.98
PERIAPSIS_ALTITUDE = 308.5
PERIAPSIS_ARGUMENT_ANGLE = 26.44
PERIAPSIS_TIME = 2005-07-06T12:41:17.000Z
SPACECRAFT_ORIENTATION = (0.0,1.0,0.0)
^MEX_ORIENTATION_DESC = "MEX_ORIENTATION_DESC.TXT"
SPACECRAFT_POINTING_MODE = ACROSSTRACK
^MEX_POINTING_DESC = "MEX_POINTING_DESC.TXT"
RIGHT_ASCENSION = -1e+32
DECLINATION = -1e+32
OFFSET_ANGLE = -0.6
SPACECRAFT_SOLAR_DISTANCE = 2.06773e+08
TARGET_NAME = MARS
/* CAMERA DATA ELEMENTS */
BUFFER_MODE_ID = BUFFER_8
EXPOSURE_DURATION = 5.04
INST_CMPRS_NAME = NONE
INST_CMPRS_RATIO = 1.0
INST_CMPRS_QUALITY = -2147483648
INST_CMPRS_QUANTZ_TBL_ID = -2147483648
INSTRUMENT_TEMPERATURE = 11.2121
MISSING_FRAMES = 0
START_BIT = 0
/* RADIOMETRIC DATA ELEMENTS */
BANDWIDTH = 250.0
CENTER_FILTER_WAVELENGTH = 600.0
RADIANCE_OFFSET = -9.99e+31
RADIANCE_SCALING_FACTOR = -9.99e+31
REFLECTANCE_SCALING_FACTOR = -9.99e+31
MEX:REFLECTANCE_OFFSET = -9.99e+31
/* IMAGE OBJECT DEFINITIONS */
OBJECT = IMAGE
  INTERCHANGE_FORMAT = BINARY
  LINES = 831
  LINE_SAMPLES = 843
  SAMPLE_TYPE = UNSIGNED_INTEGER
  SAMPLE_BITS = 8
  BANDS = 1
  BAND_STORAGE_TYPE = BAND_SEQUENTIAL
  MAXIMUM = 1418
  MEAN = 1185.23
  MINIMUM = 952
  STANDARD_DEVIATION = 48.8027
END_OBJECT = IMAGE
/* MAP OBJECT DEFINITIONS */
OBJECT = IMAGE_MAP_PROJECTION
  ^DATA_SET_MAP_PROJECTION_CATALOG= "DSMAP.CAT"
  A_AXIS_RADIUS = 3396.19
  B_AXIS_RADIUS = 3396.19
  C_AXIS_RADIUS = 3396.19
  CENTER_LATITUDE = 0.0
  CENTER_LONGITUDE = 338.0
  COORDINATE_SYSTEM_NAME = PLANETOGRAPHIC
  COORDINATE_SYSTEM_TYPE = "BODY-FIXED ROTATING"
  EASTERNMOST_LONGITUDE = 338.47
  FIRST_STANDARD_PARALLEL = "N/A"
  LINE_FIRST_PIXEL = 1
  LINE_LAST_PIXEL = 831
  LINE_PROJECTION_OFFSET = 33122.0
  MAP_PROJECTION_ROTATION = 0.0
  MAP_PROJECTION_TYPE = SINUSOIDAL
  MAP_RESOLUTION = 11854.9393024378
  MAP_SCALE = 0.005
  MAXIMUM_LATITUDE = 2.79233
  MINIMUM_LATITUDE = 2.72565
  POSITIVE_LONGITUDE_DIRECTION = EAST
  REFERENCE_LATITUDE = "N/A"
  REFERENCE_LONGITUDE = "N/A"
  SAMPLE_FIRST_PIXEL = 1
  SAMPLE_LAST_PIXEL = 843
  SAMPLE_PROJECTION_OFFSET = -4742.0
  SECOND_STANDARD_PARALLEL = "N/A"
  WESTERNMOST_LONGITUDE = 338.403
END_OBJECT = IMAGE_MAP_PROJECTION
/* The JPEG2000 image data file associated with this label. */
OBJECT = COMPRESSED_FILE
  FILE_NAME = "H1892_0007_SR3.JP2"
  RECORD_TYPE = UNDEFINED
  FILE_RECORDS = UNK
  ENCODING_TYPE = "JP2"
  INTERCHANGE_FORMAT = BINARY
  UNCOMPRESSED_FILE_NAME = "H1892_0007_SR3.IMG"
  REQUIRED_STORAGE_BYTES = "718236"
  ^DESCRIPTION = "JP2INFO.TXT"
END_OBJECT = COMPRESSED_FILE
END
