PDS_VERSION_ID = PDS3
/* FILE DATA ELEMENTS */
RECORD_TYPE = STREAM
/* POINTERS TO DATA OBJECTS */
^COMPRESSED_FILE = "H1893_0000_P13.JP2"
/* IDENTIFICATION DATA ELEMENTS */
DATA_SET_ID = "MEX-M-HRSC-5-REFDR-MAPPROJECTED-V3.0"
DATA_SET_NAME = "MARS EXPRESS HRSC MAP PROJECTED REFDR V3.0"
DETECTOR_ID = MEX_HRSC_P1
EVENT_TYPE = "MARS-LOCAL-STEREO-Vo-Ot"
INSTRUMENT_HOST_ID = MEX
INSTRUMENT_HOST_NAME = "MARS EXPRESS"
INSTRUMENT_ID = HRSC
INSTRUMENT_NAME = "HIGH RESOLUTION STEREO CAMERA"
MISSION_NAME = "MARS EXPRESS"
MISSION_PHASE_NAME = MR_Phase_6
PROCESSING_LEVEL_ID = 3
PRODUCT_CREATION_TIME = 2016-03-09T13:44:56.000Z
PRODUCT_ID = "H1893_0000_P13.JP2"
RELEASE_ID = 0024
REVISION_ID = 0000
/* QUALITY DATA ELEMENTS */
DATA_QUALITY_ID = 1
DATA_QUALITY_DESC = "Data calculated based on original SPICE kernels"
/* TIME DATA ELEMENTS */
SPACECRAFT_CLOCK_START_COUNT = "1/0068757036.55950"
SPACECRAFT_CLOCK_STOP_COUNT = "1/0068757456.29737"
START_TIME = 2005-07-06T19:13:09.908Z
STOP_TIME = 2005-07-06T19:14:41.874Z
/* ORBITAL DATA ELEMENTS */
ASCENDING_NODE_LONGITUDE = 188.65
MAXIMUM_RESOLUTION = 47.8
FOOTPRINT_POINT_LATITUDE = (-18.1319,-18.1337,-18.136,-18.138, -18.1397,-18.1416,-18.1434,-18.1446, -18.1464,-18.1481,-18.1498,-18.1509, -18.1521,-18.1535,-17.9567,-17.8416, -17.6687,-17.5531,-17.4387,-17.2678, -17.1538,-17.0395,-16.9262,-16.8138, -16.6449,-16.5321,-16.42,-16.2531, -16.1418,-16.0305,-15.9189,-15.7537, -15.6438,-15.5338,-15.3689,-15.2536, -15.1449,-15.0362,-14.9274,-14.8186, -14.7115,-14.5502,-14.4428,-14.1754, -13.9103,-13.6982,-13.385,-13.1764, -13.0216,-12.7646,-12.6556,-12.6537, -12.6515,-12.6504,-12.6492,-12.6482, -12.6473,-12.6464,-12.6459,-12.6458, -12.6462,-12.8515,-13.108,-13.264, -13.4722,-13.6806,-13.839,-14.0501, -14.2086,-14.4221,-14.6361,-14.7966, -14.9043,-15.0132,-15.1217,-15.2301, -15.3447,-15.4541,-15.564,-15.7286, -15.8932,-16.0041,-16.1154,-16.2265, -16.3374,-16.4485,-16.5612,-16.6737, -16.8423,-16.9546,-17.0684,-17.1822, -17.3529,-17.4666,-17.5817,-17.6969, -17.8124,-17.9274,-18.0435,-18.1319)
FOOTPRINT_POINT_LONGITUDE = (240.812,240.641,240.422,240.227, 240.057,239.862,239.668,239.546,239.351 ,239.157,238.962,238.84,238.694,238.523 ,238.482,238.486,238.491,238.495, 238.498,238.503,238.506,238.51,238.513, 238.516,238.521,238.524,238.528,238.532 ,238.535,238.539,238.542,238.547,238.55 ,238.553,238.557,238.561,238.564, 238.567,238.57,238.573,238.576,238.58, 238.583,238.59,238.597,238.603,238.611, 238.616,238.619,238.625,238.788,238.99, 239.251,239.412,239.612,239.834,240.076 ,240.237,240.398,240.54,240.709,240.718 ,240.729,240.736,240.745,240.755, 240.762,240.772,240.779,240.789,240.799 ,240.807,240.812,240.817,240.822, 240.827,240.833,240.838,240.843,240.851 ,240.859,240.865,240.87,240.876,240.881 ,240.886,240.892,240.898,240.906, 240.912,240.917,240.923,240.932,240.937 ,240.943,240.949,240.955,240.961, 240.967,240.812)
ORBIT_NUMBER = 1893
ORBITAL_ECCENTRICITY = 0.571
ORBITAL_INCLINATION = 86.57
ORBITAL_SEMIMAJOR_AXIS = 8617.36
PERIAPSIS_ALTITUDE = 307.81
PERIAPSIS_ARGUMENT_ANGLE = 26.28
PERIAPSIS_TIME = 2005-07-06T19:24:28.000Z
SPACECRAFT_ORIENTATION = (0.0,1.0,0.0)
^MEX_ORIENTATION_DESC = "MEX_ORIENTATION_DESC.TXT"
SPACECRAFT_POINTING_MODE = NADIR
^MEX_POINTING_DESC = "MEX_POINTING_DESC.TXT"
RIGHT_ASCENSION = -1e+32
DECLINATION = -1e+32
OFFSET_ANGLE = -1e+32
SPACECRAFT_SOLAR_DISTANCE = 2.06766e+08
TARGET_NAME = MARS
/* CAMERA DATA ELEMENTS */
DETECTOR_TEMPERATURE = 0.0
FOCAL_PLANE_TEMPERATURE = 0.0
INST_CMPRS_NAME = "DISCRETE COSINE TRANSFORMATION (DCT)"
INST_CMPRS_RATIO = 6.04208
INST_CMPRS_QUALITY = 0
INST_CMPRS_QUANTZ_TBL_ID = 0
INSTRUMENT_TEMPERATURE = 0.0
LENS_TEMPERATURE = 0.0
MACROPIXEL_SIZE = 2
MISSING_FRAMES = 1
PIXEL_SUBSAMPLING_FLAG = N
SIGNAL_CHAIN_ID = 3
/* RADIOMETRIC DATA ELEMENTS */
BANDWIDTH = 174.0
CENTER_FILTER_WAVELENGTH = 675.0
RADIANCE_OFFSET = 2.51159
RADIANCE_SCALING_FACTOR = 0.00962719
REFLECTANCE_SCALING_FACTOR = 0.000221384
MEX:REFLECTANCE_OFFSET = 0.0577556
/* IMAGE OBJECT DEFINITIONS */
OBJECT = IMAGE
  INTERCHANGE_FORMAT = BINARY
  LINES = 9178
  LINE_SAMPLES = 3131
  SAMPLE_TYPE = UNSIGNED_INTEGER
  SAMPLE_BITS = 8
  BANDS = 1
  BAND_STORAGE_TYPE = BAND_SEQUENTIAL
  MAXIMUM = 285
  MEAN = 193.93
  MINIMUM = 126
  STANDARD_DEVIATION = 18.4874
END_OBJECT = IMAGE
/* MAP OBJECT DEFINITIONS */
OBJECT = IMAGE_MAP_PROJECTION
  ^DATA_SET_MAP_PROJECTION_CATALOG= "DSMAP.CAT"
  A_AXIS_RADIUS = 3396.0
  B_AXIS_RADIUS = 3396.0
  C_AXIS_RADIUS = 3396.0
  CENTER_LATITUDE = 0.0
  CENTER_LONGITUDE = 240.0
  COORDINATE_SYSTEM_NAME = PLANETOGRAPHIC
  COORDINATE_SYSTEM_TYPE = "BODY-FIXED ROTATING"
  EASTERNMOST_LONGITUDE = 240.967
  FIRST_STANDARD_PARALLEL = "N/A"
  LINE_FIRST_PIXEL = 1
  LINE_LAST_PIXEL = 9178
  LINE_PROJECTION_OFFSET = -12351.25
  MAP_PROJECTION_ROTATION = 0.0
  MAP_PROJECTION_TYPE = SINUSOIDAL
  MAP_RESOLUTION = 1185.42760773333
  MAP_SCALE = 0.05
  MAXIMUM_LATITUDE = -12.6458
  MINIMUM_LATITUDE = -18.1535
  POSITIVE_LONGITUDE_DIRECTION = EAST
  REFERENCE_LATITUDE = "N/A"
  REFERENCE_LONGITUDE = "N/A"
  SAMPLE_FIRST_PIXEL = 1
  SAMPLE_LAST_PIXEL = 3131
  SAMPLE_PROJECTION_OFFSET = 1879.75
  SECOND_STANDARD_PARALLEL = "N/A"
  WESTERNMOST_LONGITUDE = 238.482
END_OBJECT = IMAGE_MAP_PROJECTION
/* The JPEG2000 image data file associated with this label. */
OBJECT = COMPRESSED_FILE
  FILE_NAME = "H1893_0000_P13.JP2"
  RECORD_TYPE = UNDEFINED
  FILE_RECORDS = UNK
  ENCODING_TYPE = "JP2"
  INTERCHANGE_FORMAT = BINARY
  UNCOMPRESSED_FILE_NAME = "H1893_0000_P13.IMG"
  REQUIRED_STORAGE_BYTES = "28761366"
  ^DESCRIPTION = "JP2INFO.TXT"
END_OBJECT = COMPRESSED_FILE
END
