PDS_VERSION_ID = PDS3
/* FILE DATA ELEMENTS */
RECORD_TYPE = STREAM
/* POINTERS TO DATA OBJECTS */
^COMPRESSED_FILE = "H1893_0000_P23.JP2"
/* IDENTIFICATION DATA ELEMENTS */
DATA_SET_ID = "MEX-M-HRSC-5-REFDR-MAPPROJECTED-V3.0"
DATA_SET_NAME = "MARS EXPRESS HRSC MAP PROJECTED REFDR V3.0"
DETECTOR_ID = MEX_HRSC_P2
EVENT_TYPE = "MARS-LOCAL-STEREO-Vo-Ot"
INSTRUMENT_HOST_ID = MEX
INSTRUMENT_HOST_NAME = "MARS EXPRESS"
INSTRUMENT_ID = HRSC
INSTRUMENT_NAME = "HIGH RESOLUTION STEREO CAMERA"
MISSION_NAME = "MARS EXPRESS"
MISSION_PHASE_NAME = MR_Phase_6
PROCESSING_LEVEL_ID = 3
PRODUCT_CREATION_TIME = 2016-03-09T13:44:56.000Z
PRODUCT_ID = "H1893_0000_P23.JP2"
RELEASE_ID = 0024
REVISION_ID = 0000
/* QUALITY DATA ELEMENTS */
DATA_QUALITY_ID = 1
DATA_QUALITY_DESC = "Data calculated based on original SPICE kernels"
/* TIME DATA ELEMENTS */
SPACECRAFT_CLOCK_START_COUNT = "1/0068757036.55950"
SPACECRAFT_CLOCK_STOP_COUNT = "1/0068757456.29737"
START_TIME = 2005-07-06T19:11:21.718Z
STOP_TIME = 2005-07-06T19:14:41.874Z
/* ORBITAL DATA ELEMENTS */
ASCENDING_NODE_LONGITUDE = 188.65
MAXIMUM_RESOLUTION = 47.4
FOOTPRINT_POINT_LATITUDE = (-18.1369,-18.1416,-18.1458,-18.1512, -18.1542,-18.1571,-18.1597,-18.1606, -18.161,-18.161,-18.0701,-17.8488, -17.6289,-17.4094,-17.1915,-16.8663, -16.543,-16.2222,-16.0101,-15.7994, -15.4847,-15.2759,-15.0685,-14.8619, -14.657,-14.4524,-14.2496,-14.0468, -13.8456,-13.644,-13.4445,-13.2442, -13.0459,-12.8474,-12.6509,-12.4541, -12.1622,-11.9673,-11.7749,-11.5814, -11.3906,-11.2026,-10.9255,-10.7402, -10.4626,-10.1869,-9.81801,-9.54134, -9.26647,-8.90383,-8.36213,-8.24925, -8.24801,-8.24524,-8.24076,-8.23772, -8.23124,-8.22427,-8.76622,-9.12926, -9.3138,-9.59015,-9.77536,-10.1437, -10.3295,-10.6956,-10.88,-11.1546, -11.3409,-11.5266,-11.7186,-11.9114, -12.1062,-12.3986,-12.5956,-12.7915, -12.9901,-13.1884,-13.3884,-13.5885, -13.7895,-13.9915,-14.1949,-14.3983, -14.6034,-14.8088,-15.0163,-15.2233, -15.4329,-15.7479,-15.9588,-16.1716, -16.4919,-16.7066,-16.9232,-17.2496, -17.5777,-17.7977,-18.0194,-18.1369)
FOOTPRINT_POINT_LONGITUDE = (241.0,240.771,240.542,240.198,239.969, 239.683,239.311,239.082,238.853,238.623 ,238.256,238.266,238.276,238.286, 238.295,238.309,238.322,238.335,238.344 ,238.353,238.366,238.374,238.382, 238.391,238.399,238.407,238.415,238.422 ,238.43,238.437,238.445,238.451,238.458 ,238.465,238.471,238.478,238.487, 238.494,238.5,238.506,238.512,238.519, 238.531,238.538,238.548,238.558,238.569 ,238.577,238.584,238.594,238.606, 238.922,239.196,239.431,239.764,239.979 ,240.313,240.636,240.658,240.673, 240.681,240.693,240.701,240.719,240.728 ,240.75,240.761,240.779,240.791,240.803 ,240.813,240.823,240.833,240.848, 240.858,240.869,240.879,240.89,240.901, 240.912,240.923,240.935,240.946,240.958 ,240.97,240.982,240.994,241.007,241.019 ,241.038,241.051,241.064,241.084, 241.097,241.111,241.131,241.152,241.166 ,241.181,241.0)
ORBIT_NUMBER = 1893
ORBITAL_ECCENTRICITY = 0.571
ORBITAL_INCLINATION = 86.57
ORBITAL_SEMIMAJOR_AXIS = 8617.36
PERIAPSIS_ALTITUDE = 307.81
PERIAPSIS_ARGUMENT_ANGLE = 26.28
PERIAPSIS_TIME = 2005-07-06T19:24:28.000Z
SPACECRAFT_ORIENTATION = (0.0,1.0,0.0)
^MEX_ORIENTATION_DESC = "MEX_ORIENTATION_DESC.TXT"
SPACECRAFT_POINTING_MODE = NADIR
^MEX_POINTING_DESC = "MEX_POINTING_DESC.TXT"
RIGHT_ASCENSION = -1e+32
DECLINATION = -1e+32
OFFSET_ANGLE = -1e+32
SPACECRAFT_SOLAR_DISTANCE = 2.06766e+08
TARGET_NAME = MARS
/* CAMERA DATA ELEMENTS */
DETECTOR_TEMPERATURE = 0.0
FOCAL_PLANE_TEMPERATURE = 0.0
INST_CMPRS_NAME = "DISCRETE COSINE TRANSFORMATION (DCT)"
INST_CMPRS_RATIO = 5.55485
INST_CMPRS_QUALITY = 0
INST_CMPRS_QUANTZ_TBL_ID = 0
INSTRUMENT_TEMPERATURE = 0.0
LENS_TEMPERATURE = 0.0
MACROPIXEL_SIZE = 2
MISSING_FRAMES = 0
PIXEL_SUBSAMPLING_FLAG = N
SIGNAL_CHAIN_ID = 3
/* RADIOMETRIC DATA ELEMENTS */
BANDWIDTH = 177.0
CENTER_FILTER_WAVELENGTH = 676.5
RADIANCE_OFFSET = 1.56882
RADIANCE_SCALING_FACTOR = 0.0148736
REFLECTANCE_SCALING_FACTOR = 0.000337157
MEX:REFLECTANCE_OFFSET = 0.0355624
/* IMAGE OBJECT DEFINITIONS */
OBJECT = IMAGE
  INTERCHANGE_FORMAT = BINARY
  LINES = 9178
  LINE_SAMPLES = 3131
  SAMPLE_TYPE = UNSIGNED_INTEGER
  SAMPLE_BITS = 8
  BANDS = 1
  BAND_STORAGE_TYPE = BAND_SEQUENTIAL
  MAXIMUM = 327
  MEAN = 189.012
  MINIMUM = 86
  STANDARD_DEVIATION = 34.1914
END_OBJECT = IMAGE
/* MAP OBJECT DEFINITIONS */
OBJECT = IMAGE_MAP_PROJECTION
  ^DATA_SET_MAP_PROJECTION_CATALOG= "DSMAP.CAT"
  A_AXIS_RADIUS = 3396.0
  B_AXIS_RADIUS = 3396.0
  C_AXIS_RADIUS = 3396.0
  CENTER_LATITUDE = 0.0
  CENTER_LONGITUDE = 240.0
  COORDINATE_SYSTEM_NAME = PLANETOGRAPHIC
  COORDINATE_SYSTEM_TYPE = "BODY-FIXED ROTATING"
  EASTERNMOST_LONGITUDE = 241.181
  FIRST_STANDARD_PARALLEL = "N/A"
  LINE_FIRST_PIXEL = 1
  LINE_LAST_PIXEL = 9178
  LINE_PROJECTION_OFFSET = -12351.25
  MAP_PROJECTION_ROTATION = 0.0
  MAP_PROJECTION_TYPE = SINUSOIDAL
  MAP_RESOLUTION = 1185.42760773333
  MAP_SCALE = 0.05
  MAXIMUM_LATITUDE = -8.224270000000001
  MINIMUM_LATITUDE = -18.161
  POSITIVE_LONGITUDE_DIRECTION = EAST
  REFERENCE_LATITUDE = "N/A"
  REFERENCE_LONGITUDE = "N/A"
  SAMPLE_FIRST_PIXEL = 1
  SAMPLE_LAST_PIXEL = 3131
  SAMPLE_PROJECTION_OFFSET = 1879.75
  SECOND_STANDARD_PARALLEL = "N/A"
  WESTERNMOST_LONGITUDE = 238.256
END_OBJECT = IMAGE_MAP_PROJECTION
/* The JPEG2000 image data file associated with this label. */
OBJECT = COMPRESSED_FILE
  FILE_NAME = "H1893_0000_P23.JP2"
  RECORD_TYPE = UNDEFINED
  FILE_RECORDS = UNK
  ENCODING_TYPE = "JP2"
  INTERCHANGE_FORMAT = BINARY
  UNCOMPRESSED_FILE_NAME = "H1893_0000_P23.IMG"
  REQUIRED_STORAGE_BYTES = "28761366"
  ^DESCRIPTION = "JP2INFO.TXT"
END_OBJECT = COMPRESSED_FILE
END
