PDS_VERSION_ID = PDS3
/* FILE DATA ELEMENTS */
RECORD_TYPE = STREAM
/* POINTERS TO DATA OBJECTS */
^COMPRESSED_FILE = "H1893_0000_S13.JP2"
/* IDENTIFICATION DATA ELEMENTS */
DATA_SET_ID = "MEX-M-HRSC-5-REFDR-MAPPROJECTED-V3.0"
DATA_SET_NAME = "MARS EXPRESS HRSC MAP PROJECTED REFDR V3.0"
DETECTOR_ID = MEX_HRSC_S1
EVENT_TYPE = "MARS-LOCAL-STEREO-Vo-Ot"
INSTRUMENT_HOST_ID = MEX
INSTRUMENT_HOST_NAME = "MARS EXPRESS"
INSTRUMENT_ID = HRSC
INSTRUMENT_NAME = "HIGH RESOLUTION STEREO CAMERA"
MISSION_NAME = "MARS EXPRESS"
MISSION_PHASE_NAME = MR_Phase_6
PROCESSING_LEVEL_ID = 3
PRODUCT_CREATION_TIME = 2016-03-09T13:44:56.000Z
PRODUCT_ID = "H1893_0000_S13.JP2"
RELEASE_ID = 0024
REVISION_ID = 0000
/* QUALITY DATA ELEMENTS */
DATA_QUALITY_ID = 1
DATA_QUALITY_DESC = "Data calculated based on original SPICE kernels"
/* TIME DATA ELEMENTS */
SPACECRAFT_CLOCK_START_COUNT = "1/0068757036.55950"
SPACECRAFT_CLOCK_STOP_COUNT = "1/0068757456.29737"
START_TIME = 2005-07-06T19:13:32.792Z
STOP_TIME = 2005-07-06T19:14:41.831Z
/* ORBITAL DATA ELEMENTS */
ASCENDING_NODE_LONGITUDE = 188.65
MAXIMUM_RESOLUTION = 24.9
FOOTPRINT_POINT_LATITUDE = (-18.1217,-18.1225,-18.124,-18.1252, -18.1267,-18.1279,-18.1287,-18.1296, -18.1307,-18.1316,-18.1325,-18.1334, -18.1343,-18.1352,-18.1361,-18.137, -18.138,-18.1397,-18.1407,-18.1416, -18.1429,-18.1439,-18.0666,-17.9773, -17.8879,-17.7542,-17.6661,-17.578, -17.4899,-17.4017,-17.3135,-17.2253, -17.1383,-17.0512,-16.9642,-16.8771, -16.7901,-16.6601,-16.531,-16.4452, -16.3591,-16.2732,-16.1871,-16.1013, -15.9737,-15.7186,-15.5485,-15.3811, -15.1708,-15.0027,-14.8359,-14.6704, -14.5045,-14.2979,-14.0522,-13.8474, -13.8294,-13.8285,-13.8271,-13.8255, -13.8242,-13.823,-13.8225,-13.8217, -13.8213,-13.8221,-13.8223,-13.8221, -13.8631,-14.1067,-14.3096,-14.5157, -14.6806,-14.8453,-15.0117,-15.1792, -15.3464,-15.5134,-15.7255,-15.8949, -16.0637,-16.1919,-16.2777,-16.3635, -16.4924,-16.707,-16.7939,-16.8807, -16.9675,-17.0543,-17.1847,-17.3163, -17.4043,-17.4923,-17.5803,-17.6683, -17.8011,-17.8904,-17.9795,-18.1217)
FOOTPRINT_POINT_LONGITUDE = (240.945,240.849,240.68,240.535,240.366 ,240.222,240.125,240.029,239.908, 239.812,239.715,239.619,239.523,239.426 ,239.33,239.234,239.137,238.968,238.872 ,238.775,238.655,238.558,238.51,238.513 ,238.515,238.519,238.521,238.524, 238.526,238.529,238.531,238.534,238.536 ,238.538,238.541,238.543,238.546, 238.549,238.552,238.555,238.557,238.559 ,238.562,238.564,238.567,238.574, 238.579,238.583,238.588,238.593,238.597 ,238.601,238.606,238.611,238.617, 238.622,238.768,238.872,239.038,239.225 ,239.391,239.619,239.764,239.91,240.076 ,240.18,240.347,240.514,240.735,240.745 ,240.754,240.764,240.771,240.779, 240.786,240.794,240.802,240.81,240.819, 240.827,240.835,240.841,240.845,240.849 ,240.856,240.866,240.87,240.874,240.878 ,240.882,240.889,240.895,240.899, 240.904,240.908,240.912,240.919,240.923 ,240.928,240.945)
ORBIT_NUMBER = 1893
ORBITAL_ECCENTRICITY = 0.571
ORBITAL_INCLINATION = 86.57
ORBITAL_SEMIMAJOR_AXIS = 8617.36
PERIAPSIS_ALTITUDE = 307.81
PERIAPSIS_ARGUMENT_ANGLE = 26.28
PERIAPSIS_TIME = 2005-07-06T19:24:28.000Z
SPACECRAFT_ORIENTATION = (0.0,1.0,0.0)
^MEX_ORIENTATION_DESC = "MEX_ORIENTATION_DESC.TXT"
SPACECRAFT_POINTING_MODE = NADIR
^MEX_POINTING_DESC = "MEX_POINTING_DESC.TXT"
RIGHT_ASCENSION = -1e+32
DECLINATION = -1e+32
OFFSET_ANGLE = -1e+32
SPACECRAFT_SOLAR_DISTANCE = 2.06766e+08
TARGET_NAME = MARS
/* CAMERA DATA ELEMENTS */
DETECTOR_TEMPERATURE = 0.0
FOCAL_PLANE_TEMPERATURE = 0.0
INST_CMPRS_NAME = "DISCRETE COSINE TRANSFORMATION (DCT)"
INST_CMPRS_RATIO = 5.97135
INST_CMPRS_QUALITY = 0
INST_CMPRS_QUANTZ_TBL_ID = 0
INSTRUMENT_TEMPERATURE = 0.0
LENS_TEMPERATURE = 0.0
MACROPIXEL_SIZE = 1
MISSING_FRAMES = 0
PIXEL_SUBSAMPLING_FLAG = N
SIGNAL_CHAIN_ID = 2
/* RADIOMETRIC DATA ELEMENTS */
BANDWIDTH = 180.0
CENTER_FILTER_WAVELENGTH = 677.0
RADIANCE_OFFSET = 2.83755
RADIANCE_SCALING_FACTOR = 0.00994745
REFLECTANCE_SCALING_FACTOR = 0.000221878
MEX:REFLECTANCE_OFFSET = 0.0632918
/* IMAGE OBJECT DEFINITIONS */
OBJECT = IMAGE
  INTERCHANGE_FORMAT = BINARY
  LINES = 18355
  LINE_SAMPLES = 6262
  SAMPLE_TYPE = UNSIGNED_INTEGER
  SAMPLE_BITS = 8
  BANDS = 1
  BAND_STORAGE_TYPE = BAND_SEQUENTIAL
  MAXIMUM = 269
  MEAN = 181.982
  MINIMUM = 118
  STANDARD_DEVIATION = 15.4898
END_OBJECT = IMAGE
/* MAP OBJECT DEFINITIONS */
OBJECT = IMAGE_MAP_PROJECTION
  ^DATA_SET_MAP_PROJECTION_CATALOG= "DSMAP.CAT"
  A_AXIS_RADIUS = 3396.0
  B_AXIS_RADIUS = 3396.0
  C_AXIS_RADIUS = 3396.0
  CENTER_LATITUDE = 0.0
  CENTER_LONGITUDE = 240.0
  COORDINATE_SYSTEM_NAME = PLANETOGRAPHIC
  COORDINATE_SYSTEM_TYPE = "BODY-FIXED ROTATING"
  EASTERNMOST_LONGITUDE = 240.945
  FIRST_STANDARD_PARALLEL = "N/A"
  LINE_FIRST_PIXEL = 1
  LINE_LAST_PIXEL = 18355
  LINE_PROJECTION_OFFSET = -24702.0
  MAP_PROJECTION_ROTATION = 0.0
  MAP_PROJECTION_TYPE = SINUSOIDAL
  MAP_RESOLUTION = 2370.85521546667
  MAP_SCALE = 0.025
  MAXIMUM_LATITUDE = -13.8213
  MINIMUM_LATITUDE = -18.1439
  POSITIVE_LONGITUDE_DIRECTION = EAST
  REFERENCE_LATITUDE = "N/A"
  REFERENCE_LONGITUDE = "N/A"
  SAMPLE_FIRST_PIXEL = 1
  SAMPLE_LAST_PIXEL = 6262
  SAMPLE_PROJECTION_OFFSET = 3760.0
  SECOND_STANDARD_PARALLEL = "N/A"
  WESTERNMOST_LONGITUDE = 238.51
END_OBJECT = IMAGE_MAP_PROJECTION
/* The JPEG2000 image data file associated with this label. */
OBJECT = COMPRESSED_FILE
  FILE_NAME = "H1893_0000_S13.JP2"
  RECORD_TYPE = UNDEFINED
  FILE_RECORDS = UNK
  ENCODING_TYPE = "JP2"
  INTERCHANGE_FORMAT = BINARY
  UNCOMPRESSED_FILE_NAME = "H1893_0000_S13.IMG"
  REQUIRED_STORAGE_BYTES = "114970320"
  ^DESCRIPTION = "JP2INFO.TXT"
END_OBJECT = COMPRESSED_FILE
END
